BEGIN:VCALENDAR
VERSION:2.0
PRODID:-//Rakiura Calendar - 2026 - ECPv6.15.20//NONSGML v1.0//EN
CALSCALE:GREGORIAN
METHOD:PUBLISH
X-WR-CALNAME:Rakiura Calendar - 2026
X-ORIGINAL-URL:https://www.rakiuracalendar.com
X-WR-CALDESC:Events for Rakiura Calendar - 2026
REFRESH-INTERVAL;VALUE=DURATION:PT1H
X-Robots-Tag:noindex
X-PUBLISHED-TTL:PT1H
BEGIN:VTIMEZONE
TZID:Pacific/Auckland
BEGIN:STANDARD
TZOFFSETFROM:+1300
TZOFFSETTO:+1200
TZNAME:NZST
DTSTART:20230401T140000
END:STANDARD
BEGIN:DAYLIGHT
TZOFFSETFROM:+1200
TZOFFSETTO:+1300
TZNAME:NZDT
DTSTART:20230923T140000
END:DAYLIGHT
BEGIN:STANDARD
TZOFFSETFROM:+1300
TZOFFSETTO:+1200
TZNAME:NZST
DTSTART:20240406T140000
END:STANDARD
BEGIN:DAYLIGHT
TZOFFSETFROM:+1200
TZOFFSETTO:+1300
TZNAME:NZDT
DTSTART:20240928T140000
END:DAYLIGHT
BEGIN:STANDARD
TZOFFSETFROM:+1300
TZOFFSETTO:+1200
TZNAME:NZST
DTSTART:20250405T140000
END:STANDARD
BEGIN:DAYLIGHT
TZOFFSETFROM:+1200
TZOFFSETTO:+1300
TZNAME:NZDT
DTSTART:20250927T140000
END:DAYLIGHT
END:VTIMEZONE
BEGIN:VEVENT
DTSTART;TZID=Pacific/Auckland:20240807T130000
DTEND;TZID=Pacific/Auckland:20240807T150000
DTSTAMP:20260424T154930
CREATED:20230522T053215Z
LAST-MODIFIED:20230823T001926Z
UID:10001046-1723035600-1723042800@www.rakiuracalendar.com
SUMMARY:Community Nursery – Plant & Plot
DESCRIPTION:Join us up at the community nursery as we propagate native plants\, and have a chat. It is a great way to learn more about the plants of Rakiura. \nPlease bring your own gardening gloves\, sturdy footwear\, weather appropriate clothing\, and a drink and snack. \nEVERYONE WELCOME!
URL:https://www.rakiuracalendar.com/event/community-nursery-2/2024-08-07/
LOCATION:Traill Park Nursery\, Golden Bay Rd\, Stewart Island\, New Zealand
CATEGORIES:Community,Conservation,Volunteer
ATTACH;FMTTYPE=image/jpeg:https://www.rakiuracalendar.com/wp-content/uploads/Events/P1020178-scaled.jpg
ORGANIZER;CN="SIRCET":MAILTO:community@sircet.org.nz
END:VEVENT
BEGIN:VEVENT
DTSTART;TZID=Pacific/Auckland:20240807T170000
DTEND;TZID=Pacific/Auckland:20240807T180000
DTSTAMP:20260424T154930
CREATED:20240817T052403Z
LAST-MODIFIED:20240817T052403Z
UID:10001870-1723050000-1723053600@www.rakiuracalendar.com
SUMMARY:Animal Flow
DESCRIPTION:Animal Flow is a ground based bodyweight exercise system developed by Mike Fitch and with roots in yoga\, Pilates and breakdance. It can be adapted to be accessible to moderately fit people or to challenge the very fit.
URL:https://www.rakiuracalendar.com/event/animal-flow-2/2024-08-07/
LOCATION:St Andrews Anglican Church Hall\, 10 Excelsior Road\, Oban\, 9818\, New Zealand
CATEGORIES:Health,Sport,Training,Wellbeing
ATTACH;FMTTYPE=image/png:https://www.rakiuracalendar.com/wp-content/uploads/2023/07/Animal-Flow.png
ORGANIZER;CN="Bill Watt":MAILTO:williamwatt@outlook.co.nz
END:VEVENT
BEGIN:VEVENT
DTSTART;TZID=Pacific/Auckland:20240807T173000
DTEND;TZID=Pacific/Auckland:20240807T203000
DTSTAMP:20260424T154930
CREATED:20240802T040406Z
LAST-MODIFIED:20240802T040406Z
UID:10001604-1723051800-1723062600@www.rakiuracalendar.com
SUMMARY:Shall We Dance?
DESCRIPTION:
URL:https://www.rakiuracalendar.com/event/shall-we-dance/2024-08-07/
LOCATION:Community Centre\, 10 Ayr Street\, Oban\, Southland\, 9818\, New Zealand
CATEGORIES:Sport
ATTACH;FMTTYPE=image/jpeg:https://www.rakiuracalendar.com/wp-content/uploads/2024/08/img_2_1722571081716.jpg
END:VEVENT
END:VCALENDAR