BEGIN:VCALENDAR
VERSION:2.0
PRODID:-//Rakiura Calendar - 2026 - ECPv6.15.20//NONSGML v1.0//EN
CALSCALE:GREGORIAN
METHOD:PUBLISH
X-ORIGINAL-URL:https://www.rakiuracalendar.com
X-WR-CALDESC:Events for Rakiura Calendar - 2026
REFRESH-INTERVAL;VALUE=DURATION:PT1H
X-Robots-Tag:noindex
X-PUBLISHED-TTL:PT1H
BEGIN:VTIMEZONE
TZID:Pacific/Auckland
BEGIN:STANDARD
TZOFFSETFROM:+1300
TZOFFSETTO:+1200
TZNAME:NZST
DTSTART:20230401T140000
END:STANDARD
BEGIN:DAYLIGHT
TZOFFSETFROM:+1200
TZOFFSETTO:+1300
TZNAME:NZDT
DTSTART:20230923T140000
END:DAYLIGHT
BEGIN:STANDARD
TZOFFSETFROM:+1300
TZOFFSETTO:+1200
TZNAME:NZST
DTSTART:20240406T140000
END:STANDARD
BEGIN:DAYLIGHT
TZOFFSETFROM:+1200
TZOFFSETTO:+1300
TZNAME:NZDT
DTSTART:20240928T140000
END:DAYLIGHT
BEGIN:STANDARD
TZOFFSETFROM:+1300
TZOFFSETTO:+1200
TZNAME:NZST
DTSTART:20250405T140000
END:STANDARD
BEGIN:DAYLIGHT
TZOFFSETFROM:+1200
TZOFFSETTO:+1300
TZNAME:NZDT
DTSTART:20250927T140000
END:DAYLIGHT
END:VTIMEZONE
BEGIN:VEVENT
DTSTART;TZID=Pacific/Auckland:20240902T100000
DTEND;TZID=Pacific/Auckland:20240902T110000
DTSTAMP:20260424T155135
CREATED:20230528T220851Z
LAST-MODIFIED:20230729T065001Z
UID:10000169-1725271200-1725274800@www.rakiuracalendar.com
SUMMARY:Tai chi
DESCRIPTION:Tai chi every Monday and Thursday- relaxed pace and beginners welcome! Gold coin donation.
URL:https://www.rakiuracalendar.com/event/tai-chi/2024-09-02/
LOCATION:RSA Pavilion\, 7 Ayr Street\, Oban\, Southland\, 9818\, New Zealand
CATEGORIES:Sport,Wellbeing
ATTACH;FMTTYPE=image/jpeg:https://www.rakiuracalendar.com/wp-content/uploads/2023/05/20230408_115141-e1690613375334.jpg
END:VEVENT
BEGIN:VEVENT
DTSTART;TZID=Pacific/Auckland:20240902T180000
DTEND;TZID=Pacific/Auckland:20240902T180000
DTSTAMP:20260424T155135
CREATED:20240826T194506Z
LAST-MODIFIED:20240826T202532Z
UID:10001943-1725300000-1725300000@www.rakiuracalendar.com
SUMMARY:Rat Pathways to Rakiura Research: Introducing the CEBRA Team
DESCRIPTION:YOU’RE INVITED! \nPredator Free Rakiura is supporting PF2050 and CEBRA to investigate rat pathways to Rakiura\, and we need your help! \nAn effective\, reliable\, and feasible biosecurity system is a key requirement for the long-term future of Predator Free Rakiura. \nPF2050 is funding research by the Centre of Excellence for Biosecurity Risk Analysis (CEBRA) from Melbourne to assess and model rat entry pathways to Rakiura\, which aims to understand incursion risks and manage biosecurity measure priorities.\nThis work will help to inform the design of a biosecurity system for Rakiura. \nThe research process includes CEBRA visiting Rakiura and Bluff to host information sessions and workshops with technical experts – that means you! We hope you can join us to share your experience and knowledge of rats and how they might travel to Rakiura. When Predator Free Rakiura is successful\, we need to make sure we can stop rats from returning to the island! If you’d like more information about this research\, visit our website here. RSVP by email to info@predatorfreerakiura.org.nz.
URL:https://www.rakiuracalendar.com/event/rat-pathways-to-rakiura-research-introducing-the-cebra-team/
LOCATION:RSA Pavilion\, 7 Ayr Street\, Oban\, Southland\, 9818\, New Zealand
CATEGORIES:Community,Conservation
ATTACH;FMTTYPE=image/png:https://www.rakiuracalendar.com/wp-content/uploads/2024/08/Rat-Pathways-Research-Future-Rakiura-Calendar-Image-1.png
END:VEVENT
BEGIN:VEVENT
DTSTART;TZID=Pacific/Auckland:20240902T190000
DTEND;TZID=Pacific/Auckland:20240902T190000
DTSTAMP:20260424T155135
CREATED:20230529T074945Z
LAST-MODIFIED:20230530T041221Z
UID:10000645-1725303600-1725303600@www.rakiuracalendar.com
SUMMARY:Oban Fire Brigade Training Night
DESCRIPTION:Fire and Emergency NZ weekly training for the local brigade. \nCome along to see what we’re up to and if you’re interested in volunteering.
URL:https://www.rakiuracalendar.com/event/oban-fire-brigade-training-night/2024-09-02/
LOCATION:Oban Fire Station\, 6 Argyle Street\, Oban\, Southland\, 9818\, New Zealand
CATEGORIES:Community,Group meeting,Training,Volunteer
ATTACH;FMTTYPE=image/jpeg:https://www.rakiuracalendar.com/wp-content/uploads/2023/05/Screenshot_20230529_194125_Outlook.jpg
END:VEVENT
END:VCALENDAR