BEGIN:VCALENDAR
VERSION:2.0
PRODID:-//Rakiura Calendar - 2026 - ECPv6.15.20//NONSGML v1.0//EN
CALSCALE:GREGORIAN
METHOD:PUBLISH
X-ORIGINAL-URL:https://www.rakiuracalendar.com
X-WR-CALDESC:Events for Rakiura Calendar - 2026
REFRESH-INTERVAL;VALUE=DURATION:PT1H
X-Robots-Tag:noindex
X-PUBLISHED-TTL:PT1H
BEGIN:VTIMEZONE
TZID:Pacific/Auckland
BEGIN:STANDARD
TZOFFSETFROM:+1300
TZOFFSETTO:+1200
TZNAME:NZST
DTSTART:20230401T140000
END:STANDARD
BEGIN:DAYLIGHT
TZOFFSETFROM:+1200
TZOFFSETTO:+1300
TZNAME:NZDT
DTSTART:20230923T140000
END:DAYLIGHT
BEGIN:STANDARD
TZOFFSETFROM:+1300
TZOFFSETTO:+1200
TZNAME:NZST
DTSTART:20240406T140000
END:STANDARD
BEGIN:DAYLIGHT
TZOFFSETFROM:+1200
TZOFFSETTO:+1300
TZNAME:NZDT
DTSTART:20240928T140000
END:DAYLIGHT
BEGIN:STANDARD
TZOFFSETFROM:+1300
TZOFFSETTO:+1200
TZNAME:NZST
DTSTART:20250405T140000
END:STANDARD
BEGIN:DAYLIGHT
TZOFFSETFROM:+1200
TZOFFSETTO:+1300
TZNAME:NZDT
DTSTART:20250927T140000
END:DAYLIGHT
END:VTIMEZONE
BEGIN:VEVENT
DTSTART;VALUE=DATE:20240921
DTEND;VALUE=DATE:20240922
DTSTAMP:20260424T185702
CREATED:20240817T052313Z
LAST-MODIFIED:20240915T070347Z
UID:10001869-1726876800-1726963199@www.rakiuracalendar.com
SUMMARY:Stars In Their Eyes (Date Change)
DESCRIPTION:ON BEHALF OF STEWART ISLAND PLAYERS  \nThe time has come to commit and put together that performance you’ve all been talking about!! \nPLEASE NOTE THAT SHOW NIGHT IS NOW SATURDAY SEPTEMBER 21st! \nRemember we’ve opened it up to a mixture of Stars in the Eyes and Stewart Island’s Got Talent so anything goes (family friendly of course) \nThe community centre will be available Saturday September 14th for anyone who would like to rehearse their act on stage (other times could possibly be arranged). \nWe have people willing to help with hair\, make up\, and staging. \nIf you’d like to access the players costume cupboard please contact Kirsten at the library. \nNOW is the time to book in your act… message or call Bonnie 0273329960 asap!! \nCheers everyone and happy show day!!
URL:https://www.rakiuracalendar.com/event/stars-in-their-eyes/
LOCATION:Community Centre\, 10 Ayr Street\, Oban\, Southland\, 9818\, New Zealand
CATEGORIES:Arts
ATTACH;FMTTYPE=image/jpeg:https://www.rakiuracalendar.com/wp-content/uploads/2024/08/att.x5lUJDjT7yIsS8GxUw_zD3wFI5GGK4t0lTrAdmbm4yQ-e1726383766139.jpg
END:VEVENT
END:VCALENDAR