BEGIN:VCALENDAR
VERSION:2.0
PRODID:-//Rakiura Calendar - 2026 - ECPv6.15.20//NONSGML v1.0//EN
CALSCALE:GREGORIAN
METHOD:PUBLISH
X-WR-CALNAME:Rakiura Calendar - 2026
X-ORIGINAL-URL:https://www.rakiuracalendar.com
X-WR-CALDESC:Events for Rakiura Calendar - 2026
REFRESH-INTERVAL;VALUE=DURATION:PT1H
X-Robots-Tag:noindex
X-PUBLISHED-TTL:PT1H
BEGIN:VTIMEZONE
TZID:Pacific/Auckland
BEGIN:STANDARD
TZOFFSETFROM:+1300
TZOFFSETTO:+1200
TZNAME:NZST
DTSTART:20230401T140000
END:STANDARD
BEGIN:DAYLIGHT
TZOFFSETFROM:+1200
TZOFFSETTO:+1300
TZNAME:NZDT
DTSTART:20230923T140000
END:DAYLIGHT
BEGIN:STANDARD
TZOFFSETFROM:+1300
TZOFFSETTO:+1200
TZNAME:NZST
DTSTART:20240406T140000
END:STANDARD
BEGIN:DAYLIGHT
TZOFFSETFROM:+1200
TZOFFSETTO:+1300
TZNAME:NZDT
DTSTART:20240928T140000
END:DAYLIGHT
BEGIN:STANDARD
TZOFFSETFROM:+1300
TZOFFSETTO:+1200
TZNAME:NZST
DTSTART:20250405T140000
END:STANDARD
BEGIN:DAYLIGHT
TZOFFSETFROM:+1200
TZOFFSETTO:+1300
TZNAME:NZDT
DTSTART:20250927T140000
END:DAYLIGHT
END:VTIMEZONE
BEGIN:VEVENT
DTSTART;TZID=Pacific/Auckland:20241010T084500
DTEND;TZID=Pacific/Auckland:20241010T090000
DTSTAMP:20260424T064012
CREATED:20240322T225116Z
LAST-MODIFIED:20240322T225116Z
UID:10001457-1728549900-1728550800@www.rakiuracalendar.com
SUMMARY:Stewart Island/Rakiura Community Board meeting
DESCRIPTION:Meetings of the Stewart Island/Rakiura Community Board \nThe community board (consisting of Chairperson Aaron Conner\, Councillor Jon Spraggon\, Andrea Young\, Daniel Meads\, Rakiura Herzhoff\, Aaron Joy and Michael Douglass) will meet on the following dates: \n\n11 April 2024 @ 0845am\n13 June 2024 @ 0945am\n08 August 2024 @ 0945am\n10 October 2024 @ 0845am\n12 December 2024 @ 0845am\n\nMeetings will generally be held at the Stewart Island Pavilion\, Ayr Street. The public are welcome to attend open meetings. If you wish to speak to the board (public participation) please contact committee advisor Kirsten Hicks on kirsten.hicks@southlanddc.govt.nz or 0800 732 732.
URL:https://www.rakiuracalendar.com/event/stewart-island-rakiura-community-board-meeting-9/
LOCATION:RSA Pavilion\, 7 Ayr Street\, Oban\, Southland\, 9818\, New Zealand
CATEGORIES:Community
ATTACH;FMTTYPE=image/jpeg:https://www.rakiuracalendar.com/wp-content/uploads/Logos/SI-Rakiura-Community-Board-Logo.jpg
END:VEVENT
BEGIN:VEVENT
DTSTART;TZID=Pacific/Auckland:20241010T100000
DTEND;TZID=Pacific/Auckland:20241010T110000
DTSTAMP:20260424T064012
CREATED:20230528T220851Z
LAST-MODIFIED:20230729T065001Z
UID:10000180-1728554400-1728558000@www.rakiuracalendar.com
SUMMARY:Tai chi
DESCRIPTION:Tai chi every Monday and Thursday- relaxed pace and beginners welcome! Gold coin donation.
URL:https://www.rakiuracalendar.com/event/tai-chi/2024-10-10/
LOCATION:RSA Pavilion\, 7 Ayr Street\, Oban\, Southland\, 9818\, New Zealand
CATEGORIES:Sport,Wellbeing
ATTACH;FMTTYPE=image/jpeg:https://www.rakiuracalendar.com/wp-content/uploads/2023/05/20230408_115141-e1690613375334.jpg
END:VEVENT
END:VCALENDAR