BEGIN:VCALENDAR
VERSION:2.0
PRODID:-//Rakiura Calendar - 2026 - ECPv6.15.20//NONSGML v1.0//EN
CALSCALE:GREGORIAN
METHOD:PUBLISH
X-ORIGINAL-URL:https://www.rakiuracalendar.com
X-WR-CALDESC:Events for Rakiura Calendar - 2026
REFRESH-INTERVAL;VALUE=DURATION:PT1H
X-Robots-Tag:noindex
X-PUBLISHED-TTL:PT1H
BEGIN:VTIMEZONE
TZID:Pacific/Auckland
BEGIN:STANDARD
TZOFFSETFROM:+1300
TZOFFSETTO:+1200
TZNAME:NZST
DTSTART:20230401T140000
END:STANDARD
BEGIN:DAYLIGHT
TZOFFSETFROM:+1200
TZOFFSETTO:+1300
TZNAME:NZDT
DTSTART:20230923T140000
END:DAYLIGHT
BEGIN:STANDARD
TZOFFSETFROM:+1300
TZOFFSETTO:+1200
TZNAME:NZST
DTSTART:20240406T140000
END:STANDARD
BEGIN:DAYLIGHT
TZOFFSETFROM:+1200
TZOFFSETTO:+1300
TZNAME:NZDT
DTSTART:20240928T140000
END:DAYLIGHT
BEGIN:STANDARD
TZOFFSETFROM:+1300
TZOFFSETTO:+1200
TZNAME:NZST
DTSTART:20250405T140000
END:STANDARD
BEGIN:DAYLIGHT
TZOFFSETFROM:+1200
TZOFFSETTO:+1300
TZNAME:NZDT
DTSTART:20250927T140000
END:DAYLIGHT
END:VTIMEZONE
BEGIN:VEVENT
DTSTART;TZID=Pacific/Auckland:20241015T100000
DTEND;TZID=Pacific/Auckland:20241015T190000
DTSTAMP:20260424T080031
CREATED:20241008T071619Z
LAST-MODIFIED:20241008T071619Z
UID:10002020-1728986400-1729018800@www.rakiuracalendar.com
SUMMARY:Predator Free Rakiura - Discussion sessions
DESCRIPTION:We’re now planning the first operational stage of work to completely remove predators from Rakiura – and we want to hear from you\, so that we can make sure we’re taking all views into consideration as we form a plan.\n\n\nTUESDAY 15 OCTOBER: 10am-7pm\nWEDNESDAY 16 OCTOBER: 10am-7pm\n\n\nBook a time that suits you to come and meet the ZIP team. Share your views on the project\, learn about planning so far and ask any questions you may have!\n\n\nEmail us to book a spot: info@predatrofreerakiura.org.nz\n\n\nIf you can’t make these times but would like to contribute\, just let us know!\n\n\nFollowing these sessions\, there’ll be more opportunities for in-person community discussion as planning continues.
URL:https://www.rakiuracalendar.com/event/predator-free-rakiura-discussion-sessions/
LOCATION:Community Centre\, 10 Ayr Street\, Oban\, Southland\, 9818\, New Zealand
CATEGORIES:Conservation,Wildlife
ATTACH;FMTTYPE=image/webp:https://www.rakiuracalendar.com/wp-content/uploads/2024/10/PredatorFreeRakiura-e1728371676637.webp
END:VEVENT
END:VCALENDAR