BEGIN:VCALENDAR
VERSION:2.0
PRODID:-//Rakiura Calendar - 2026 - ECPv6.15.20//NONSGML v1.0//EN
CALSCALE:GREGORIAN
METHOD:PUBLISH
X-ORIGINAL-URL:https://www.rakiuracalendar.com
X-WR-CALDESC:Events for Rakiura Calendar - 2026
REFRESH-INTERVAL;VALUE=DURATION:PT1H
X-Robots-Tag:noindex
X-PUBLISHED-TTL:PT1H
BEGIN:VTIMEZONE
TZID:Pacific/Auckland
BEGIN:STANDARD
TZOFFSETFROM:+1300
TZOFFSETTO:+1200
TZNAME:NZST
DTSTART:20230401T140000
END:STANDARD
BEGIN:DAYLIGHT
TZOFFSETFROM:+1200
TZOFFSETTO:+1300
TZNAME:NZDT
DTSTART:20230923T140000
END:DAYLIGHT
BEGIN:STANDARD
TZOFFSETFROM:+1300
TZOFFSETTO:+1200
TZNAME:NZST
DTSTART:20240406T140000
END:STANDARD
BEGIN:DAYLIGHT
TZOFFSETFROM:+1200
TZOFFSETTO:+1300
TZNAME:NZDT
DTSTART:20240928T140000
END:DAYLIGHT
BEGIN:STANDARD
TZOFFSETFROM:+1300
TZOFFSETTO:+1200
TZNAME:NZST
DTSTART:20250405T140000
END:STANDARD
BEGIN:DAYLIGHT
TZOFFSETFROM:+1200
TZOFFSETTO:+1300
TZNAME:NZDT
DTSTART:20250927T140000
END:DAYLIGHT
END:VTIMEZONE
BEGIN:VEVENT
DTSTART;VALUE=DATE:20241027
DTEND;VALUE=DATE:20241028
DTSTAMP:20260424T142751
CREATED:20241008T073152Z
LAST-MODIFIED:20241026T031051Z
UID:10002022-1729987200-1730073599@www.rakiuracalendar.com
SUMMARY:CANCELLED - Stewart Island Man of the Year
DESCRIPTION:This event has been cancelled due to weather.
URL:https://www.rakiuracalendar.com/event/stewart-island-man-of-the-year/
LOCATION:Halfmoon Bay\, 1 Main Road\, Oban\, Southland\, 9818\, New Zealand
CATEGORIES:Community,Outdoors
ATTACH;FMTTYPE=image/png:https://www.rakiuracalendar.com/wp-content/uploads/2024/10/SIMOTY.png
END:VEVENT
BEGIN:VEVENT
DTSTART;VALUE=DATE:20241027
DTEND;VALUE=DATE:20241028
DTSTAMP:20260424T142751
CREATED:20240707T002934Z
LAST-MODIFIED:20240707T003159Z
UID:10001589-1730016000-1730048400@www.rakiuracalendar.com
SUMMARY:Pallet Competition
DESCRIPTION:
URL:https://www.rakiuracalendar.com/event/pallet-competition/2024-10-27/
LOCATION:Halfmoon Bay\, 1 Main Road\, Oban\, Southland\, 9818\, New Zealand
CATEGORIES:Community,Crafting
ATTACH;FMTTYPE=image/jpeg:https://www.rakiuracalendar.com/wp-content/uploads/2024/07/PalletCompetitionCrop-e1720312060564.jpg
END:VEVENT
BEGIN:VEVENT
DTSTART;TZID=Pacific/Auckland:20241027T190000
DTEND;TZID=Pacific/Auckland:20241027T190000
DTSTAMP:20260424T142751
CREATED:20241003T233841Z
LAST-MODIFIED:20241003T234520Z
UID:10001957-1730055600-1730055600@www.rakiuracalendar.com
SUMMARY:Stargazing x La Rumbla Party
DESCRIPTION:
URL:https://www.rakiuracalendar.com/event/rakiura-rhyme-machine-stargazing-x-la-rumbla-party/
LOCATION:Community Centre\, 10 Ayr Street\, Oban\, Southland\, 9818\, New Zealand
CATEGORIES:Food,Music
ATTACH;FMTTYPE=image/png:https://www.rakiuracalendar.com/wp-content/uploads/2024/10/Rakiura-Rhyme-Machine.png
END:VEVENT
END:VCALENDAR