BEGIN:VCALENDAR
VERSION:2.0
PRODID:-//Rakiura Calendar - 2026 - ECPv6.15.20//NONSGML v1.0//EN
CALSCALE:GREGORIAN
METHOD:PUBLISH
X-ORIGINAL-URL:https://www.rakiuracalendar.com
X-WR-CALDESC:Events for Rakiura Calendar - 2026
REFRESH-INTERVAL;VALUE=DURATION:PT1H
X-Robots-Tag:noindex
X-PUBLISHED-TTL:PT1H
BEGIN:VTIMEZONE
TZID:Pacific/Auckland
BEGIN:STANDARD
TZOFFSETFROM:+1300
TZOFFSETTO:+1200
TZNAME:NZST
DTSTART:20240406T140000
END:STANDARD
BEGIN:DAYLIGHT
TZOFFSETFROM:+1200
TZOFFSETTO:+1300
TZNAME:NZDT
DTSTART:20240928T140000
END:DAYLIGHT
BEGIN:STANDARD
TZOFFSETFROM:+1300
TZOFFSETTO:+1200
TZNAME:NZST
DTSTART:20250405T140000
END:STANDARD
BEGIN:DAYLIGHT
TZOFFSETFROM:+1200
TZOFFSETTO:+1300
TZNAME:NZDT
DTSTART:20250927T140000
END:DAYLIGHT
BEGIN:STANDARD
TZOFFSETFROM:+1300
TZOFFSETTO:+1200
TZNAME:NZST
DTSTART:20260404T140000
END:STANDARD
BEGIN:DAYLIGHT
TZOFFSETFROM:+1200
TZOFFSETTO:+1300
TZNAME:NZDT
DTSTART:20260926T140000
END:DAYLIGHT
END:VTIMEZONE
BEGIN:VEVENT
DTSTART;TZID=Pacific/Auckland:20250429T190000
DTEND;TZID=Pacific/Auckland:20250429T203000
DTSTAMP:20260422T235105
CREATED:20240119T223017Z
LAST-MODIFIED:20240119T223017Z
UID:10001392-1745953200-1745958600@www.rakiuracalendar.com
SUMMARY:Rakiura LandSAR Committee Meeting
DESCRIPTION:Monthly meeting of the Stewart Island/Rakiura Land Search and Rescue volunteer group. \nMeetings are held at the Oban Fire Station on the last Tuesday of every month. \nContact our Secretary – Jon Spraggon for more information.
URL:https://www.rakiuracalendar.com/event/rakiura-landsar-committee-meeting-8/2025-04-29/
LOCATION:Southland
CATEGORIES:Emergency services,Volunteer
ATTACH;FMTTYPE=image/jpeg:https://www.rakiuracalendar.com/wp-content/uploads/Logos/Logo.jpg
ORGANIZER;CN="Rakiura LandSAR":MAILTO:stewartisland@landsar.org.nz
END:VEVENT
END:VCALENDAR