BEGIN:VCALENDAR
VERSION:2.0
PRODID:-//Rakiura Calendar - 2026 - ECPv6.15.20//NONSGML v1.0//EN
CALSCALE:GREGORIAN
METHOD:PUBLISH
X-WR-CALNAME:Rakiura Calendar - 2026
X-ORIGINAL-URL:https://www.rakiuracalendar.com
X-WR-CALDESC:Events for Rakiura Calendar - 2026
REFRESH-INTERVAL;VALUE=DURATION:PT1H
X-Robots-Tag:noindex
X-PUBLISHED-TTL:PT1H
BEGIN:VTIMEZONE
TZID:Pacific/Auckland
BEGIN:STANDARD
TZOFFSETFROM:+1300
TZOFFSETTO:+1200
TZNAME:NZST
DTSTART:20220402T140000
END:STANDARD
BEGIN:DAYLIGHT
TZOFFSETFROM:+1200
TZOFFSETTO:+1300
TZNAME:NZDT
DTSTART:20220924T140000
END:DAYLIGHT
BEGIN:STANDARD
TZOFFSETFROM:+1300
TZOFFSETTO:+1200
TZNAME:NZST
DTSTART:20230401T140000
END:STANDARD
BEGIN:DAYLIGHT
TZOFFSETFROM:+1200
TZOFFSETTO:+1300
TZNAME:NZDT
DTSTART:20230923T140000
END:DAYLIGHT
BEGIN:STANDARD
TZOFFSETFROM:+1300
TZOFFSETTO:+1200
TZNAME:NZST
DTSTART:20240406T140000
END:STANDARD
BEGIN:DAYLIGHT
TZOFFSETFROM:+1200
TZOFFSETTO:+1300
TZNAME:NZDT
DTSTART:20240928T140000
END:DAYLIGHT
END:VTIMEZONE
BEGIN:VEVENT
DTSTART;TZID=Pacific/Auckland:20230816T173000
DTEND;TZID=Pacific/Auckland:20230816T183000
DTSTAMP:20260422T033110
CREATED:20230713T015633Z
LAST-MODIFIED:20230719T063919Z
UID:10000865-1692207000-1692210600@www.rakiuracalendar.com
SUMMARY:Animal Flow
DESCRIPTION:Animal Flow is a ground based bodyweight exercise system developed by Mike Fitch and with roots in yoga\, Pilates and breakdance. It can be adapted to be accessible to moderately fit people or to challenge the very fit.
URL:https://www.rakiuracalendar.com/event/animal-flow/2023-08-16/
LOCATION:St Andrews Anglican Church Hall\, 10 Excelsior Road\, Oban\, 9818\, New Zealand
CATEGORIES:Health,Sport,Training,Wellbeing
ATTACH;FMTTYPE=image/png:https://www.rakiuracalendar.com/wp-content/uploads/2023/07/Animal-Flow.png
ORGANIZER;CN="Bill Watt":MAILTO:williamwatt@outlook.co.nz
END:VEVENT
BEGIN:VEVENT
DTSTART;TZID=Pacific/Auckland:20230817T100000
DTEND;TZID=Pacific/Auckland:20230817T110000
DTSTAMP:20260422T033110
CREATED:20230528T220851Z
LAST-MODIFIED:20230729T065001Z
UID:10000060-1692266400-1692270000@www.rakiuracalendar.com
SUMMARY:Tai chi
DESCRIPTION:Tai chi every Monday and Thursday- relaxed pace and beginners welcome! Gold coin donation.
URL:https://www.rakiuracalendar.com/event/tai-chi/2023-08-17/
LOCATION:RSA Pavilion\, 7 Ayr Street\, Oban\, Southland\, 9818\, New Zealand
CATEGORIES:Sport,Wellbeing
ATTACH;FMTTYPE=image/jpeg:https://www.rakiuracalendar.com/wp-content/uploads/2023/05/20230408_115141-e1690613375334.jpg
END:VEVENT
BEGIN:VEVENT
DTSTART;TZID=Pacific/Auckland:20230821T100000
DTEND;TZID=Pacific/Auckland:20230821T110000
DTSTAMP:20260422T033110
CREATED:20230528T220851Z
LAST-MODIFIED:20230729T065001Z
UID:10000061-1692612000-1692615600@www.rakiuracalendar.com
SUMMARY:Tai chi
DESCRIPTION:Tai chi every Monday and Thursday- relaxed pace and beginners welcome! Gold coin donation.
URL:https://www.rakiuracalendar.com/event/tai-chi/2023-08-21/
LOCATION:RSA Pavilion\, 7 Ayr Street\, Oban\, Southland\, 9818\, New Zealand
CATEGORIES:Sport,Wellbeing
ATTACH;FMTTYPE=image/jpeg:https://www.rakiuracalendar.com/wp-content/uploads/2023/05/20230408_115141-e1690613375334.jpg
END:VEVENT
BEGIN:VEVENT
DTSTART;TZID=Pacific/Auckland:20230823T173000
DTEND;TZID=Pacific/Auckland:20230823T183000
DTSTAMP:20260422T033110
CREATED:20230713T015633Z
LAST-MODIFIED:20230719T063919Z
UID:10000866-1692811800-1692815400@www.rakiuracalendar.com
SUMMARY:Animal Flow
DESCRIPTION:Animal Flow is a ground based bodyweight exercise system developed by Mike Fitch and with roots in yoga\, Pilates and breakdance. It can be adapted to be accessible to moderately fit people or to challenge the very fit.
URL:https://www.rakiuracalendar.com/event/animal-flow/2023-08-23/
LOCATION:St Andrews Anglican Church Hall\, 10 Excelsior Road\, Oban\, 9818\, New Zealand
CATEGORIES:Health,Sport,Training,Wellbeing
ATTACH;FMTTYPE=image/png:https://www.rakiuracalendar.com/wp-content/uploads/2023/07/Animal-Flow.png
ORGANIZER;CN="Bill Watt":MAILTO:williamwatt@outlook.co.nz
END:VEVENT
BEGIN:VEVENT
DTSTART;TZID=Pacific/Auckland:20230824T100000
DTEND;TZID=Pacific/Auckland:20230824T110000
DTSTAMP:20260422T033110
CREATED:20230528T220851Z
LAST-MODIFIED:20230729T065001Z
UID:10000062-1692871200-1692874800@www.rakiuracalendar.com
SUMMARY:Tai chi
DESCRIPTION:Tai chi every Monday and Thursday- relaxed pace and beginners welcome! Gold coin donation.
URL:https://www.rakiuracalendar.com/event/tai-chi/2023-08-24/
LOCATION:RSA Pavilion\, 7 Ayr Street\, Oban\, Southland\, 9818\, New Zealand
CATEGORIES:Sport,Wellbeing
ATTACH;FMTTYPE=image/jpeg:https://www.rakiuracalendar.com/wp-content/uploads/2023/05/20230408_115141-e1690613375334.jpg
END:VEVENT
BEGIN:VEVENT
DTSTART;TZID=Pacific/Auckland:20230828T100000
DTEND;TZID=Pacific/Auckland:20230828T110000
DTSTAMP:20260422T033110
CREATED:20230528T220851Z
LAST-MODIFIED:20230729T065001Z
UID:10000063-1693216800-1693220400@www.rakiuracalendar.com
SUMMARY:Tai chi
DESCRIPTION:Tai chi every Monday and Thursday- relaxed pace and beginners welcome! Gold coin donation.
URL:https://www.rakiuracalendar.com/event/tai-chi/2023-08-28/
LOCATION:RSA Pavilion\, 7 Ayr Street\, Oban\, Southland\, 9818\, New Zealand
CATEGORIES:Sport,Wellbeing
ATTACH;FMTTYPE=image/jpeg:https://www.rakiuracalendar.com/wp-content/uploads/2023/05/20230408_115141-e1690613375334.jpg
END:VEVENT
BEGIN:VEVENT
DTSTART;TZID=Pacific/Auckland:20230830T173000
DTEND;TZID=Pacific/Auckland:20230830T183000
DTSTAMP:20260422T033110
CREATED:20230713T015633Z
LAST-MODIFIED:20230719T063919Z
UID:10000867-1693416600-1693420200@www.rakiuracalendar.com
SUMMARY:Animal Flow
DESCRIPTION:Animal Flow is a ground based bodyweight exercise system developed by Mike Fitch and with roots in yoga\, Pilates and breakdance. It can be adapted to be accessible to moderately fit people or to challenge the very fit.
URL:https://www.rakiuracalendar.com/event/animal-flow/2023-08-30/
LOCATION:St Andrews Anglican Church Hall\, 10 Excelsior Road\, Oban\, 9818\, New Zealand
CATEGORIES:Health,Sport,Training,Wellbeing
ATTACH;FMTTYPE=image/png:https://www.rakiuracalendar.com/wp-content/uploads/2023/07/Animal-Flow.png
ORGANIZER;CN="Bill Watt":MAILTO:williamwatt@outlook.co.nz
END:VEVENT
BEGIN:VEVENT
DTSTART;TZID=Pacific/Auckland:20230831T100000
DTEND;TZID=Pacific/Auckland:20230831T110000
DTSTAMP:20260422T033110
CREATED:20230528T220851Z
LAST-MODIFIED:20230729T065001Z
UID:10000064-1693476000-1693479600@www.rakiuracalendar.com
SUMMARY:Tai chi
DESCRIPTION:Tai chi every Monday and Thursday- relaxed pace and beginners welcome! Gold coin donation.
URL:https://www.rakiuracalendar.com/event/tai-chi/2023-08-31/
LOCATION:RSA Pavilion\, 7 Ayr Street\, Oban\, Southland\, 9818\, New Zealand
CATEGORIES:Sport,Wellbeing
ATTACH;FMTTYPE=image/jpeg:https://www.rakiuracalendar.com/wp-content/uploads/2023/05/20230408_115141-e1690613375334.jpg
END:VEVENT
BEGIN:VEVENT
DTSTART;TZID=Pacific/Auckland:20230904T100000
DTEND;TZID=Pacific/Auckland:20230904T110000
DTSTAMP:20260422T033110
CREATED:20230528T220851Z
LAST-MODIFIED:20230729T065001Z
UID:10000065-1693821600-1693825200@www.rakiuracalendar.com
SUMMARY:Tai chi
DESCRIPTION:Tai chi every Monday and Thursday- relaxed pace and beginners welcome! Gold coin donation.
URL:https://www.rakiuracalendar.com/event/tai-chi/2023-09-04/
LOCATION:RSA Pavilion\, 7 Ayr Street\, Oban\, Southland\, 9818\, New Zealand
CATEGORIES:Sport,Wellbeing
ATTACH;FMTTYPE=image/jpeg:https://www.rakiuracalendar.com/wp-content/uploads/2023/05/20230408_115141-e1690613375334.jpg
END:VEVENT
BEGIN:VEVENT
DTSTART;TZID=Pacific/Auckland:20230904T110000
DTEND;TZID=Pacific/Auckland:20230904T120000
DTSTAMP:20260422T033110
CREATED:20230902T031245Z
LAST-MODIFIED:20230902T031921Z
UID:10001120-1693825200-1693828800@www.rakiuracalendar.com
SUMMARY:Beginner Tai Chi
DESCRIPTION:New beginner’s class for Tai chi every Monday and Thursday \nGold coin donation.
URL:https://www.rakiuracalendar.com/event/beginner-tai-chi/2023-09-04/
LOCATION:RSA Pavilion\, 7 Ayr Street\, Oban\, Southland\, 9818\, New Zealand
CATEGORIES:Sport,Wellbeing
ATTACH;FMTTYPE=image/jpeg:https://www.rakiuracalendar.com/wp-content/uploads/2023/05/20230408_115141-e1690613375334.jpg
END:VEVENT
BEGIN:VEVENT
DTSTART;TZID=Pacific/Auckland:20230906T173000
DTEND;TZID=Pacific/Auckland:20230906T183000
DTSTAMP:20260422T033110
CREATED:20230713T015633Z
LAST-MODIFIED:20230719T063919Z
UID:10000868-1694021400-1694025000@www.rakiuracalendar.com
SUMMARY:Animal Flow
DESCRIPTION:Animal Flow is a ground based bodyweight exercise system developed by Mike Fitch and with roots in yoga\, Pilates and breakdance. It can be adapted to be accessible to moderately fit people or to challenge the very fit.
URL:https://www.rakiuracalendar.com/event/animal-flow/2023-09-06/
LOCATION:St Andrews Anglican Church Hall\, 10 Excelsior Road\, Oban\, 9818\, New Zealand
CATEGORIES:Health,Sport,Training,Wellbeing
ATTACH;FMTTYPE=image/png:https://www.rakiuracalendar.com/wp-content/uploads/2023/07/Animal-Flow.png
ORGANIZER;CN="Bill Watt":MAILTO:williamwatt@outlook.co.nz
END:VEVENT
BEGIN:VEVENT
DTSTART;TZID=Pacific/Auckland:20230907T100000
DTEND;TZID=Pacific/Auckland:20230907T110000
DTSTAMP:20260422T033110
CREATED:20230528T220851Z
LAST-MODIFIED:20230729T065001Z
UID:10000066-1694080800-1694084400@www.rakiuracalendar.com
SUMMARY:Tai chi
DESCRIPTION:Tai chi every Monday and Thursday- relaxed pace and beginners welcome! Gold coin donation.
URL:https://www.rakiuracalendar.com/event/tai-chi/2023-09-07/
LOCATION:RSA Pavilion\, 7 Ayr Street\, Oban\, Southland\, 9818\, New Zealand
CATEGORIES:Sport,Wellbeing
ATTACH;FMTTYPE=image/jpeg:https://www.rakiuracalendar.com/wp-content/uploads/2023/05/20230408_115141-e1690613375334.jpg
END:VEVENT
BEGIN:VEVENT
DTSTART;TZID=Pacific/Auckland:20230907T110000
DTEND;TZID=Pacific/Auckland:20230907T120000
DTSTAMP:20260422T033110
CREATED:20230902T031245Z
LAST-MODIFIED:20230902T031921Z
UID:10001121-1694084400-1694088000@www.rakiuracalendar.com
SUMMARY:Beginner Tai Chi
DESCRIPTION:New beginner’s class for Tai chi every Monday and Thursday \nGold coin donation.
URL:https://www.rakiuracalendar.com/event/beginner-tai-chi/2023-09-07/
LOCATION:RSA Pavilion\, 7 Ayr Street\, Oban\, Southland\, 9818\, New Zealand
CATEGORIES:Sport,Wellbeing
ATTACH;FMTTYPE=image/jpeg:https://www.rakiuracalendar.com/wp-content/uploads/2023/05/20230408_115141-e1690613375334.jpg
END:VEVENT
BEGIN:VEVENT
DTSTART;TZID=Pacific/Auckland:20230911T100000
DTEND;TZID=Pacific/Auckland:20230911T110000
DTSTAMP:20260422T033110
CREATED:20230528T220851Z
LAST-MODIFIED:20230729T065001Z
UID:10000067-1694426400-1694430000@www.rakiuracalendar.com
SUMMARY:Tai chi
DESCRIPTION:Tai chi every Monday and Thursday- relaxed pace and beginners welcome! Gold coin donation.
URL:https://www.rakiuracalendar.com/event/tai-chi/2023-09-11/
LOCATION:RSA Pavilion\, 7 Ayr Street\, Oban\, Southland\, 9818\, New Zealand
CATEGORIES:Sport,Wellbeing
ATTACH;FMTTYPE=image/jpeg:https://www.rakiuracalendar.com/wp-content/uploads/2023/05/20230408_115141-e1690613375334.jpg
END:VEVENT
BEGIN:VEVENT
DTSTART;TZID=Pacific/Auckland:20230911T110000
DTEND;TZID=Pacific/Auckland:20230911T120000
DTSTAMP:20260422T033110
CREATED:20230902T031245Z
LAST-MODIFIED:20230902T031921Z
UID:10001122-1694430000-1694433600@www.rakiuracalendar.com
SUMMARY:Beginner Tai Chi
DESCRIPTION:New beginner’s class for Tai chi every Monday and Thursday \nGold coin donation.
URL:https://www.rakiuracalendar.com/event/beginner-tai-chi/2023-09-11/
LOCATION:RSA Pavilion\, 7 Ayr Street\, Oban\, Southland\, 9818\, New Zealand
CATEGORIES:Sport,Wellbeing
ATTACH;FMTTYPE=image/jpeg:https://www.rakiuracalendar.com/wp-content/uploads/2023/05/20230408_115141-e1690613375334.jpg
END:VEVENT
BEGIN:VEVENT
DTSTART;TZID=Pacific/Auckland:20230913T173000
DTEND;TZID=Pacific/Auckland:20230913T183000
DTSTAMP:20260422T033110
CREATED:20230713T015633Z
LAST-MODIFIED:20230719T063919Z
UID:10000869-1694626200-1694629800@www.rakiuracalendar.com
SUMMARY:Animal Flow
DESCRIPTION:Animal Flow is a ground based bodyweight exercise system developed by Mike Fitch and with roots in yoga\, Pilates and breakdance. It can be adapted to be accessible to moderately fit people or to challenge the very fit.
URL:https://www.rakiuracalendar.com/event/animal-flow/2023-09-13/
LOCATION:St Andrews Anglican Church Hall\, 10 Excelsior Road\, Oban\, 9818\, New Zealand
CATEGORIES:Health,Sport,Training,Wellbeing
ATTACH;FMTTYPE=image/png:https://www.rakiuracalendar.com/wp-content/uploads/2023/07/Animal-Flow.png
ORGANIZER;CN="Bill Watt":MAILTO:williamwatt@outlook.co.nz
END:VEVENT
BEGIN:VEVENT
DTSTART;TZID=Pacific/Auckland:20230914T100000
DTEND;TZID=Pacific/Auckland:20230914T110000
DTSTAMP:20260422T033110
CREATED:20230528T220851Z
LAST-MODIFIED:20230729T065001Z
UID:10000068-1694685600-1694689200@www.rakiuracalendar.com
SUMMARY:Tai chi
DESCRIPTION:Tai chi every Monday and Thursday- relaxed pace and beginners welcome! Gold coin donation.
URL:https://www.rakiuracalendar.com/event/tai-chi/2023-09-14/
LOCATION:RSA Pavilion\, 7 Ayr Street\, Oban\, Southland\, 9818\, New Zealand
CATEGORIES:Sport,Wellbeing
ATTACH;FMTTYPE=image/jpeg:https://www.rakiuracalendar.com/wp-content/uploads/2023/05/20230408_115141-e1690613375334.jpg
END:VEVENT
BEGIN:VEVENT
DTSTART;TZID=Pacific/Auckland:20230914T110000
DTEND;TZID=Pacific/Auckland:20230914T120000
DTSTAMP:20260422T033110
CREATED:20230902T031245Z
LAST-MODIFIED:20230902T031921Z
UID:10001123-1694689200-1694692800@www.rakiuracalendar.com
SUMMARY:Beginner Tai Chi
DESCRIPTION:New beginner’s class for Tai chi every Monday and Thursday \nGold coin donation.
URL:https://www.rakiuracalendar.com/event/beginner-tai-chi/2023-09-14/
LOCATION:RSA Pavilion\, 7 Ayr Street\, Oban\, Southland\, 9818\, New Zealand
CATEGORIES:Sport,Wellbeing
ATTACH;FMTTYPE=image/jpeg:https://www.rakiuracalendar.com/wp-content/uploads/2023/05/20230408_115141-e1690613375334.jpg
END:VEVENT
BEGIN:VEVENT
DTSTART;TZID=Pacific/Auckland:20230918T100000
DTEND;TZID=Pacific/Auckland:20230918T110000
DTSTAMP:20260422T033110
CREATED:20230528T220851Z
LAST-MODIFIED:20230729T065001Z
UID:10000069-1695031200-1695034800@www.rakiuracalendar.com
SUMMARY:Tai chi
DESCRIPTION:Tai chi every Monday and Thursday- relaxed pace and beginners welcome! Gold coin donation.
URL:https://www.rakiuracalendar.com/event/tai-chi/2023-09-18/
LOCATION:RSA Pavilion\, 7 Ayr Street\, Oban\, Southland\, 9818\, New Zealand
CATEGORIES:Sport,Wellbeing
ATTACH;FMTTYPE=image/jpeg:https://www.rakiuracalendar.com/wp-content/uploads/2023/05/20230408_115141-e1690613375334.jpg
END:VEVENT
BEGIN:VEVENT
DTSTART;TZID=Pacific/Auckland:20230918T110000
DTEND;TZID=Pacific/Auckland:20230918T120000
DTSTAMP:20260422T033110
CREATED:20230902T031245Z
LAST-MODIFIED:20230902T031921Z
UID:10001124-1695034800-1695038400@www.rakiuracalendar.com
SUMMARY:Beginner Tai Chi
DESCRIPTION:New beginner’s class for Tai chi every Monday and Thursday \nGold coin donation.
URL:https://www.rakiuracalendar.com/event/beginner-tai-chi/2023-09-18/
LOCATION:RSA Pavilion\, 7 Ayr Street\, Oban\, Southland\, 9818\, New Zealand
CATEGORIES:Sport,Wellbeing
ATTACH;FMTTYPE=image/jpeg:https://www.rakiuracalendar.com/wp-content/uploads/2023/05/20230408_115141-e1690613375334.jpg
END:VEVENT
BEGIN:VEVENT
DTSTART;TZID=Pacific/Auckland:20230920T173000
DTEND;TZID=Pacific/Auckland:20230920T183000
DTSTAMP:20260422T033110
CREATED:20230713T015633Z
LAST-MODIFIED:20230719T063919Z
UID:10000870-1695231000-1695234600@www.rakiuracalendar.com
SUMMARY:Animal Flow
DESCRIPTION:Animal Flow is a ground based bodyweight exercise system developed by Mike Fitch and with roots in yoga\, Pilates and breakdance. It can be adapted to be accessible to moderately fit people or to challenge the very fit.
URL:https://www.rakiuracalendar.com/event/animal-flow/2023-09-20/
LOCATION:St Andrews Anglican Church Hall\, 10 Excelsior Road\, Oban\, 9818\, New Zealand
CATEGORIES:Health,Sport,Training,Wellbeing
ATTACH;FMTTYPE=image/png:https://www.rakiuracalendar.com/wp-content/uploads/2023/07/Animal-Flow.png
ORGANIZER;CN="Bill Watt":MAILTO:williamwatt@outlook.co.nz
END:VEVENT
BEGIN:VEVENT
DTSTART;TZID=Pacific/Auckland:20230921T100000
DTEND;TZID=Pacific/Auckland:20230921T110000
DTSTAMP:20260422T033110
CREATED:20230528T220851Z
LAST-MODIFIED:20230729T065001Z
UID:10000070-1695290400-1695294000@www.rakiuracalendar.com
SUMMARY:Tai chi
DESCRIPTION:Tai chi every Monday and Thursday- relaxed pace and beginners welcome! Gold coin donation.
URL:https://www.rakiuracalendar.com/event/tai-chi/2023-09-21/
LOCATION:RSA Pavilion\, 7 Ayr Street\, Oban\, Southland\, 9818\, New Zealand
CATEGORIES:Sport,Wellbeing
ATTACH;FMTTYPE=image/jpeg:https://www.rakiuracalendar.com/wp-content/uploads/2023/05/20230408_115141-e1690613375334.jpg
END:VEVENT
BEGIN:VEVENT
DTSTART;TZID=Pacific/Auckland:20230921T110000
DTEND;TZID=Pacific/Auckland:20230921T120000
DTSTAMP:20260422T033110
CREATED:20230902T031245Z
LAST-MODIFIED:20230902T031921Z
UID:10001125-1695294000-1695297600@www.rakiuracalendar.com
SUMMARY:Beginner Tai Chi
DESCRIPTION:New beginner’s class for Tai chi every Monday and Thursday \nGold coin donation.
URL:https://www.rakiuracalendar.com/event/beginner-tai-chi/2023-09-21/
LOCATION:RSA Pavilion\, 7 Ayr Street\, Oban\, Southland\, 9818\, New Zealand
CATEGORIES:Sport,Wellbeing
ATTACH;FMTTYPE=image/jpeg:https://www.rakiuracalendar.com/wp-content/uploads/2023/05/20230408_115141-e1690613375334.jpg
END:VEVENT
BEGIN:VEVENT
DTSTART;TZID=Pacific/Auckland:20230925T100000
DTEND;TZID=Pacific/Auckland:20230925T110000
DTSTAMP:20260422T033110
CREATED:20230528T220851Z
LAST-MODIFIED:20230729T065001Z
UID:10000071-1695636000-1695639600@www.rakiuracalendar.com
SUMMARY:Tai chi
DESCRIPTION:Tai chi every Monday and Thursday- relaxed pace and beginners welcome! Gold coin donation.
URL:https://www.rakiuracalendar.com/event/tai-chi/2023-09-25/
LOCATION:RSA Pavilion\, 7 Ayr Street\, Oban\, Southland\, 9818\, New Zealand
CATEGORIES:Sport,Wellbeing
ATTACH;FMTTYPE=image/jpeg:https://www.rakiuracalendar.com/wp-content/uploads/2023/05/20230408_115141-e1690613375334.jpg
END:VEVENT
BEGIN:VEVENT
DTSTART;TZID=Pacific/Auckland:20230925T110000
DTEND;TZID=Pacific/Auckland:20230925T120000
DTSTAMP:20260422T033110
CREATED:20230902T031245Z
LAST-MODIFIED:20230902T031921Z
UID:10001126-1695639600-1695643200@www.rakiuracalendar.com
SUMMARY:Beginner Tai Chi
DESCRIPTION:New beginner’s class for Tai chi every Monday and Thursday \nGold coin donation.
URL:https://www.rakiuracalendar.com/event/beginner-tai-chi/2023-09-25/
LOCATION:RSA Pavilion\, 7 Ayr Street\, Oban\, Southland\, 9818\, New Zealand
CATEGORIES:Sport,Wellbeing
ATTACH;FMTTYPE=image/jpeg:https://www.rakiuracalendar.com/wp-content/uploads/2023/05/20230408_115141-e1690613375334.jpg
END:VEVENT
BEGIN:VEVENT
DTSTART;TZID=Pacific/Auckland:20230927T173000
DTEND;TZID=Pacific/Auckland:20230927T183000
DTSTAMP:20260422T033110
CREATED:20230713T015633Z
LAST-MODIFIED:20230719T063919Z
UID:10000871-1695835800-1695839400@www.rakiuracalendar.com
SUMMARY:Animal Flow
DESCRIPTION:Animal Flow is a ground based bodyweight exercise system developed by Mike Fitch and with roots in yoga\, Pilates and breakdance. It can be adapted to be accessible to moderately fit people or to challenge the very fit.
URL:https://www.rakiuracalendar.com/event/animal-flow/2023-09-27/
LOCATION:St Andrews Anglican Church Hall\, 10 Excelsior Road\, Oban\, 9818\, New Zealand
CATEGORIES:Health,Sport,Training,Wellbeing
ATTACH;FMTTYPE=image/png:https://www.rakiuracalendar.com/wp-content/uploads/2023/07/Animal-Flow.png
ORGANIZER;CN="Bill Watt":MAILTO:williamwatt@outlook.co.nz
END:VEVENT
BEGIN:VEVENT
DTSTART;TZID=Pacific/Auckland:20230928T100000
DTEND;TZID=Pacific/Auckland:20230928T110000
DTSTAMP:20260422T033110
CREATED:20230528T220851Z
LAST-MODIFIED:20230729T065001Z
UID:10000072-1695895200-1695898800@www.rakiuracalendar.com
SUMMARY:Tai chi
DESCRIPTION:Tai chi every Monday and Thursday- relaxed pace and beginners welcome! Gold coin donation.
URL:https://www.rakiuracalendar.com/event/tai-chi/2023-09-28/
LOCATION:RSA Pavilion\, 7 Ayr Street\, Oban\, Southland\, 9818\, New Zealand
CATEGORIES:Sport,Wellbeing
ATTACH;FMTTYPE=image/jpeg:https://www.rakiuracalendar.com/wp-content/uploads/2023/05/20230408_115141-e1690613375334.jpg
END:VEVENT
BEGIN:VEVENT
DTSTART;TZID=Pacific/Auckland:20230928T110000
DTEND;TZID=Pacific/Auckland:20230928T120000
DTSTAMP:20260422T033110
CREATED:20230902T031245Z
LAST-MODIFIED:20230902T031921Z
UID:10001127-1695898800-1695902400@www.rakiuracalendar.com
SUMMARY:Beginner Tai Chi
DESCRIPTION:New beginner’s class for Tai chi every Monday and Thursday \nGold coin donation.
URL:https://www.rakiuracalendar.com/event/beginner-tai-chi/2023-09-28/
LOCATION:RSA Pavilion\, 7 Ayr Street\, Oban\, Southland\, 9818\, New Zealand
CATEGORIES:Sport,Wellbeing
ATTACH;FMTTYPE=image/jpeg:https://www.rakiuracalendar.com/wp-content/uploads/2023/05/20230408_115141-e1690613375334.jpg
END:VEVENT
BEGIN:VEVENT
DTSTART;TZID=Pacific/Auckland:20231002T100000
DTEND;TZID=Pacific/Auckland:20231002T110000
DTSTAMP:20260422T033110
CREATED:20230528T220851Z
LAST-MODIFIED:20230729T065001Z
UID:10000073-1696240800-1696244400@www.rakiuracalendar.com
SUMMARY:Tai chi
DESCRIPTION:Tai chi every Monday and Thursday- relaxed pace and beginners welcome! Gold coin donation.
URL:https://www.rakiuracalendar.com/event/tai-chi/2023-10-02/
LOCATION:RSA Pavilion\, 7 Ayr Street\, Oban\, Southland\, 9818\, New Zealand
CATEGORIES:Sport,Wellbeing
ATTACH;FMTTYPE=image/jpeg:https://www.rakiuracalendar.com/wp-content/uploads/2023/05/20230408_115141-e1690613375334.jpg
END:VEVENT
BEGIN:VEVENT
DTSTART;TZID=Pacific/Auckland:20231002T110000
DTEND;TZID=Pacific/Auckland:20231002T120000
DTSTAMP:20260422T033110
CREATED:20230902T031245Z
LAST-MODIFIED:20230902T031921Z
UID:10001128-1696244400-1696248000@www.rakiuracalendar.com
SUMMARY:Beginner Tai Chi
DESCRIPTION:New beginner’s class for Tai chi every Monday and Thursday \nGold coin donation.
URL:https://www.rakiuracalendar.com/event/beginner-tai-chi/2023-10-02/
LOCATION:RSA Pavilion\, 7 Ayr Street\, Oban\, Southland\, 9818\, New Zealand
CATEGORIES:Sport,Wellbeing
ATTACH;FMTTYPE=image/jpeg:https://www.rakiuracalendar.com/wp-content/uploads/2023/05/20230408_115141-e1690613375334.jpg
END:VEVENT
END:VCALENDAR