BEGIN:VCALENDAR
VERSION:2.0
PRODID:-//Rakiura Calendar - 2026 - ECPv6.15.20//NONSGML v1.0//EN
CALSCALE:GREGORIAN
METHOD:PUBLISH
X-ORIGINAL-URL:https://www.rakiuracalendar.com
X-WR-CALDESC:Events for Rakiura Calendar - 2026
REFRESH-INTERVAL;VALUE=DURATION:PT1H
X-Robots-Tag:noindex
X-PUBLISHED-TTL:PT1H
BEGIN:VTIMEZONE
TZID:Pacific/Auckland
BEGIN:STANDARD
TZOFFSETFROM:+1300
TZOFFSETTO:+1200
TZNAME:NZST
DTSTART:20220402T140000
END:STANDARD
BEGIN:DAYLIGHT
TZOFFSETFROM:+1200
TZOFFSETTO:+1300
TZNAME:NZDT
DTSTART:20220924T140000
END:DAYLIGHT
BEGIN:STANDARD
TZOFFSETFROM:+1300
TZOFFSETTO:+1200
TZNAME:NZST
DTSTART:20230401T140000
END:STANDARD
BEGIN:DAYLIGHT
TZOFFSETFROM:+1200
TZOFFSETTO:+1300
TZNAME:NZDT
DTSTART:20230923T140000
END:DAYLIGHT
BEGIN:STANDARD
TZOFFSETFROM:+1300
TZOFFSETTO:+1200
TZNAME:NZST
DTSTART:20240406T140000
END:STANDARD
BEGIN:DAYLIGHT
TZOFFSETFROM:+1200
TZOFFSETTO:+1300
TZNAME:NZDT
DTSTART:20240928T140000
END:DAYLIGHT
END:VTIMEZONE
BEGIN:VEVENT
DTSTART;TZID=Pacific/Auckland:20230925T110000
DTEND;TZID=Pacific/Auckland:20230925T120000
DTSTAMP:20260422T135510
CREATED:20230902T031245Z
LAST-MODIFIED:20230902T031921Z
UID:10001126-1695639600-1695643200@www.rakiuracalendar.com
SUMMARY:Beginner Tai Chi
DESCRIPTION:New beginner’s class for Tai chi every Monday and Thursday \nGold coin donation.
URL:https://www.rakiuracalendar.com/event/beginner-tai-chi/2023-09-25/
LOCATION:RSA Pavilion\, 7 Ayr Street\, Oban\, Southland\, 9818\, New Zealand
CATEGORIES:Sport,Wellbeing
ATTACH;FMTTYPE=image/jpeg:https://www.rakiuracalendar.com/wp-content/uploads/2023/05/20230408_115141-e1690613375334.jpg
END:VEVENT
BEGIN:VEVENT
DTSTART;TZID=Pacific/Auckland:20230927T173000
DTEND;TZID=Pacific/Auckland:20230927T183000
DTSTAMP:20260422T135510
CREATED:20230713T015633Z
LAST-MODIFIED:20230719T063919Z
UID:10000871-1695835800-1695839400@www.rakiuracalendar.com
SUMMARY:Animal Flow
DESCRIPTION:Animal Flow is a ground based bodyweight exercise system developed by Mike Fitch and with roots in yoga\, Pilates and breakdance. It can be adapted to be accessible to moderately fit people or to challenge the very fit.
URL:https://www.rakiuracalendar.com/event/animal-flow/2023-09-27/
LOCATION:St Andrews Anglican Church Hall\, 10 Excelsior Road\, Oban\, 9818\, New Zealand
CATEGORIES:Health,Sport,Training,Wellbeing
ATTACH;FMTTYPE=image/png:https://www.rakiuracalendar.com/wp-content/uploads/2023/07/Animal-Flow.png
ORGANIZER;CN="Bill Watt":MAILTO:williamwatt@outlook.co.nz
END:VEVENT
BEGIN:VEVENT
DTSTART;TZID=Pacific/Auckland:20230928T100000
DTEND;TZID=Pacific/Auckland:20230928T110000
DTSTAMP:20260422T135510
CREATED:20230528T220851Z
LAST-MODIFIED:20230729T065001Z
UID:10000072-1695895200-1695898800@www.rakiuracalendar.com
SUMMARY:Tai chi
DESCRIPTION:Tai chi every Monday and Thursday- relaxed pace and beginners welcome! Gold coin donation.
URL:https://www.rakiuracalendar.com/event/tai-chi/2023-09-28/
LOCATION:RSA Pavilion\, 7 Ayr Street\, Oban\, Southland\, 9818\, New Zealand
CATEGORIES:Sport,Wellbeing
ATTACH;FMTTYPE=image/jpeg:https://www.rakiuracalendar.com/wp-content/uploads/2023/05/20230408_115141-e1690613375334.jpg
END:VEVENT
BEGIN:VEVENT
DTSTART;TZID=Pacific/Auckland:20230928T110000
DTEND;TZID=Pacific/Auckland:20230928T120000
DTSTAMP:20260422T135510
CREATED:20230902T031245Z
LAST-MODIFIED:20230902T031921Z
UID:10001127-1695898800-1695902400@www.rakiuracalendar.com
SUMMARY:Beginner Tai Chi
DESCRIPTION:New beginner’s class for Tai chi every Monday and Thursday \nGold coin donation.
URL:https://www.rakiuracalendar.com/event/beginner-tai-chi/2023-09-28/
LOCATION:RSA Pavilion\, 7 Ayr Street\, Oban\, Southland\, 9818\, New Zealand
CATEGORIES:Sport,Wellbeing
ATTACH;FMTTYPE=image/jpeg:https://www.rakiuracalendar.com/wp-content/uploads/2023/05/20230408_115141-e1690613375334.jpg
END:VEVENT
BEGIN:VEVENT
DTSTART;TZID=Pacific/Auckland:20231002T100000
DTEND;TZID=Pacific/Auckland:20231002T110000
DTSTAMP:20260422T135510
CREATED:20230528T220851Z
LAST-MODIFIED:20230729T065001Z
UID:10000073-1696240800-1696244400@www.rakiuracalendar.com
SUMMARY:Tai chi
DESCRIPTION:Tai chi every Monday and Thursday- relaxed pace and beginners welcome! Gold coin donation.
URL:https://www.rakiuracalendar.com/event/tai-chi/2023-10-02/
LOCATION:RSA Pavilion\, 7 Ayr Street\, Oban\, Southland\, 9818\, New Zealand
CATEGORIES:Sport,Wellbeing
ATTACH;FMTTYPE=image/jpeg:https://www.rakiuracalendar.com/wp-content/uploads/2023/05/20230408_115141-e1690613375334.jpg
END:VEVENT
BEGIN:VEVENT
DTSTART;TZID=Pacific/Auckland:20231002T110000
DTEND;TZID=Pacific/Auckland:20231002T120000
DTSTAMP:20260422T135510
CREATED:20230902T031245Z
LAST-MODIFIED:20230902T031921Z
UID:10001128-1696244400-1696248000@www.rakiuracalendar.com
SUMMARY:Beginner Tai Chi
DESCRIPTION:New beginner’s class for Tai chi every Monday and Thursday \nGold coin donation.
URL:https://www.rakiuracalendar.com/event/beginner-tai-chi/2023-10-02/
LOCATION:RSA Pavilion\, 7 Ayr Street\, Oban\, Southland\, 9818\, New Zealand
CATEGORIES:Sport,Wellbeing
ATTACH;FMTTYPE=image/jpeg:https://www.rakiuracalendar.com/wp-content/uploads/2023/05/20230408_115141-e1690613375334.jpg
END:VEVENT
BEGIN:VEVENT
DTSTART;TZID=Pacific/Auckland:20231004T173000
DTEND;TZID=Pacific/Auckland:20231004T183000
DTSTAMP:20260422T135510
CREATED:20230713T015633Z
LAST-MODIFIED:20230719T063919Z
UID:10000872-1696440600-1696444200@www.rakiuracalendar.com
SUMMARY:Animal Flow
DESCRIPTION:Animal Flow is a ground based bodyweight exercise system developed by Mike Fitch and with roots in yoga\, Pilates and breakdance. It can be adapted to be accessible to moderately fit people or to challenge the very fit.
URL:https://www.rakiuracalendar.com/event/animal-flow/2023-10-04/
LOCATION:St Andrews Anglican Church Hall\, 10 Excelsior Road\, Oban\, 9818\, New Zealand
CATEGORIES:Health,Sport,Training,Wellbeing
ATTACH;FMTTYPE=image/png:https://www.rakiuracalendar.com/wp-content/uploads/2023/07/Animal-Flow.png
ORGANIZER;CN="Bill Watt":MAILTO:williamwatt@outlook.co.nz
END:VEVENT
BEGIN:VEVENT
DTSTART;TZID=Pacific/Auckland:20231005T100000
DTEND;TZID=Pacific/Auckland:20231005T110000
DTSTAMP:20260422T135510
CREATED:20230528T220851Z
LAST-MODIFIED:20230729T065001Z
UID:10000074-1696500000-1696503600@www.rakiuracalendar.com
SUMMARY:Tai chi
DESCRIPTION:Tai chi every Monday and Thursday- relaxed pace and beginners welcome! Gold coin donation.
URL:https://www.rakiuracalendar.com/event/tai-chi/2023-10-05/
LOCATION:RSA Pavilion\, 7 Ayr Street\, Oban\, Southland\, 9818\, New Zealand
CATEGORIES:Sport,Wellbeing
ATTACH;FMTTYPE=image/jpeg:https://www.rakiuracalendar.com/wp-content/uploads/2023/05/20230408_115141-e1690613375334.jpg
END:VEVENT
BEGIN:VEVENT
DTSTART;TZID=Pacific/Auckland:20231005T110000
DTEND;TZID=Pacific/Auckland:20231005T120000
DTSTAMP:20260422T135510
CREATED:20230902T031245Z
LAST-MODIFIED:20230902T031921Z
UID:10001129-1696503600-1696507200@www.rakiuracalendar.com
SUMMARY:Beginner Tai Chi
DESCRIPTION:New beginner’s class for Tai chi every Monday and Thursday \nGold coin donation.
URL:https://www.rakiuracalendar.com/event/beginner-tai-chi/2023-10-05/
LOCATION:RSA Pavilion\, 7 Ayr Street\, Oban\, Southland\, 9818\, New Zealand
CATEGORIES:Sport,Wellbeing
ATTACH;FMTTYPE=image/jpeg:https://www.rakiuracalendar.com/wp-content/uploads/2023/05/20230408_115141-e1690613375334.jpg
END:VEVENT
BEGIN:VEVENT
DTSTART;TZID=Pacific/Auckland:20231007T083000
DTEND;TZID=Pacific/Auckland:20231007T210000
DTSTAMP:20260422T135510
CREATED:20231006T052757Z
LAST-MODIFIED:20231006T053249Z
UID:10001245-1696667400-1696712400@www.rakiuracalendar.com
SUMMARY:Rakiura Challenge Trail Run
DESCRIPTION:32km trail run from Horseshoe Bay to Oban via the Rakiura Track Great Walk.
URL:https://www.rakiuracalendar.com/event/rakiura-challenge-trail-run/
CATEGORIES:Sport
ATTACH;FMTTYPE=image/jpeg:https://www.rakiuracalendar.com/wp-content/uploads/2023/10/rakiura-challenge-trail-run-250372386.jpeg
END:VEVENT
BEGIN:VEVENT
DTSTART;TZID=Pacific/Auckland:20231009T100000
DTEND;TZID=Pacific/Auckland:20231009T110000
DTSTAMP:20260422T135510
CREATED:20230528T220851Z
LAST-MODIFIED:20230729T065001Z
UID:10000075-1696845600-1696849200@www.rakiuracalendar.com
SUMMARY:Tai chi
DESCRIPTION:Tai chi every Monday and Thursday- relaxed pace and beginners welcome! Gold coin donation.
URL:https://www.rakiuracalendar.com/event/tai-chi/2023-10-09/
LOCATION:RSA Pavilion\, 7 Ayr Street\, Oban\, Southland\, 9818\, New Zealand
CATEGORIES:Sport,Wellbeing
ATTACH;FMTTYPE=image/jpeg:https://www.rakiuracalendar.com/wp-content/uploads/2023/05/20230408_115141-e1690613375334.jpg
END:VEVENT
BEGIN:VEVENT
DTSTART;TZID=Pacific/Auckland:20231009T110000
DTEND;TZID=Pacific/Auckland:20231009T120000
DTSTAMP:20260422T135510
CREATED:20230902T031245Z
LAST-MODIFIED:20230902T031921Z
UID:10001130-1696849200-1696852800@www.rakiuracalendar.com
SUMMARY:Beginner Tai Chi
DESCRIPTION:New beginner’s class for Tai chi every Monday and Thursday \nGold coin donation.
URL:https://www.rakiuracalendar.com/event/beginner-tai-chi/2023-10-09/
LOCATION:RSA Pavilion\, 7 Ayr Street\, Oban\, Southland\, 9818\, New Zealand
CATEGORIES:Sport,Wellbeing
ATTACH;FMTTYPE=image/jpeg:https://www.rakiuracalendar.com/wp-content/uploads/2023/05/20230408_115141-e1690613375334.jpg
END:VEVENT
BEGIN:VEVENT
DTSTART;TZID=Pacific/Auckland:20231011T173000
DTEND;TZID=Pacific/Auckland:20231011T183000
DTSTAMP:20260422T135510
CREATED:20230713T015633Z
LAST-MODIFIED:20230719T063919Z
UID:10000873-1697045400-1697049000@www.rakiuracalendar.com
SUMMARY:Animal Flow
DESCRIPTION:Animal Flow is a ground based bodyweight exercise system developed by Mike Fitch and with roots in yoga\, Pilates and breakdance. It can be adapted to be accessible to moderately fit people or to challenge the very fit.
URL:https://www.rakiuracalendar.com/event/animal-flow/2023-10-11/
LOCATION:St Andrews Anglican Church Hall\, 10 Excelsior Road\, Oban\, 9818\, New Zealand
CATEGORIES:Health,Sport,Training,Wellbeing
ATTACH;FMTTYPE=image/png:https://www.rakiuracalendar.com/wp-content/uploads/2023/07/Animal-Flow.png
ORGANIZER;CN="Bill Watt":MAILTO:williamwatt@outlook.co.nz
END:VEVENT
BEGIN:VEVENT
DTSTART;TZID=Pacific/Auckland:20231012T100000
DTEND;TZID=Pacific/Auckland:20231012T110000
DTSTAMP:20260422T135510
CREATED:20230528T220851Z
LAST-MODIFIED:20230729T065001Z
UID:10000076-1697104800-1697108400@www.rakiuracalendar.com
SUMMARY:Tai chi
DESCRIPTION:Tai chi every Monday and Thursday- relaxed pace and beginners welcome! Gold coin donation.
URL:https://www.rakiuracalendar.com/event/tai-chi/2023-10-12/
LOCATION:RSA Pavilion\, 7 Ayr Street\, Oban\, Southland\, 9818\, New Zealand
CATEGORIES:Sport,Wellbeing
ATTACH;FMTTYPE=image/jpeg:https://www.rakiuracalendar.com/wp-content/uploads/2023/05/20230408_115141-e1690613375334.jpg
END:VEVENT
BEGIN:VEVENT
DTSTART;TZID=Pacific/Auckland:20231012T110000
DTEND;TZID=Pacific/Auckland:20231012T120000
DTSTAMP:20260422T135510
CREATED:20230902T031245Z
LAST-MODIFIED:20230902T031921Z
UID:10001131-1697108400-1697112000@www.rakiuracalendar.com
SUMMARY:Beginner Tai Chi
DESCRIPTION:New beginner’s class for Tai chi every Monday and Thursday \nGold coin donation.
URL:https://www.rakiuracalendar.com/event/beginner-tai-chi/2023-10-12/
LOCATION:RSA Pavilion\, 7 Ayr Street\, Oban\, Southland\, 9818\, New Zealand
CATEGORIES:Sport,Wellbeing
ATTACH;FMTTYPE=image/jpeg:https://www.rakiuracalendar.com/wp-content/uploads/2023/05/20230408_115141-e1690613375334.jpg
END:VEVENT
BEGIN:VEVENT
DTSTART;TZID=Pacific/Auckland:20231016T100000
DTEND;TZID=Pacific/Auckland:20231016T110000
DTSTAMP:20260422T135510
CREATED:20230528T220851Z
LAST-MODIFIED:20230729T065001Z
UID:10000077-1697450400-1697454000@www.rakiuracalendar.com
SUMMARY:Tai chi
DESCRIPTION:Tai chi every Monday and Thursday- relaxed pace and beginners welcome! Gold coin donation.
URL:https://www.rakiuracalendar.com/event/tai-chi/2023-10-16/
LOCATION:RSA Pavilion\, 7 Ayr Street\, Oban\, Southland\, 9818\, New Zealand
CATEGORIES:Sport,Wellbeing
ATTACH;FMTTYPE=image/jpeg:https://www.rakiuracalendar.com/wp-content/uploads/2023/05/20230408_115141-e1690613375334.jpg
END:VEVENT
BEGIN:VEVENT
DTSTART;TZID=Pacific/Auckland:20231016T110000
DTEND;TZID=Pacific/Auckland:20231016T120000
DTSTAMP:20260422T135510
CREATED:20230902T031245Z
LAST-MODIFIED:20230902T031921Z
UID:10001132-1697454000-1697457600@www.rakiuracalendar.com
SUMMARY:Beginner Tai Chi
DESCRIPTION:New beginner’s class for Tai chi every Monday and Thursday \nGold coin donation.
URL:https://www.rakiuracalendar.com/event/beginner-tai-chi/2023-10-16/
LOCATION:RSA Pavilion\, 7 Ayr Street\, Oban\, Southland\, 9818\, New Zealand
CATEGORIES:Sport,Wellbeing
ATTACH;FMTTYPE=image/jpeg:https://www.rakiuracalendar.com/wp-content/uploads/2023/05/20230408_115141-e1690613375334.jpg
END:VEVENT
BEGIN:VEVENT
DTSTART;TZID=Pacific/Auckland:20231018T173000
DTEND;TZID=Pacific/Auckland:20231018T183000
DTSTAMP:20260422T135510
CREATED:20230713T015633Z
LAST-MODIFIED:20230719T063919Z
UID:10000874-1697650200-1697653800@www.rakiuracalendar.com
SUMMARY:Animal Flow
DESCRIPTION:Animal Flow is a ground based bodyweight exercise system developed by Mike Fitch and with roots in yoga\, Pilates and breakdance. It can be adapted to be accessible to moderately fit people or to challenge the very fit.
URL:https://www.rakiuracalendar.com/event/animal-flow/2023-10-18/
LOCATION:St Andrews Anglican Church Hall\, 10 Excelsior Road\, Oban\, 9818\, New Zealand
CATEGORIES:Health,Sport,Training,Wellbeing
ATTACH;FMTTYPE=image/png:https://www.rakiuracalendar.com/wp-content/uploads/2023/07/Animal-Flow.png
ORGANIZER;CN="Bill Watt":MAILTO:williamwatt@outlook.co.nz
END:VEVENT
BEGIN:VEVENT
DTSTART;TZID=Pacific/Auckland:20231019T100000
DTEND;TZID=Pacific/Auckland:20231019T110000
DTSTAMP:20260422T135510
CREATED:20230528T220851Z
LAST-MODIFIED:20230729T065001Z
UID:10000078-1697709600-1697713200@www.rakiuracalendar.com
SUMMARY:Tai chi
DESCRIPTION:Tai chi every Monday and Thursday- relaxed pace and beginners welcome! Gold coin donation.
URL:https://www.rakiuracalendar.com/event/tai-chi/2023-10-19/
LOCATION:RSA Pavilion\, 7 Ayr Street\, Oban\, Southland\, 9818\, New Zealand
CATEGORIES:Sport,Wellbeing
ATTACH;FMTTYPE=image/jpeg:https://www.rakiuracalendar.com/wp-content/uploads/2023/05/20230408_115141-e1690613375334.jpg
END:VEVENT
BEGIN:VEVENT
DTSTART;TZID=Pacific/Auckland:20231023T100000
DTEND;TZID=Pacific/Auckland:20231023T110000
DTSTAMP:20260422T135510
CREATED:20230528T220851Z
LAST-MODIFIED:20230729T065001Z
UID:10000079-1698055200-1698058800@www.rakiuracalendar.com
SUMMARY:Tai chi
DESCRIPTION:Tai chi every Monday and Thursday- relaxed pace and beginners welcome! Gold coin donation.
URL:https://www.rakiuracalendar.com/event/tai-chi/2023-10-23/
LOCATION:RSA Pavilion\, 7 Ayr Street\, Oban\, Southland\, 9818\, New Zealand
CATEGORIES:Sport,Wellbeing
ATTACH;FMTTYPE=image/jpeg:https://www.rakiuracalendar.com/wp-content/uploads/2023/05/20230408_115141-e1690613375334.jpg
END:VEVENT
BEGIN:VEVENT
DTSTART;TZID=Pacific/Auckland:20231025T173000
DTEND;TZID=Pacific/Auckland:20231025T183000
DTSTAMP:20260422T135510
CREATED:20230713T015633Z
LAST-MODIFIED:20230719T063919Z
UID:10000875-1698255000-1698258600@www.rakiuracalendar.com
SUMMARY:Animal Flow
DESCRIPTION:Animal Flow is a ground based bodyweight exercise system developed by Mike Fitch and with roots in yoga\, Pilates and breakdance. It can be adapted to be accessible to moderately fit people or to challenge the very fit.
URL:https://www.rakiuracalendar.com/event/animal-flow/2023-10-25/
LOCATION:St Andrews Anglican Church Hall\, 10 Excelsior Road\, Oban\, 9818\, New Zealand
CATEGORIES:Health,Sport,Training,Wellbeing
ATTACH;FMTTYPE=image/png:https://www.rakiuracalendar.com/wp-content/uploads/2023/07/Animal-Flow.png
ORGANIZER;CN="Bill Watt":MAILTO:williamwatt@outlook.co.nz
END:VEVENT
BEGIN:VEVENT
DTSTART;TZID=Pacific/Auckland:20231026T100000
DTEND;TZID=Pacific/Auckland:20231026T110000
DTSTAMP:20260422T135510
CREATED:20230528T220851Z
LAST-MODIFIED:20230729T065001Z
UID:10000080-1698314400-1698318000@www.rakiuracalendar.com
SUMMARY:Tai chi
DESCRIPTION:Tai chi every Monday and Thursday- relaxed pace and beginners welcome! Gold coin donation.
URL:https://www.rakiuracalendar.com/event/tai-chi/2023-10-26/
LOCATION:RSA Pavilion\, 7 Ayr Street\, Oban\, Southland\, 9818\, New Zealand
CATEGORIES:Sport,Wellbeing
ATTACH;FMTTYPE=image/jpeg:https://www.rakiuracalendar.com/wp-content/uploads/2023/05/20230408_115141-e1690613375334.jpg
END:VEVENT
BEGIN:VEVENT
DTSTART;TZID=Pacific/Auckland:20231030T100000
DTEND;TZID=Pacific/Auckland:20231030T110000
DTSTAMP:20260422T135510
CREATED:20230528T220851Z
LAST-MODIFIED:20230729T065001Z
UID:10000081-1698660000-1698663600@www.rakiuracalendar.com
SUMMARY:Tai chi
DESCRIPTION:Tai chi every Monday and Thursday- relaxed pace and beginners welcome! Gold coin donation.
URL:https://www.rakiuracalendar.com/event/tai-chi/2023-10-30/
LOCATION:RSA Pavilion\, 7 Ayr Street\, Oban\, Southland\, 9818\, New Zealand
CATEGORIES:Sport,Wellbeing
ATTACH;FMTTYPE=image/jpeg:https://www.rakiuracalendar.com/wp-content/uploads/2023/05/20230408_115141-e1690613375334.jpg
END:VEVENT
BEGIN:VEVENT
DTSTART;TZID=Pacific/Auckland:20231101T173000
DTEND;TZID=Pacific/Auckland:20231101T183000
DTSTAMP:20260422T135510
CREATED:20230713T015633Z
LAST-MODIFIED:20230719T063919Z
UID:10000876-1698859800-1698863400@www.rakiuracalendar.com
SUMMARY:Animal Flow
DESCRIPTION:Animal Flow is a ground based bodyweight exercise system developed by Mike Fitch and with roots in yoga\, Pilates and breakdance. It can be adapted to be accessible to moderately fit people or to challenge the very fit.
URL:https://www.rakiuracalendar.com/event/animal-flow/2023-11-01/
LOCATION:St Andrews Anglican Church Hall\, 10 Excelsior Road\, Oban\, 9818\, New Zealand
CATEGORIES:Health,Sport,Training,Wellbeing
ATTACH;FMTTYPE=image/png:https://www.rakiuracalendar.com/wp-content/uploads/2023/07/Animal-Flow.png
ORGANIZER;CN="Bill Watt":MAILTO:williamwatt@outlook.co.nz
END:VEVENT
BEGIN:VEVENT
DTSTART;TZID=Pacific/Auckland:20231102T100000
DTEND;TZID=Pacific/Auckland:20231102T110000
DTSTAMP:20260422T135510
CREATED:20230528T220851Z
LAST-MODIFIED:20230729T065001Z
UID:10000082-1698919200-1698922800@www.rakiuracalendar.com
SUMMARY:Tai chi
DESCRIPTION:Tai chi every Monday and Thursday- relaxed pace and beginners welcome! Gold coin donation.
URL:https://www.rakiuracalendar.com/event/tai-chi/2023-11-02/
LOCATION:RSA Pavilion\, 7 Ayr Street\, Oban\, Southland\, 9818\, New Zealand
CATEGORIES:Sport,Wellbeing
ATTACH;FMTTYPE=image/jpeg:https://www.rakiuracalendar.com/wp-content/uploads/2023/05/20230408_115141-e1690613375334.jpg
END:VEVENT
BEGIN:VEVENT
DTSTART;TZID=Pacific/Auckland:20231106T100000
DTEND;TZID=Pacific/Auckland:20231106T110000
DTSTAMP:20260422T135510
CREATED:20230528T220851Z
LAST-MODIFIED:20230729T065001Z
UID:10000083-1699264800-1699268400@www.rakiuracalendar.com
SUMMARY:Tai chi
DESCRIPTION:Tai chi every Monday and Thursday- relaxed pace and beginners welcome! Gold coin donation.
URL:https://www.rakiuracalendar.com/event/tai-chi/2023-11-06/
LOCATION:RSA Pavilion\, 7 Ayr Street\, Oban\, Southland\, 9818\, New Zealand
CATEGORIES:Sport,Wellbeing
ATTACH;FMTTYPE=image/jpeg:https://www.rakiuracalendar.com/wp-content/uploads/2023/05/20230408_115141-e1690613375334.jpg
END:VEVENT
BEGIN:VEVENT
DTSTART;TZID=Pacific/Auckland:20231108T173000
DTEND;TZID=Pacific/Auckland:20231108T183000
DTSTAMP:20260422T135510
CREATED:20230713T015633Z
LAST-MODIFIED:20230719T063919Z
UID:10000877-1699464600-1699468200@www.rakiuracalendar.com
SUMMARY:Animal Flow
DESCRIPTION:Animal Flow is a ground based bodyweight exercise system developed by Mike Fitch and with roots in yoga\, Pilates and breakdance. It can be adapted to be accessible to moderately fit people or to challenge the very fit.
URL:https://www.rakiuracalendar.com/event/animal-flow/2023-11-08/
LOCATION:St Andrews Anglican Church Hall\, 10 Excelsior Road\, Oban\, 9818\, New Zealand
CATEGORIES:Health,Sport,Training,Wellbeing
ATTACH;FMTTYPE=image/png:https://www.rakiuracalendar.com/wp-content/uploads/2023/07/Animal-Flow.png
ORGANIZER;CN="Bill Watt":MAILTO:williamwatt@outlook.co.nz
END:VEVENT
BEGIN:VEVENT
DTSTART;TZID=Pacific/Auckland:20231109T100000
DTEND;TZID=Pacific/Auckland:20231109T110000
DTSTAMP:20260422T135510
CREATED:20230528T220851Z
LAST-MODIFIED:20230729T065001Z
UID:10000084-1699524000-1699527600@www.rakiuracalendar.com
SUMMARY:Tai chi
DESCRIPTION:Tai chi every Monday and Thursday- relaxed pace and beginners welcome! Gold coin donation.
URL:https://www.rakiuracalendar.com/event/tai-chi/2023-11-09/
LOCATION:RSA Pavilion\, 7 Ayr Street\, Oban\, Southland\, 9818\, New Zealand
CATEGORIES:Sport,Wellbeing
ATTACH;FMTTYPE=image/jpeg:https://www.rakiuracalendar.com/wp-content/uploads/2023/05/20230408_115141-e1690613375334.jpg
END:VEVENT
BEGIN:VEVENT
DTSTART;TZID=Pacific/Auckland:20231113T100000
DTEND;TZID=Pacific/Auckland:20231113T110000
DTSTAMP:20260422T135510
CREATED:20230528T220851Z
LAST-MODIFIED:20230729T065001Z
UID:10000085-1699869600-1699873200@www.rakiuracalendar.com
SUMMARY:Tai chi
DESCRIPTION:Tai chi every Monday and Thursday- relaxed pace and beginners welcome! Gold coin donation.
URL:https://www.rakiuracalendar.com/event/tai-chi/2023-11-13/
LOCATION:RSA Pavilion\, 7 Ayr Street\, Oban\, Southland\, 9818\, New Zealand
CATEGORIES:Sport,Wellbeing
ATTACH;FMTTYPE=image/jpeg:https://www.rakiuracalendar.com/wp-content/uploads/2023/05/20230408_115141-e1690613375334.jpg
END:VEVENT
BEGIN:VEVENT
DTSTART;TZID=Pacific/Auckland:20231115T173000
DTEND;TZID=Pacific/Auckland:20231115T183000
DTSTAMP:20260422T135510
CREATED:20230713T015633Z
LAST-MODIFIED:20230719T063919Z
UID:10000878-1700069400-1700073000@www.rakiuracalendar.com
SUMMARY:Animal Flow
DESCRIPTION:Animal Flow is a ground based bodyweight exercise system developed by Mike Fitch and with roots in yoga\, Pilates and breakdance. It can be adapted to be accessible to moderately fit people or to challenge the very fit.
URL:https://www.rakiuracalendar.com/event/animal-flow/2023-11-15/
LOCATION:St Andrews Anglican Church Hall\, 10 Excelsior Road\, Oban\, 9818\, New Zealand
CATEGORIES:Health,Sport,Training,Wellbeing
ATTACH;FMTTYPE=image/png:https://www.rakiuracalendar.com/wp-content/uploads/2023/07/Animal-Flow.png
ORGANIZER;CN="Bill Watt":MAILTO:williamwatt@outlook.co.nz
END:VEVENT
END:VCALENDAR