BEGIN:VCALENDAR
VERSION:2.0
PRODID:-//Rakiura Calendar - 2026 - ECPv6.15.20//NONSGML v1.0//EN
CALSCALE:GREGORIAN
METHOD:PUBLISH
X-WR-CALNAME:Rakiura Calendar - 2026
X-ORIGINAL-URL:https://www.rakiuracalendar.com
X-WR-CALDESC:Events for Rakiura Calendar - 2026
REFRESH-INTERVAL;VALUE=DURATION:PT1H
X-Robots-Tag:noindex
X-PUBLISHED-TTL:PT1H
BEGIN:VTIMEZONE
TZID:Pacific/Auckland
BEGIN:STANDARD
TZOFFSETFROM:+1300
TZOFFSETTO:+1200
TZNAME:NZST
DTSTART:20260404T140000
END:STANDARD
BEGIN:DAYLIGHT
TZOFFSETFROM:+1200
TZOFFSETTO:+1300
TZNAME:NZDT
DTSTART:20260926T140000
END:DAYLIGHT
BEGIN:STANDARD
TZOFFSETFROM:+1300
TZOFFSETTO:+1200
TZNAME:NZST
DTSTART:20270403T140000
END:STANDARD
BEGIN:DAYLIGHT
TZOFFSETFROM:+1200
TZOFFSETTO:+1300
TZNAME:NZDT
DTSTART:20270925T140000
END:DAYLIGHT
BEGIN:STANDARD
TZOFFSETFROM:+1300
TZOFFSETTO:+1200
TZNAME:NZST
DTSTART:20280401T140000
END:STANDARD
BEGIN:DAYLIGHT
TZOFFSETFROM:+1200
TZOFFSETTO:+1300
TZNAME:NZDT
DTSTART:20280923T140000
END:DAYLIGHT
END:VTIMEZONE
BEGIN:VEVENT
DTSTART;TZID=Pacific/Auckland:20270613T083000
DTEND;TZID=Pacific/Auckland:20270613T100000
DTSTAMP:20260422T190113
CREATED:20260220T204117Z
LAST-MODIFIED:20260220T204117Z
UID:10004767-1812875400-1812880800@www.rakiuracalendar.com
SUMMARY:Seido karate
DESCRIPTION:
URL:https://www.rakiuracalendar.com/event/seido-karate-2-2/2027-06-13/
LOCATION:Community Centre\, 10 Ayr Street\, Oban\, Southland\, 9818\, New Zealand
CATEGORIES:Training
ATTACH;FMTTYPE=image/png:https://www.rakiuracalendar.com/wp-content/uploads/2025/10/seido-karate-1-e1759281973823.png
ORGANIZER;CN="Nigel Fraser":MAILTO:gappx3@gmail.com
END:VEVENT
BEGIN:VEVENT
DTSTART;TZID=Pacific/Auckland:20270614T190000
DTEND;TZID=Pacific/Auckland:20270614T190000
DTSTAMP:20260422T190113
CREATED:20230529T074945Z
LAST-MODIFIED:20230530T041221Z
UID:10000790-1812999600-1812999600@www.rakiuracalendar.com
SUMMARY:Oban Fire Brigade Training Night
DESCRIPTION:Fire and Emergency NZ weekly training for the local brigade. \nCome along to see what we’re up to and if you’re interested in volunteering.
URL:https://www.rakiuracalendar.com/event/oban-fire-brigade-training-night/2027-06-14/
LOCATION:Oban Fire Station\, 6 Argyle Street\, Oban\, Southland\, 9818\, New Zealand
CATEGORIES:Community,Group meeting,Training,Volunteer
ATTACH;FMTTYPE=image/jpeg:https://www.rakiuracalendar.com/wp-content/uploads/2023/05/Screenshot_20230529_194125_Outlook.jpg
END:VEVENT
BEGIN:VEVENT
DTSTART;TZID=Pacific/Auckland:20270616T173000
DTEND;TZID=Pacific/Auckland:20270616T183000
DTSTAMP:20260422T190113
CREATED:20251001T013410Z
LAST-MODIFIED:20251002T202333Z
UID:10002922-1813167000-1813170600@www.rakiuracalendar.com
SUMMARY:Seido karate
DESCRIPTION:
URL:https://www.rakiuracalendar.com/event/seido-karate/2027-06-16/
LOCATION:Community Centre\, 10 Ayr Street\, Oban\, Southland\, 9818\, New Zealand
CATEGORIES:Training
ATTACH;FMTTYPE=image/png:https://www.rakiuracalendar.com/wp-content/uploads/2025/10/seido-karate-1-e1759281973823.png
ORGANIZER;CN="Nigel Fraser":MAILTO:gappx3@gmail.com
END:VEVENT
BEGIN:VEVENT
DTSTART;TZID=Pacific/Auckland:20270620T083000
DTEND;TZID=Pacific/Auckland:20270620T100000
DTSTAMP:20260422T190113
CREATED:20260220T204117Z
LAST-MODIFIED:20260220T204117Z
UID:10004768-1813480200-1813485600@www.rakiuracalendar.com
SUMMARY:Seido karate
DESCRIPTION:
URL:https://www.rakiuracalendar.com/event/seido-karate-2-2/2027-06-20/
LOCATION:Community Centre\, 10 Ayr Street\, Oban\, Southland\, 9818\, New Zealand
CATEGORIES:Training
ATTACH;FMTTYPE=image/png:https://www.rakiuracalendar.com/wp-content/uploads/2025/10/seido-karate-1-e1759281973823.png
ORGANIZER;CN="Nigel Fraser":MAILTO:gappx3@gmail.com
END:VEVENT
BEGIN:VEVENT
DTSTART;TZID=Pacific/Auckland:20270621T190000
DTEND;TZID=Pacific/Auckland:20270621T190000
DTSTAMP:20260422T190113
CREATED:20230529T074945Z
LAST-MODIFIED:20230530T041221Z
UID:10000791-1813604400-1813604400@www.rakiuracalendar.com
SUMMARY:Oban Fire Brigade Training Night
DESCRIPTION:Fire and Emergency NZ weekly training for the local brigade. \nCome along to see what we’re up to and if you’re interested in volunteering.
URL:https://www.rakiuracalendar.com/event/oban-fire-brigade-training-night/2027-06-21/
LOCATION:Oban Fire Station\, 6 Argyle Street\, Oban\, Southland\, 9818\, New Zealand
CATEGORIES:Community,Group meeting,Training,Volunteer
ATTACH;FMTTYPE=image/jpeg:https://www.rakiuracalendar.com/wp-content/uploads/2023/05/Screenshot_20230529_194125_Outlook.jpg
END:VEVENT
BEGIN:VEVENT
DTSTART;TZID=Pacific/Auckland:20270623T173000
DTEND;TZID=Pacific/Auckland:20270623T183000
DTSTAMP:20260422T190113
CREATED:20251001T013410Z
LAST-MODIFIED:20251002T202333Z
UID:10003313-1813771800-1813775400@www.rakiuracalendar.com
SUMMARY:Seido karate
DESCRIPTION:
URL:https://www.rakiuracalendar.com/event/seido-karate/2027-06-23/
LOCATION:Community Centre\, 10 Ayr Street\, Oban\, Southland\, 9818\, New Zealand
CATEGORIES:Training
ATTACH;FMTTYPE=image/png:https://www.rakiuracalendar.com/wp-content/uploads/2025/10/seido-karate-1-e1759281973823.png
ORGANIZER;CN="Nigel Fraser":MAILTO:gappx3@gmail.com
END:VEVENT
BEGIN:VEVENT
DTSTART;TZID=Pacific/Auckland:20270627T083000
DTEND;TZID=Pacific/Auckland:20270627T100000
DTSTAMP:20260422T190113
CREATED:20260220T204117Z
LAST-MODIFIED:20260220T204117Z
UID:10004769-1814085000-1814090400@www.rakiuracalendar.com
SUMMARY:Seido karate
DESCRIPTION:
URL:https://www.rakiuracalendar.com/event/seido-karate-2-2/2027-06-27/
LOCATION:Community Centre\, 10 Ayr Street\, Oban\, Southland\, 9818\, New Zealand
CATEGORIES:Training
ATTACH;FMTTYPE=image/png:https://www.rakiuracalendar.com/wp-content/uploads/2025/10/seido-karate-1-e1759281973823.png
ORGANIZER;CN="Nigel Fraser":MAILTO:gappx3@gmail.com
END:VEVENT
BEGIN:VEVENT
DTSTART;TZID=Pacific/Auckland:20270628T190000
DTEND;TZID=Pacific/Auckland:20270628T190000
DTSTAMP:20260422T190113
CREATED:20230529T074945Z
LAST-MODIFIED:20230530T041221Z
UID:10000792-1814209200-1814209200@www.rakiuracalendar.com
SUMMARY:Oban Fire Brigade Training Night
DESCRIPTION:Fire and Emergency NZ weekly training for the local brigade. \nCome along to see what we’re up to and if you’re interested in volunteering.
URL:https://www.rakiuracalendar.com/event/oban-fire-brigade-training-night/2027-06-28/
LOCATION:Oban Fire Station\, 6 Argyle Street\, Oban\, Southland\, 9818\, New Zealand
CATEGORIES:Community,Group meeting,Training,Volunteer
ATTACH;FMTTYPE=image/jpeg:https://www.rakiuracalendar.com/wp-content/uploads/2023/05/Screenshot_20230529_194125_Outlook.jpg
END:VEVENT
BEGIN:VEVENT
DTSTART;TZID=Pacific/Auckland:20270630T173000
DTEND;TZID=Pacific/Auckland:20270630T183000
DTSTAMP:20260422T190113
CREATED:20251001T013410Z
LAST-MODIFIED:20251002T202333Z
UID:10002923-1814376600-1814380200@www.rakiuracalendar.com
SUMMARY:Seido karate
DESCRIPTION:
URL:https://www.rakiuracalendar.com/event/seido-karate/2027-06-30/
LOCATION:Community Centre\, 10 Ayr Street\, Oban\, Southland\, 9818\, New Zealand
CATEGORIES:Training
ATTACH;FMTTYPE=image/png:https://www.rakiuracalendar.com/wp-content/uploads/2025/10/seido-karate-1-e1759281973823.png
ORGANIZER;CN="Nigel Fraser":MAILTO:gappx3@gmail.com
END:VEVENT
BEGIN:VEVENT
DTSTART;TZID=Pacific/Auckland:20270704T083000
DTEND;TZID=Pacific/Auckland:20270704T100000
DTSTAMP:20260422T190113
CREATED:20260220T204117Z
LAST-MODIFIED:20260220T204117Z
UID:10004770-1814689800-1814695200@www.rakiuracalendar.com
SUMMARY:Seido karate
DESCRIPTION:
URL:https://www.rakiuracalendar.com/event/seido-karate-2-2/2027-07-04/
LOCATION:Community Centre\, 10 Ayr Street\, Oban\, Southland\, 9818\, New Zealand
CATEGORIES:Training
ATTACH;FMTTYPE=image/png:https://www.rakiuracalendar.com/wp-content/uploads/2025/10/seido-karate-1-e1759281973823.png
ORGANIZER;CN="Nigel Fraser":MAILTO:gappx3@gmail.com
END:VEVENT
BEGIN:VEVENT
DTSTART;TZID=Pacific/Auckland:20270705T190000
DTEND;TZID=Pacific/Auckland:20270705T190000
DTSTAMP:20260422T190113
CREATED:20230529T074945Z
LAST-MODIFIED:20230530T041221Z
UID:10000793-1814814000-1814814000@www.rakiuracalendar.com
SUMMARY:Oban Fire Brigade Training Night
DESCRIPTION:Fire and Emergency NZ weekly training for the local brigade. \nCome along to see what we’re up to and if you’re interested in volunteering.
URL:https://www.rakiuracalendar.com/event/oban-fire-brigade-training-night/2027-07-05/
LOCATION:Oban Fire Station\, 6 Argyle Street\, Oban\, Southland\, 9818\, New Zealand
CATEGORIES:Community,Group meeting,Training,Volunteer
ATTACH;FMTTYPE=image/jpeg:https://www.rakiuracalendar.com/wp-content/uploads/2023/05/Screenshot_20230529_194125_Outlook.jpg
END:VEVENT
BEGIN:VEVENT
DTSTART;TZID=Pacific/Auckland:20270707T173000
DTEND;TZID=Pacific/Auckland:20270707T183000
DTSTAMP:20260422T190113
CREATED:20251001T013410Z
LAST-MODIFIED:20251002T202333Z
UID:10003314-1814981400-1814985000@www.rakiuracalendar.com
SUMMARY:Seido karate
DESCRIPTION:
URL:https://www.rakiuracalendar.com/event/seido-karate/2027-07-07/
LOCATION:Community Centre\, 10 Ayr Street\, Oban\, Southland\, 9818\, New Zealand
CATEGORIES:Training
ATTACH;FMTTYPE=image/png:https://www.rakiuracalendar.com/wp-content/uploads/2025/10/seido-karate-1-e1759281973823.png
ORGANIZER;CN="Nigel Fraser":MAILTO:gappx3@gmail.com
END:VEVENT
BEGIN:VEVENT
DTSTART;TZID=Pacific/Auckland:20270711T083000
DTEND;TZID=Pacific/Auckland:20270711T100000
DTSTAMP:20260422T190113
CREATED:20260220T204117Z
LAST-MODIFIED:20260220T204117Z
UID:10004771-1815294600-1815300000@www.rakiuracalendar.com
SUMMARY:Seido karate
DESCRIPTION:
URL:https://www.rakiuracalendar.com/event/seido-karate-2-2/2027-07-11/
LOCATION:Community Centre\, 10 Ayr Street\, Oban\, Southland\, 9818\, New Zealand
CATEGORIES:Training
ATTACH;FMTTYPE=image/png:https://www.rakiuracalendar.com/wp-content/uploads/2025/10/seido-karate-1-e1759281973823.png
ORGANIZER;CN="Nigel Fraser":MAILTO:gappx3@gmail.com
END:VEVENT
BEGIN:VEVENT
DTSTART;TZID=Pacific/Auckland:20270712T190000
DTEND;TZID=Pacific/Auckland:20270712T190000
DTSTAMP:20260422T190113
CREATED:20230529T074945Z
LAST-MODIFIED:20230530T041221Z
UID:10000794-1815418800-1815418800@www.rakiuracalendar.com
SUMMARY:Oban Fire Brigade Training Night
DESCRIPTION:Fire and Emergency NZ weekly training for the local brigade. \nCome along to see what we’re up to and if you’re interested in volunteering.
URL:https://www.rakiuracalendar.com/event/oban-fire-brigade-training-night/2027-07-12/
LOCATION:Oban Fire Station\, 6 Argyle Street\, Oban\, Southland\, 9818\, New Zealand
CATEGORIES:Community,Group meeting,Training,Volunteer
ATTACH;FMTTYPE=image/jpeg:https://www.rakiuracalendar.com/wp-content/uploads/2023/05/Screenshot_20230529_194125_Outlook.jpg
END:VEVENT
BEGIN:VEVENT
DTSTART;TZID=Pacific/Auckland:20270714T173000
DTEND;TZID=Pacific/Auckland:20270714T183000
DTSTAMP:20260422T190113
CREATED:20251001T013410Z
LAST-MODIFIED:20251002T202333Z
UID:10002924-1815586200-1815589800@www.rakiuracalendar.com
SUMMARY:Seido karate
DESCRIPTION:
URL:https://www.rakiuracalendar.com/event/seido-karate/2027-07-14/
LOCATION:Community Centre\, 10 Ayr Street\, Oban\, Southland\, 9818\, New Zealand
CATEGORIES:Training
ATTACH;FMTTYPE=image/png:https://www.rakiuracalendar.com/wp-content/uploads/2025/10/seido-karate-1-e1759281973823.png
ORGANIZER;CN="Nigel Fraser":MAILTO:gappx3@gmail.com
END:VEVENT
BEGIN:VEVENT
DTSTART;TZID=Pacific/Auckland:20270718T083000
DTEND;TZID=Pacific/Auckland:20270718T100000
DTSTAMP:20260422T190113
CREATED:20260220T204117Z
LAST-MODIFIED:20260220T204117Z
UID:10004772-1815899400-1815904800@www.rakiuracalendar.com
SUMMARY:Seido karate
DESCRIPTION:
URL:https://www.rakiuracalendar.com/event/seido-karate-2-2/2027-07-18/
LOCATION:Community Centre\, 10 Ayr Street\, Oban\, Southland\, 9818\, New Zealand
CATEGORIES:Training
ATTACH;FMTTYPE=image/png:https://www.rakiuracalendar.com/wp-content/uploads/2025/10/seido-karate-1-e1759281973823.png
ORGANIZER;CN="Nigel Fraser":MAILTO:gappx3@gmail.com
END:VEVENT
BEGIN:VEVENT
DTSTART;TZID=Pacific/Auckland:20270719T190000
DTEND;TZID=Pacific/Auckland:20270719T190000
DTSTAMP:20260422T190113
CREATED:20230529T074945Z
LAST-MODIFIED:20230530T041221Z
UID:10000795-1816023600-1816023600@www.rakiuracalendar.com
SUMMARY:Oban Fire Brigade Training Night
DESCRIPTION:Fire and Emergency NZ weekly training for the local brigade. \nCome along to see what we’re up to and if you’re interested in volunteering.
URL:https://www.rakiuracalendar.com/event/oban-fire-brigade-training-night/2027-07-19/
LOCATION:Oban Fire Station\, 6 Argyle Street\, Oban\, Southland\, 9818\, New Zealand
CATEGORIES:Community,Group meeting,Training,Volunteer
ATTACH;FMTTYPE=image/jpeg:https://www.rakiuracalendar.com/wp-content/uploads/2023/05/Screenshot_20230529_194125_Outlook.jpg
END:VEVENT
BEGIN:VEVENT
DTSTART;TZID=Pacific/Auckland:20270721T173000
DTEND;TZID=Pacific/Auckland:20270721T183000
DTSTAMP:20260422T190113
CREATED:20251001T013410Z
LAST-MODIFIED:20251002T202333Z
UID:10003315-1816191000-1816194600@www.rakiuracalendar.com
SUMMARY:Seido karate
DESCRIPTION:
URL:https://www.rakiuracalendar.com/event/seido-karate/2027-07-21/
LOCATION:Community Centre\, 10 Ayr Street\, Oban\, Southland\, 9818\, New Zealand
CATEGORIES:Training
ATTACH;FMTTYPE=image/png:https://www.rakiuracalendar.com/wp-content/uploads/2025/10/seido-karate-1-e1759281973823.png
ORGANIZER;CN="Nigel Fraser":MAILTO:gappx3@gmail.com
END:VEVENT
BEGIN:VEVENT
DTSTART;TZID=Pacific/Auckland:20270725T083000
DTEND;TZID=Pacific/Auckland:20270725T100000
DTSTAMP:20260422T190113
CREATED:20260220T204117Z
LAST-MODIFIED:20260220T204117Z
UID:10004773-1816504200-1816509600@www.rakiuracalendar.com
SUMMARY:Seido karate
DESCRIPTION:
URL:https://www.rakiuracalendar.com/event/seido-karate-2-2/2027-07-25/
LOCATION:Community Centre\, 10 Ayr Street\, Oban\, Southland\, 9818\, New Zealand
CATEGORIES:Training
ATTACH;FMTTYPE=image/png:https://www.rakiuracalendar.com/wp-content/uploads/2025/10/seido-karate-1-e1759281973823.png
ORGANIZER;CN="Nigel Fraser":MAILTO:gappx3@gmail.com
END:VEVENT
BEGIN:VEVENT
DTSTART;TZID=Pacific/Auckland:20270726T190000
DTEND;TZID=Pacific/Auckland:20270726T190000
DTSTAMP:20260422T190113
CREATED:20230529T074945Z
LAST-MODIFIED:20230530T041221Z
UID:10000796-1816628400-1816628400@www.rakiuracalendar.com
SUMMARY:Oban Fire Brigade Training Night
DESCRIPTION:Fire and Emergency NZ weekly training for the local brigade. \nCome along to see what we’re up to and if you’re interested in volunteering.
URL:https://www.rakiuracalendar.com/event/oban-fire-brigade-training-night/2027-07-26/
LOCATION:Oban Fire Station\, 6 Argyle Street\, Oban\, Southland\, 9818\, New Zealand
CATEGORIES:Community,Group meeting,Training,Volunteer
ATTACH;FMTTYPE=image/jpeg:https://www.rakiuracalendar.com/wp-content/uploads/2023/05/Screenshot_20230529_194125_Outlook.jpg
END:VEVENT
BEGIN:VEVENT
DTSTART;TZID=Pacific/Auckland:20270728T173000
DTEND;TZID=Pacific/Auckland:20270728T183000
DTSTAMP:20260422T190113
CREATED:20251001T013410Z
LAST-MODIFIED:20251002T202333Z
UID:10002925-1816795800-1816799400@www.rakiuracalendar.com
SUMMARY:Seido karate
DESCRIPTION:
URL:https://www.rakiuracalendar.com/event/seido-karate/2027-07-28/
LOCATION:Community Centre\, 10 Ayr Street\, Oban\, Southland\, 9818\, New Zealand
CATEGORIES:Training
ATTACH;FMTTYPE=image/png:https://www.rakiuracalendar.com/wp-content/uploads/2025/10/seido-karate-1-e1759281973823.png
ORGANIZER;CN="Nigel Fraser":MAILTO:gappx3@gmail.com
END:VEVENT
BEGIN:VEVENT
DTSTART;TZID=Pacific/Auckland:20270801T083000
DTEND;TZID=Pacific/Auckland:20270801T100000
DTSTAMP:20260422T190113
CREATED:20260220T204117Z
LAST-MODIFIED:20260220T204117Z
UID:10004774-1817109000-1817114400@www.rakiuracalendar.com
SUMMARY:Seido karate
DESCRIPTION:
URL:https://www.rakiuracalendar.com/event/seido-karate-2-2/2027-08-01/
LOCATION:Community Centre\, 10 Ayr Street\, Oban\, Southland\, 9818\, New Zealand
CATEGORIES:Training
ATTACH;FMTTYPE=image/png:https://www.rakiuracalendar.com/wp-content/uploads/2025/10/seido-karate-1-e1759281973823.png
ORGANIZER;CN="Nigel Fraser":MAILTO:gappx3@gmail.com
END:VEVENT
BEGIN:VEVENT
DTSTART;TZID=Pacific/Auckland:20270802T190000
DTEND;TZID=Pacific/Auckland:20270802T190000
DTSTAMP:20260422T190113
CREATED:20230529T074945Z
LAST-MODIFIED:20230530T041221Z
UID:10000797-1817233200-1817233200@www.rakiuracalendar.com
SUMMARY:Oban Fire Brigade Training Night
DESCRIPTION:Fire and Emergency NZ weekly training for the local brigade. \nCome along to see what we’re up to and if you’re interested in volunteering.
URL:https://www.rakiuracalendar.com/event/oban-fire-brigade-training-night/2027-08-02/
LOCATION:Oban Fire Station\, 6 Argyle Street\, Oban\, Southland\, 9818\, New Zealand
CATEGORIES:Community,Group meeting,Training,Volunteer
ATTACH;FMTTYPE=image/jpeg:https://www.rakiuracalendar.com/wp-content/uploads/2023/05/Screenshot_20230529_194125_Outlook.jpg
END:VEVENT
BEGIN:VEVENT
DTSTART;TZID=Pacific/Auckland:20270804T173000
DTEND;TZID=Pacific/Auckland:20270804T183000
DTSTAMP:20260422T190113
CREATED:20251001T013410Z
LAST-MODIFIED:20251002T202333Z
UID:10003316-1817400600-1817404200@www.rakiuracalendar.com
SUMMARY:Seido karate
DESCRIPTION:
URL:https://www.rakiuracalendar.com/event/seido-karate/2027-08-04/
LOCATION:Community Centre\, 10 Ayr Street\, Oban\, Southland\, 9818\, New Zealand
CATEGORIES:Training
ATTACH;FMTTYPE=image/png:https://www.rakiuracalendar.com/wp-content/uploads/2025/10/seido-karate-1-e1759281973823.png
ORGANIZER;CN="Nigel Fraser":MAILTO:gappx3@gmail.com
END:VEVENT
BEGIN:VEVENT
DTSTART;TZID=Pacific/Auckland:20270808T083000
DTEND;TZID=Pacific/Auckland:20270808T100000
DTSTAMP:20260422T190113
CREATED:20260220T204117Z
LAST-MODIFIED:20260220T204117Z
UID:10004775-1817713800-1817719200@www.rakiuracalendar.com
SUMMARY:Seido karate
DESCRIPTION:
URL:https://www.rakiuracalendar.com/event/seido-karate-2-2/2027-08-08/
LOCATION:Community Centre\, 10 Ayr Street\, Oban\, Southland\, 9818\, New Zealand
CATEGORIES:Training
ATTACH;FMTTYPE=image/png:https://www.rakiuracalendar.com/wp-content/uploads/2025/10/seido-karate-1-e1759281973823.png
ORGANIZER;CN="Nigel Fraser":MAILTO:gappx3@gmail.com
END:VEVENT
BEGIN:VEVENT
DTSTART;TZID=Pacific/Auckland:20270809T190000
DTEND;TZID=Pacific/Auckland:20270809T190000
DTSTAMP:20260422T190113
CREATED:20230529T074945Z
LAST-MODIFIED:20230530T041221Z
UID:10000798-1817838000-1817838000@www.rakiuracalendar.com
SUMMARY:Oban Fire Brigade Training Night
DESCRIPTION:Fire and Emergency NZ weekly training for the local brigade. \nCome along to see what we’re up to and if you’re interested in volunteering.
URL:https://www.rakiuracalendar.com/event/oban-fire-brigade-training-night/2027-08-09/
LOCATION:Oban Fire Station\, 6 Argyle Street\, Oban\, Southland\, 9818\, New Zealand
CATEGORIES:Community,Group meeting,Training,Volunteer
ATTACH;FMTTYPE=image/jpeg:https://www.rakiuracalendar.com/wp-content/uploads/2023/05/Screenshot_20230529_194125_Outlook.jpg
END:VEVENT
BEGIN:VEVENT
DTSTART;TZID=Pacific/Auckland:20270811T173000
DTEND;TZID=Pacific/Auckland:20270811T183000
DTSTAMP:20260422T190113
CREATED:20251001T013410Z
LAST-MODIFIED:20251002T202333Z
UID:10002926-1818005400-1818009000@www.rakiuracalendar.com
SUMMARY:Seido karate
DESCRIPTION:
URL:https://www.rakiuracalendar.com/event/seido-karate/2027-08-11/
LOCATION:Community Centre\, 10 Ayr Street\, Oban\, Southland\, 9818\, New Zealand
CATEGORIES:Training
ATTACH;FMTTYPE=image/png:https://www.rakiuracalendar.com/wp-content/uploads/2025/10/seido-karate-1-e1759281973823.png
ORGANIZER;CN="Nigel Fraser":MAILTO:gappx3@gmail.com
END:VEVENT
BEGIN:VEVENT
DTSTART;TZID=Pacific/Auckland:20270815T083000
DTEND;TZID=Pacific/Auckland:20270815T100000
DTSTAMP:20260422T190113
CREATED:20260220T204117Z
LAST-MODIFIED:20260220T204117Z
UID:10004776-1818318600-1818324000@www.rakiuracalendar.com
SUMMARY:Seido karate
DESCRIPTION:
URL:https://www.rakiuracalendar.com/event/seido-karate-2-2/2027-08-15/
LOCATION:Community Centre\, 10 Ayr Street\, Oban\, Southland\, 9818\, New Zealand
CATEGORIES:Training
ATTACH;FMTTYPE=image/png:https://www.rakiuracalendar.com/wp-content/uploads/2025/10/seido-karate-1-e1759281973823.png
ORGANIZER;CN="Nigel Fraser":MAILTO:gappx3@gmail.com
END:VEVENT
BEGIN:VEVENT
DTSTART;TZID=Pacific/Auckland:20270816T190000
DTEND;TZID=Pacific/Auckland:20270816T190000
DTSTAMP:20260422T190113
CREATED:20230529T074945Z
LAST-MODIFIED:20230530T041221Z
UID:10000799-1818442800-1818442800@www.rakiuracalendar.com
SUMMARY:Oban Fire Brigade Training Night
DESCRIPTION:Fire and Emergency NZ weekly training for the local brigade. \nCome along to see what we’re up to and if you’re interested in volunteering.
URL:https://www.rakiuracalendar.com/event/oban-fire-brigade-training-night/2027-08-16/
LOCATION:Oban Fire Station\, 6 Argyle Street\, Oban\, Southland\, 9818\, New Zealand
CATEGORIES:Community,Group meeting,Training,Volunteer
ATTACH;FMTTYPE=image/jpeg:https://www.rakiuracalendar.com/wp-content/uploads/2023/05/Screenshot_20230529_194125_Outlook.jpg
END:VEVENT
BEGIN:VEVENT
DTSTART;TZID=Pacific/Auckland:20270818T173000
DTEND;TZID=Pacific/Auckland:20270818T183000
DTSTAMP:20260422T190113
CREATED:20251001T013410Z
LAST-MODIFIED:20251002T202333Z
UID:10003317-1818610200-1818613800@www.rakiuracalendar.com
SUMMARY:Seido karate
DESCRIPTION:
URL:https://www.rakiuracalendar.com/event/seido-karate/2027-08-18/
LOCATION:Community Centre\, 10 Ayr Street\, Oban\, Southland\, 9818\, New Zealand
CATEGORIES:Training
ATTACH;FMTTYPE=image/png:https://www.rakiuracalendar.com/wp-content/uploads/2025/10/seido-karate-1-e1759281973823.png
ORGANIZER;CN="Nigel Fraser":MAILTO:gappx3@gmail.com
END:VEVENT
END:VCALENDAR