BEGIN:VCALENDAR
VERSION:2.0
PRODID:-//Rakiura Calendar - 2026 - ECPv6.15.20//NONSGML v1.0//EN
CALSCALE:GREGORIAN
METHOD:PUBLISH
X-ORIGINAL-URL:https://www.rakiuracalendar.com
X-WR-CALDESC:Events for Rakiura Calendar - 2026
REFRESH-INTERVAL;VALUE=DURATION:PT1H
X-Robots-Tag:noindex
X-PUBLISHED-TTL:PT1H
BEGIN:VTIMEZONE
TZID:Pacific/Auckland
BEGIN:STANDARD
TZOFFSETFROM:+1300
TZOFFSETTO:+1200
TZNAME:NZST
DTSTART:20250405T140000
END:STANDARD
BEGIN:DAYLIGHT
TZOFFSETFROM:+1200
TZOFFSETTO:+1300
TZNAME:NZDT
DTSTART:20250927T140000
END:DAYLIGHT
BEGIN:STANDARD
TZOFFSETFROM:+1300
TZOFFSETTO:+1200
TZNAME:NZST
DTSTART:20260404T140000
END:STANDARD
BEGIN:DAYLIGHT
TZOFFSETFROM:+1200
TZOFFSETTO:+1300
TZNAME:NZDT
DTSTART:20260926T140000
END:DAYLIGHT
BEGIN:STANDARD
TZOFFSETFROM:+1300
TZOFFSETTO:+1200
TZNAME:NZST
DTSTART:20270403T140000
END:STANDARD
BEGIN:DAYLIGHT
TZOFFSETFROM:+1200
TZOFFSETTO:+1300
TZNAME:NZDT
DTSTART:20270925T140000
END:DAYLIGHT
END:VTIMEZONE
BEGIN:VEVENT
DTSTART;TZID=Pacific/Auckland:20260204T173000
DTEND;TZID=Pacific/Auckland:20260204T183000
DTSTAMP:20260421T144220
CREATED:20251001T013410Z
LAST-MODIFIED:20251002T202333Z
UID:10003277-1770226200-1770229800@www.rakiuracalendar.com
SUMMARY:Seido karate
DESCRIPTION:
URL:https://www.rakiuracalendar.com/event/seido-karate/2026-02-04/
LOCATION:Community Centre\, 10 Ayr Street\, Oban\, Southland\, 9818\, New Zealand
CATEGORIES:Training
ATTACH;FMTTYPE=image/png:https://www.rakiuracalendar.com/wp-content/uploads/2025/10/seido-karate-1-e1759281973823.png
ORGANIZER;CN="Nigel Fraser":MAILTO:gappx3@gmail.com
END:VEVENT
BEGIN:VEVENT
DTSTART;TZID=Pacific/Auckland:20260208T083000
DTEND;TZID=Pacific/Auckland:20260208T100000
DTSTAMP:20260421T144220
CREATED:20260220T204117Z
LAST-MODIFIED:20260220T204117Z
UID:10004697-1770539400-1770544800@www.rakiuracalendar.com
SUMMARY:Seido karate
DESCRIPTION:
URL:https://www.rakiuracalendar.com/event/seido-karate-2-2/2026-02-08/
LOCATION:Community Centre\, 10 Ayr Street\, Oban\, Southland\, 9818\, New Zealand
CATEGORIES:Training
ATTACH;FMTTYPE=image/png:https://www.rakiuracalendar.com/wp-content/uploads/2025/10/seido-karate-1-e1759281973823.png
ORGANIZER;CN="Nigel Fraser":MAILTO:gappx3@gmail.com
END:VEVENT
BEGIN:VEVENT
DTSTART;TZID=Pacific/Auckland:20260209T190000
DTEND;TZID=Pacific/Auckland:20260209T190000
DTSTAMP:20260421T144220
CREATED:20230529T074945Z
LAST-MODIFIED:20230530T041221Z
UID:10000720-1770663600-1770663600@www.rakiuracalendar.com
SUMMARY:Oban Fire Brigade Training Night
DESCRIPTION:Fire and Emergency NZ weekly training for the local brigade. \nCome along to see what we’re up to and if you’re interested in volunteering.
URL:https://www.rakiuracalendar.com/event/oban-fire-brigade-training-night/2026-02-09/
LOCATION:Oban Fire Station\, 6 Argyle Street\, Oban\, Southland\, 9818\, New Zealand
CATEGORIES:Community,Group meeting,Training,Volunteer
ATTACH;FMTTYPE=image/jpeg:https://www.rakiuracalendar.com/wp-content/uploads/2023/05/Screenshot_20230529_194125_Outlook.jpg
END:VEVENT
BEGIN:VEVENT
DTSTART;TZID=Pacific/Auckland:20260211T173000
DTEND;TZID=Pacific/Auckland:20260211T183000
DTSTAMP:20260421T144220
CREATED:20251001T013410Z
LAST-MODIFIED:20251002T202333Z
UID:10002887-1770831000-1770834600@www.rakiuracalendar.com
SUMMARY:Seido karate
DESCRIPTION:
URL:https://www.rakiuracalendar.com/event/seido-karate/2026-02-11/
LOCATION:Community Centre\, 10 Ayr Street\, Oban\, Southland\, 9818\, New Zealand
CATEGORIES:Training
ATTACH;FMTTYPE=image/png:https://www.rakiuracalendar.com/wp-content/uploads/2025/10/seido-karate-1-e1759281973823.png
ORGANIZER;CN="Nigel Fraser":MAILTO:gappx3@gmail.com
END:VEVENT
BEGIN:VEVENT
DTSTART;TZID=Pacific/Auckland:20260215T083000
DTEND;TZID=Pacific/Auckland:20260215T100000
DTSTAMP:20260421T144220
CREATED:20260220T204117Z
LAST-MODIFIED:20260220T204117Z
UID:10004698-1771144200-1771149600@www.rakiuracalendar.com
SUMMARY:Seido karate
DESCRIPTION:
URL:https://www.rakiuracalendar.com/event/seido-karate-2-2/2026-02-15/
LOCATION:Community Centre\, 10 Ayr Street\, Oban\, Southland\, 9818\, New Zealand
CATEGORIES:Training
ATTACH;FMTTYPE=image/png:https://www.rakiuracalendar.com/wp-content/uploads/2025/10/seido-karate-1-e1759281973823.png
ORGANIZER;CN="Nigel Fraser":MAILTO:gappx3@gmail.com
END:VEVENT
BEGIN:VEVENT
DTSTART;TZID=Pacific/Auckland:20260216T190000
DTEND;TZID=Pacific/Auckland:20260216T190000
DTSTAMP:20260421T144220
CREATED:20230529T074945Z
LAST-MODIFIED:20230530T041221Z
UID:10000721-1771268400-1771268400@www.rakiuracalendar.com
SUMMARY:Oban Fire Brigade Training Night
DESCRIPTION:Fire and Emergency NZ weekly training for the local brigade. \nCome along to see what we’re up to and if you’re interested in volunteering.
URL:https://www.rakiuracalendar.com/event/oban-fire-brigade-training-night/2026-02-16/
LOCATION:Oban Fire Station\, 6 Argyle Street\, Oban\, Southland\, 9818\, New Zealand
CATEGORIES:Community,Group meeting,Training,Volunteer
ATTACH;FMTTYPE=image/jpeg:https://www.rakiuracalendar.com/wp-content/uploads/2023/05/Screenshot_20230529_194125_Outlook.jpg
END:VEVENT
BEGIN:VEVENT
DTSTART;TZID=Pacific/Auckland:20260218T173000
DTEND;TZID=Pacific/Auckland:20260218T183000
DTSTAMP:20260421T144220
CREATED:20251001T013410Z
LAST-MODIFIED:20251002T202333Z
UID:10003278-1771435800-1771439400@www.rakiuracalendar.com
SUMMARY:Seido karate
DESCRIPTION:
URL:https://www.rakiuracalendar.com/event/seido-karate/2026-02-18/
LOCATION:Community Centre\, 10 Ayr Street\, Oban\, Southland\, 9818\, New Zealand
CATEGORIES:Training
ATTACH;FMTTYPE=image/png:https://www.rakiuracalendar.com/wp-content/uploads/2025/10/seido-karate-1-e1759281973823.png
ORGANIZER;CN="Nigel Fraser":MAILTO:gappx3@gmail.com
END:VEVENT
BEGIN:VEVENT
DTSTART;TZID=Pacific/Auckland:20260222T083000
DTEND;TZID=Pacific/Auckland:20260222T100000
DTSTAMP:20260421T144220
CREATED:20260220T204117Z
LAST-MODIFIED:20260220T204117Z
UID:10004699-1771749000-1771754400@www.rakiuracalendar.com
SUMMARY:Seido karate
DESCRIPTION:
URL:https://www.rakiuracalendar.com/event/seido-karate-2-2/2026-02-22/
LOCATION:Community Centre\, 10 Ayr Street\, Oban\, Southland\, 9818\, New Zealand
CATEGORIES:Training
ATTACH;FMTTYPE=image/png:https://www.rakiuracalendar.com/wp-content/uploads/2025/10/seido-karate-1-e1759281973823.png
ORGANIZER;CN="Nigel Fraser":MAILTO:gappx3@gmail.com
END:VEVENT
BEGIN:VEVENT
DTSTART;TZID=Pacific/Auckland:20260223T190000
DTEND;TZID=Pacific/Auckland:20260223T190000
DTSTAMP:20260421T144220
CREATED:20230529T074945Z
LAST-MODIFIED:20230530T041221Z
UID:10000722-1771873200-1771873200@www.rakiuracalendar.com
SUMMARY:Oban Fire Brigade Training Night
DESCRIPTION:Fire and Emergency NZ weekly training for the local brigade. \nCome along to see what we’re up to and if you’re interested in volunteering.
URL:https://www.rakiuracalendar.com/event/oban-fire-brigade-training-night/2026-02-23/
LOCATION:Oban Fire Station\, 6 Argyle Street\, Oban\, Southland\, 9818\, New Zealand
CATEGORIES:Community,Group meeting,Training,Volunteer
ATTACH;FMTTYPE=image/jpeg:https://www.rakiuracalendar.com/wp-content/uploads/2023/05/Screenshot_20230529_194125_Outlook.jpg
END:VEVENT
BEGIN:VEVENT
DTSTART;TZID=Pacific/Auckland:20260225T173000
DTEND;TZID=Pacific/Auckland:20260225T183000
DTSTAMP:20260421T144220
CREATED:20251001T013410Z
LAST-MODIFIED:20251002T202333Z
UID:10002888-1772040600-1772044200@www.rakiuracalendar.com
SUMMARY:Seido karate
DESCRIPTION:
URL:https://www.rakiuracalendar.com/event/seido-karate/2026-02-25/
LOCATION:Community Centre\, 10 Ayr Street\, Oban\, Southland\, 9818\, New Zealand
CATEGORIES:Training
ATTACH;FMTTYPE=image/png:https://www.rakiuracalendar.com/wp-content/uploads/2025/10/seido-karate-1-e1759281973823.png
ORGANIZER;CN="Nigel Fraser":MAILTO:gappx3@gmail.com
END:VEVENT
BEGIN:VEVENT
DTSTART;TZID=Pacific/Auckland:20260301T083000
DTEND;TZID=Pacific/Auckland:20260301T100000
DTSTAMP:20260421T144220
CREATED:20260220T204117Z
LAST-MODIFIED:20260220T204117Z
UID:10004700-1772353800-1772359200@www.rakiuracalendar.com
SUMMARY:Seido karate
DESCRIPTION:
URL:https://www.rakiuracalendar.com/event/seido-karate-2-2/2026-03-01/
LOCATION:Community Centre\, 10 Ayr Street\, Oban\, Southland\, 9818\, New Zealand
CATEGORIES:Training
ATTACH;FMTTYPE=image/png:https://www.rakiuracalendar.com/wp-content/uploads/2025/10/seido-karate-1-e1759281973823.png
ORGANIZER;CN="Nigel Fraser":MAILTO:gappx3@gmail.com
END:VEVENT
BEGIN:VEVENT
DTSTART;TZID=Pacific/Auckland:20260302T190000
DTEND;TZID=Pacific/Auckland:20260302T190000
DTSTAMP:20260421T144220
CREATED:20230529T074945Z
LAST-MODIFIED:20230530T041221Z
UID:10000723-1772478000-1772478000@www.rakiuracalendar.com
SUMMARY:Oban Fire Brigade Training Night
DESCRIPTION:Fire and Emergency NZ weekly training for the local brigade. \nCome along to see what we’re up to and if you’re interested in volunteering.
URL:https://www.rakiuracalendar.com/event/oban-fire-brigade-training-night/2026-03-02/
LOCATION:Oban Fire Station\, 6 Argyle Street\, Oban\, Southland\, 9818\, New Zealand
CATEGORIES:Community,Group meeting,Training,Volunteer
ATTACH;FMTTYPE=image/jpeg:https://www.rakiuracalendar.com/wp-content/uploads/2023/05/Screenshot_20230529_194125_Outlook.jpg
END:VEVENT
BEGIN:VEVENT
DTSTART;TZID=Pacific/Auckland:20260304T173000
DTEND;TZID=Pacific/Auckland:20260304T183000
DTSTAMP:20260421T144220
CREATED:20251001T013410Z
LAST-MODIFIED:20251002T202333Z
UID:10003279-1772645400-1772649000@www.rakiuracalendar.com
SUMMARY:Seido karate
DESCRIPTION:
URL:https://www.rakiuracalendar.com/event/seido-karate/2026-03-04/
LOCATION:Community Centre\, 10 Ayr Street\, Oban\, Southland\, 9818\, New Zealand
CATEGORIES:Training
ATTACH;FMTTYPE=image/png:https://www.rakiuracalendar.com/wp-content/uploads/2025/10/seido-karate-1-e1759281973823.png
ORGANIZER;CN="Nigel Fraser":MAILTO:gappx3@gmail.com
END:VEVENT
BEGIN:VEVENT
DTSTART;TZID=Pacific/Auckland:20260308T083000
DTEND;TZID=Pacific/Auckland:20260308T100000
DTSTAMP:20260421T144220
CREATED:20260220T204117Z
LAST-MODIFIED:20260220T204117Z
UID:10004701-1772958600-1772964000@www.rakiuracalendar.com
SUMMARY:Seido karate
DESCRIPTION:
URL:https://www.rakiuracalendar.com/event/seido-karate-2-2/2026-03-08/
LOCATION:Community Centre\, 10 Ayr Street\, Oban\, Southland\, 9818\, New Zealand
CATEGORIES:Training
ATTACH;FMTTYPE=image/png:https://www.rakiuracalendar.com/wp-content/uploads/2025/10/seido-karate-1-e1759281973823.png
ORGANIZER;CN="Nigel Fraser":MAILTO:gappx3@gmail.com
END:VEVENT
BEGIN:VEVENT
DTSTART;TZID=Pacific/Auckland:20260309T190000
DTEND;TZID=Pacific/Auckland:20260309T190000
DTSTAMP:20260421T144220
CREATED:20230529T074945Z
LAST-MODIFIED:20230530T041221Z
UID:10000724-1773082800-1773082800@www.rakiuracalendar.com
SUMMARY:Oban Fire Brigade Training Night
DESCRIPTION:Fire and Emergency NZ weekly training for the local brigade. \nCome along to see what we’re up to and if you’re interested in volunteering.
URL:https://www.rakiuracalendar.com/event/oban-fire-brigade-training-night/2026-03-09/
LOCATION:Oban Fire Station\, 6 Argyle Street\, Oban\, Southland\, 9818\, New Zealand
CATEGORIES:Community,Group meeting,Training,Volunteer
ATTACH;FMTTYPE=image/jpeg:https://www.rakiuracalendar.com/wp-content/uploads/2023/05/Screenshot_20230529_194125_Outlook.jpg
END:VEVENT
BEGIN:VEVENT
DTSTART;TZID=Pacific/Auckland:20260311T173000
DTEND;TZID=Pacific/Auckland:20260311T183000
DTSTAMP:20260421T144220
CREATED:20251001T013410Z
LAST-MODIFIED:20251002T202333Z
UID:10002889-1773250200-1773253800@www.rakiuracalendar.com
SUMMARY:Seido karate
DESCRIPTION:
URL:https://www.rakiuracalendar.com/event/seido-karate/2026-03-11/
LOCATION:Community Centre\, 10 Ayr Street\, Oban\, Southland\, 9818\, New Zealand
CATEGORIES:Training
ATTACH;FMTTYPE=image/png:https://www.rakiuracalendar.com/wp-content/uploads/2025/10/seido-karate-1-e1759281973823.png
ORGANIZER;CN="Nigel Fraser":MAILTO:gappx3@gmail.com
END:VEVENT
BEGIN:VEVENT
DTSTART;TZID=Pacific/Auckland:20260315T083000
DTEND;TZID=Pacific/Auckland:20260315T100000
DTSTAMP:20260421T144220
CREATED:20260220T204117Z
LAST-MODIFIED:20260220T204117Z
UID:10004702-1773563400-1773568800@www.rakiuracalendar.com
SUMMARY:Seido karate
DESCRIPTION:
URL:https://www.rakiuracalendar.com/event/seido-karate-2-2/2026-03-15/
LOCATION:Community Centre\, 10 Ayr Street\, Oban\, Southland\, 9818\, New Zealand
CATEGORIES:Training
ATTACH;FMTTYPE=image/png:https://www.rakiuracalendar.com/wp-content/uploads/2025/10/seido-karate-1-e1759281973823.png
ORGANIZER;CN="Nigel Fraser":MAILTO:gappx3@gmail.com
END:VEVENT
BEGIN:VEVENT
DTSTART;TZID=Pacific/Auckland:20260316T190000
DTEND;TZID=Pacific/Auckland:20260316T190000
DTSTAMP:20260421T144220
CREATED:20230529T074945Z
LAST-MODIFIED:20230530T041221Z
UID:10000725-1773687600-1773687600@www.rakiuracalendar.com
SUMMARY:Oban Fire Brigade Training Night
DESCRIPTION:Fire and Emergency NZ weekly training for the local brigade. \nCome along to see what we’re up to and if you’re interested in volunteering.
URL:https://www.rakiuracalendar.com/event/oban-fire-brigade-training-night/2026-03-16/
LOCATION:Oban Fire Station\, 6 Argyle Street\, Oban\, Southland\, 9818\, New Zealand
CATEGORIES:Community,Group meeting,Training,Volunteer
ATTACH;FMTTYPE=image/jpeg:https://www.rakiuracalendar.com/wp-content/uploads/2023/05/Screenshot_20230529_194125_Outlook.jpg
END:VEVENT
BEGIN:VEVENT
DTSTART;TZID=Pacific/Auckland:20260318T173000
DTEND;TZID=Pacific/Auckland:20260318T183000
DTSTAMP:20260421T144220
CREATED:20251001T013410Z
LAST-MODIFIED:20251002T202333Z
UID:10003280-1773855000-1773858600@www.rakiuracalendar.com
SUMMARY:Seido karate
DESCRIPTION:
URL:https://www.rakiuracalendar.com/event/seido-karate/2026-03-18/
LOCATION:Community Centre\, 10 Ayr Street\, Oban\, Southland\, 9818\, New Zealand
CATEGORIES:Training
ATTACH;FMTTYPE=image/png:https://www.rakiuracalendar.com/wp-content/uploads/2025/10/seido-karate-1-e1759281973823.png
ORGANIZER;CN="Nigel Fraser":MAILTO:gappx3@gmail.com
END:VEVENT
BEGIN:VEVENT
DTSTART;TZID=Pacific/Auckland:20260322T083000
DTEND;TZID=Pacific/Auckland:20260322T100000
DTSTAMP:20260421T144220
CREATED:20260220T204117Z
LAST-MODIFIED:20260220T204117Z
UID:10004703-1774168200-1774173600@www.rakiuracalendar.com
SUMMARY:Seido karate
DESCRIPTION:
URL:https://www.rakiuracalendar.com/event/seido-karate-2-2/2026-03-22/
LOCATION:Community Centre\, 10 Ayr Street\, Oban\, Southland\, 9818\, New Zealand
CATEGORIES:Training
ATTACH;FMTTYPE=image/png:https://www.rakiuracalendar.com/wp-content/uploads/2025/10/seido-karate-1-e1759281973823.png
ORGANIZER;CN="Nigel Fraser":MAILTO:gappx3@gmail.com
END:VEVENT
BEGIN:VEVENT
DTSTART;TZID=Pacific/Auckland:20260323T190000
DTEND;TZID=Pacific/Auckland:20260323T190000
DTSTAMP:20260421T144220
CREATED:20230529T074945Z
LAST-MODIFIED:20230530T041221Z
UID:10000726-1774292400-1774292400@www.rakiuracalendar.com
SUMMARY:Oban Fire Brigade Training Night
DESCRIPTION:Fire and Emergency NZ weekly training for the local brigade. \nCome along to see what we’re up to and if you’re interested in volunteering.
URL:https://www.rakiuracalendar.com/event/oban-fire-brigade-training-night/2026-03-23/
LOCATION:Oban Fire Station\, 6 Argyle Street\, Oban\, Southland\, 9818\, New Zealand
CATEGORIES:Community,Group meeting,Training,Volunteer
ATTACH;FMTTYPE=image/jpeg:https://www.rakiuracalendar.com/wp-content/uploads/2023/05/Screenshot_20230529_194125_Outlook.jpg
END:VEVENT
BEGIN:VEVENT
DTSTART;TZID=Pacific/Auckland:20260325T173000
DTEND;TZID=Pacific/Auckland:20260325T183000
DTSTAMP:20260421T144220
CREATED:20251001T013410Z
LAST-MODIFIED:20251002T202333Z
UID:10002890-1774459800-1774463400@www.rakiuracalendar.com
SUMMARY:Seido karate
DESCRIPTION:
URL:https://www.rakiuracalendar.com/event/seido-karate/2026-03-25/
LOCATION:Community Centre\, 10 Ayr Street\, Oban\, Southland\, 9818\, New Zealand
CATEGORIES:Training
ATTACH;FMTTYPE=image/png:https://www.rakiuracalendar.com/wp-content/uploads/2025/10/seido-karate-1-e1759281973823.png
ORGANIZER;CN="Nigel Fraser":MAILTO:gappx3@gmail.com
END:VEVENT
BEGIN:VEVENT
DTSTART;TZID=Pacific/Auckland:20260329T083000
DTEND;TZID=Pacific/Auckland:20260329T100000
DTSTAMP:20260421T144220
CREATED:20260220T204117Z
LAST-MODIFIED:20260220T204117Z
UID:10004704-1774773000-1774778400@www.rakiuracalendar.com
SUMMARY:Seido karate
DESCRIPTION:
URL:https://www.rakiuracalendar.com/event/seido-karate-2-2/2026-03-29/
LOCATION:Community Centre\, 10 Ayr Street\, Oban\, Southland\, 9818\, New Zealand
CATEGORIES:Training
ATTACH;FMTTYPE=image/png:https://www.rakiuracalendar.com/wp-content/uploads/2025/10/seido-karate-1-e1759281973823.png
ORGANIZER;CN="Nigel Fraser":MAILTO:gappx3@gmail.com
END:VEVENT
BEGIN:VEVENT
DTSTART;TZID=Pacific/Auckland:20260330T190000
DTEND;TZID=Pacific/Auckland:20260330T190000
DTSTAMP:20260421T144220
CREATED:20230529T074945Z
LAST-MODIFIED:20230530T041221Z
UID:10000727-1774897200-1774897200@www.rakiuracalendar.com
SUMMARY:Oban Fire Brigade Training Night
DESCRIPTION:Fire and Emergency NZ weekly training for the local brigade. \nCome along to see what we’re up to and if you’re interested in volunteering.
URL:https://www.rakiuracalendar.com/event/oban-fire-brigade-training-night/2026-03-30/
LOCATION:Oban Fire Station\, 6 Argyle Street\, Oban\, Southland\, 9818\, New Zealand
CATEGORIES:Community,Group meeting,Training,Volunteer
ATTACH;FMTTYPE=image/jpeg:https://www.rakiuracalendar.com/wp-content/uploads/2023/05/Screenshot_20230529_194125_Outlook.jpg
END:VEVENT
BEGIN:VEVENT
DTSTART;TZID=Pacific/Auckland:20260401T173000
DTEND;TZID=Pacific/Auckland:20260401T183000
DTSTAMP:20260421T144220
CREATED:20251001T013410Z
LAST-MODIFIED:20251002T202333Z
UID:10003281-1775064600-1775068200@www.rakiuracalendar.com
SUMMARY:Seido karate
DESCRIPTION:
URL:https://www.rakiuracalendar.com/event/seido-karate/2026-04-01/
LOCATION:Community Centre\, 10 Ayr Street\, Oban\, Southland\, 9818\, New Zealand
CATEGORIES:Training
ATTACH;FMTTYPE=image/png:https://www.rakiuracalendar.com/wp-content/uploads/2025/10/seido-karate-1-e1759281973823.png
ORGANIZER;CN="Nigel Fraser":MAILTO:gappx3@gmail.com
END:VEVENT
BEGIN:VEVENT
DTSTART;TZID=Pacific/Auckland:20260405T083000
DTEND;TZID=Pacific/Auckland:20260405T100000
DTSTAMP:20260421T144220
CREATED:20260220T204117Z
LAST-MODIFIED:20260220T204117Z
UID:10004705-1775377800-1775383200@www.rakiuracalendar.com
SUMMARY:Seido karate
DESCRIPTION:
URL:https://www.rakiuracalendar.com/event/seido-karate-2-2/2026-04-05/
LOCATION:Community Centre\, 10 Ayr Street\, Oban\, Southland\, 9818\, New Zealand
CATEGORIES:Training
ATTACH;FMTTYPE=image/png:https://www.rakiuracalendar.com/wp-content/uploads/2025/10/seido-karate-1-e1759281973823.png
ORGANIZER;CN="Nigel Fraser":MAILTO:gappx3@gmail.com
END:VEVENT
BEGIN:VEVENT
DTSTART;TZID=Pacific/Auckland:20260406T190000
DTEND;TZID=Pacific/Auckland:20260406T190000
DTSTAMP:20260421T144220
CREATED:20230529T074945Z
LAST-MODIFIED:20230530T041221Z
UID:10000728-1775502000-1775502000@www.rakiuracalendar.com
SUMMARY:Oban Fire Brigade Training Night
DESCRIPTION:Fire and Emergency NZ weekly training for the local brigade. \nCome along to see what we’re up to and if you’re interested in volunteering.
URL:https://www.rakiuracalendar.com/event/oban-fire-brigade-training-night/2026-04-06/
LOCATION:Oban Fire Station\, 6 Argyle Street\, Oban\, Southland\, 9818\, New Zealand
CATEGORIES:Community,Group meeting,Training,Volunteer
ATTACH;FMTTYPE=image/jpeg:https://www.rakiuracalendar.com/wp-content/uploads/2023/05/Screenshot_20230529_194125_Outlook.jpg
END:VEVENT
BEGIN:VEVENT
DTSTART;TZID=Pacific/Auckland:20260408T173000
DTEND;TZID=Pacific/Auckland:20260408T183000
DTSTAMP:20260421T144220
CREATED:20251001T013410Z
LAST-MODIFIED:20251002T202333Z
UID:10002891-1775669400-1775673000@www.rakiuracalendar.com
SUMMARY:Seido karate
DESCRIPTION:
URL:https://www.rakiuracalendar.com/event/seido-karate/2026-04-08/
LOCATION:Community Centre\, 10 Ayr Street\, Oban\, Southland\, 9818\, New Zealand
CATEGORIES:Training
ATTACH;FMTTYPE=image/png:https://www.rakiuracalendar.com/wp-content/uploads/2025/10/seido-karate-1-e1759281973823.png
ORGANIZER;CN="Nigel Fraser":MAILTO:gappx3@gmail.com
END:VEVENT
BEGIN:VEVENT
DTSTART;TZID=Pacific/Auckland:20260412T083000
DTEND;TZID=Pacific/Auckland:20260412T100000
DTSTAMP:20260421T144220
CREATED:20260220T204117Z
LAST-MODIFIED:20260220T204117Z
UID:10004706-1775982600-1775988000@www.rakiuracalendar.com
SUMMARY:Seido karate
DESCRIPTION:
URL:https://www.rakiuracalendar.com/event/seido-karate-2-2/2026-04-12/
LOCATION:Community Centre\, 10 Ayr Street\, Oban\, Southland\, 9818\, New Zealand
CATEGORIES:Training
ATTACH;FMTTYPE=image/png:https://www.rakiuracalendar.com/wp-content/uploads/2025/10/seido-karate-1-e1759281973823.png
ORGANIZER;CN="Nigel Fraser":MAILTO:gappx3@gmail.com
END:VEVENT
BEGIN:VEVENT
DTSTART;TZID=Pacific/Auckland:20260413T190000
DTEND;TZID=Pacific/Auckland:20260413T190000
DTSTAMP:20260421T144220
CREATED:20230529T074945Z
LAST-MODIFIED:20230530T041221Z
UID:10000729-1776106800-1776106800@www.rakiuracalendar.com
SUMMARY:Oban Fire Brigade Training Night
DESCRIPTION:Fire and Emergency NZ weekly training for the local brigade. \nCome along to see what we’re up to and if you’re interested in volunteering.
URL:https://www.rakiuracalendar.com/event/oban-fire-brigade-training-night/2026-04-13/
LOCATION:Oban Fire Station\, 6 Argyle Street\, Oban\, Southland\, 9818\, New Zealand
CATEGORIES:Community,Group meeting,Training,Volunteer
ATTACH;FMTTYPE=image/jpeg:https://www.rakiuracalendar.com/wp-content/uploads/2023/05/Screenshot_20230529_194125_Outlook.jpg
END:VEVENT
END:VCALENDAR