BEGIN:VCALENDAR
VERSION:2.0
PRODID:-//Rakiura Calendar - 2026 - ECPv6.15.20//NONSGML v1.0//EN
CALSCALE:GREGORIAN
METHOD:PUBLISH
X-ORIGINAL-URL:https://www.rakiuracalendar.com
X-WR-CALDESC:Events for Rakiura Calendar - 2026
REFRESH-INTERVAL;VALUE=DURATION:PT1H
X-Robots-Tag:noindex
X-PUBLISHED-TTL:PT1H
BEGIN:VTIMEZONE
TZID:Pacific/Auckland
BEGIN:STANDARD
TZOFFSETFROM:+1300
TZOFFSETTO:+1200
TZNAME:NZST
DTSTART:20230401T140000
END:STANDARD
BEGIN:DAYLIGHT
TZOFFSETFROM:+1200
TZOFFSETTO:+1300
TZNAME:NZDT
DTSTART:20230923T140000
END:DAYLIGHT
BEGIN:STANDARD
TZOFFSETFROM:+1300
TZOFFSETTO:+1200
TZNAME:NZST
DTSTART:20240406T140000
END:STANDARD
BEGIN:DAYLIGHT
TZOFFSETFROM:+1200
TZOFFSETTO:+1300
TZNAME:NZDT
DTSTART:20240928T140000
END:DAYLIGHT
BEGIN:STANDARD
TZOFFSETFROM:+1300
TZOFFSETTO:+1200
TZNAME:NZST
DTSTART:20250405T140000
END:STANDARD
BEGIN:DAYLIGHT
TZOFFSETFROM:+1200
TZOFFSETTO:+1300
TZNAME:NZDT
DTSTART:20250927T140000
END:DAYLIGHT
END:VTIMEZONE
BEGIN:VEVENT
DTSTART;TZID=Pacific/Auckland:20240624T100000
DTEND;TZID=Pacific/Auckland:20240624T110000
DTSTAMP:20260424T200903
CREATED:20230528T220851Z
LAST-MODIFIED:20230729T065001Z
UID:10000149-1719223200-1719226800@www.rakiuracalendar.com
SUMMARY:Tai chi
DESCRIPTION:Tai chi every Monday and Thursday- relaxed pace and beginners welcome! Gold coin donation.
URL:https://www.rakiuracalendar.com/event/tai-chi/2024-06-24/
LOCATION:RSA Pavilion\, 7 Ayr Street\, Oban\, Southland\, 9818\, New Zealand
CATEGORIES:Sport,Wellbeing
ATTACH;FMTTYPE=image/jpeg:https://www.rakiuracalendar.com/wp-content/uploads/2023/05/20230408_115141-e1690613375334.jpg
END:VEVENT
BEGIN:VEVENT
DTSTART;TZID=Pacific/Auckland:20240624T190000
DTEND;TZID=Pacific/Auckland:20240624T190000
DTSTAMP:20260424T200903
CREATED:20230529T074945Z
LAST-MODIFIED:20230530T041221Z
UID:10000635-1719255600-1719255600@www.rakiuracalendar.com
SUMMARY:Oban Fire Brigade Training Night
DESCRIPTION:Fire and Emergency NZ weekly training for the local brigade. \nCome along to see what we’re up to and if you’re interested in volunteering.
URL:https://www.rakiuracalendar.com/event/oban-fire-brigade-training-night/2024-06-24/
LOCATION:Oban Fire Station\, 6 Argyle Street\, Oban\, Southland\, 9818\, New Zealand
CATEGORIES:Community,Group meeting,Training,Volunteer
ATTACH;FMTTYPE=image/jpeg:https://www.rakiuracalendar.com/wp-content/uploads/2023/05/Screenshot_20230529_194125_Outlook.jpg
END:VEVENT
BEGIN:VEVENT
DTSTART;TZID=Pacific/Auckland:20240625T190000
DTEND;TZID=Pacific/Auckland:20240625T203000
DTSTAMP:20260424T200903
CREATED:20240119T223017Z
LAST-MODIFIED:20240119T223017Z
UID:10001382-1719342000-1719347400@www.rakiuracalendar.com
SUMMARY:Rakiura LandSAR Committee Meeting
DESCRIPTION:Monthly meeting of the Stewart Island/Rakiura Land Search and Rescue volunteer group. \nMeetings are held at the Oban Fire Station on the last Tuesday of every month. \nContact our Secretary – Jon Spraggon for more information.
URL:https://www.rakiuracalendar.com/event/rakiura-landsar-committee-meeting-8/2024-06-25/
LOCATION:Southland
CATEGORIES:Emergency services,Volunteer
ATTACH;FMTTYPE=image/jpeg:https://www.rakiuracalendar.com/wp-content/uploads/Logos/Logo.jpg
ORGANIZER;CN="Rakiura LandSAR":MAILTO:stewartisland@landsar.org.nz
END:VEVENT
BEGIN:VEVENT
DTSTART;TZID=Pacific/Auckland:20240626T130000
DTEND;TZID=Pacific/Auckland:20240626T150000
DTSTAMP:20260424T200903
CREATED:20230522T053215Z
LAST-MODIFIED:20230823T001926Z
UID:10001040-1719406800-1719414000@www.rakiuracalendar.com
SUMMARY:Community Nursery – Plant & Plot
DESCRIPTION:Join us up at the community nursery as we propagate native plants\, and have a chat. It is a great way to learn more about the plants of Rakiura. \nPlease bring your own gardening gloves\, sturdy footwear\, weather appropriate clothing\, and a drink and snack. \nEVERYONE WELCOME!
URL:https://www.rakiuracalendar.com/event/community-nursery-2/2024-06-26/
LOCATION:Traill Park Nursery\, Golden Bay Rd\, Stewart Island\, New Zealand
CATEGORIES:Community,Conservation,Volunteer
ATTACH;FMTTYPE=image/jpeg:https://www.rakiuracalendar.com/wp-content/uploads/Events/P1020178-scaled.jpg
ORGANIZER;CN="SIRCET":MAILTO:community@sircet.org.nz
END:VEVENT
BEGIN:VEVENT
DTSTART;TZID=Pacific/Auckland:20240626T173000
DTEND;TZID=Pacific/Auckland:20240626T183000
DTSTAMP:20260424T200903
CREATED:20230713T015633Z
LAST-MODIFIED:20230719T063919Z
UID:10000910-1719423000-1719426600@www.rakiuracalendar.com
SUMMARY:Animal Flow
DESCRIPTION:Animal Flow is a ground based bodyweight exercise system developed by Mike Fitch and with roots in yoga\, Pilates and breakdance. It can be adapted to be accessible to moderately fit people or to challenge the very fit.
URL:https://www.rakiuracalendar.com/event/animal-flow/2024-06-26/
LOCATION:St Andrews Anglican Church Hall\, 10 Excelsior Road\, Oban\, 9818\, New Zealand
CATEGORIES:Health,Sport,Training,Wellbeing
ATTACH;FMTTYPE=image/png:https://www.rakiuracalendar.com/wp-content/uploads/2023/07/Animal-Flow.png
ORGANIZER;CN="Bill Watt":MAILTO:williamwatt@outlook.co.nz
END:VEVENT
BEGIN:VEVENT
DTSTART;TZID=Pacific/Auckland:20240627T100000
DTEND;TZID=Pacific/Auckland:20240627T110000
DTSTAMP:20260424T200903
CREATED:20230528T220851Z
LAST-MODIFIED:20230729T065001Z
UID:10000150-1719482400-1719486000@www.rakiuracalendar.com
SUMMARY:Tai chi
DESCRIPTION:Tai chi every Monday and Thursday- relaxed pace and beginners welcome! Gold coin donation.
URL:https://www.rakiuracalendar.com/event/tai-chi/2024-06-27/
LOCATION:RSA Pavilion\, 7 Ayr Street\, Oban\, Southland\, 9818\, New Zealand
CATEGORIES:Sport,Wellbeing
ATTACH;FMTTYPE=image/jpeg:https://www.rakiuracalendar.com/wp-content/uploads/2023/05/20230408_115141-e1690613375334.jpg
END:VEVENT
BEGIN:VEVENT
DTSTART;VALUE=DATE:20240628
DTEND;VALUE=DATE:20240630
DTSTAMP:20260424T200903
CREATED:20240326T041957Z
LAST-MODIFIED:20240614T014924Z
UID:10001459-1719532800-1719705599@www.rakiuracalendar.com
SUMMARY:Whenua Hou 25 years predator free
DESCRIPTION:
URL:https://www.rakiuracalendar.com/event/whenua-hou-25-years-predator-free/
LOCATION:Community Centre\, 10 Ayr Street\, Oban\, Southland\, 9818\, New Zealand
CATEGORIES:Conservation
ATTACH;FMTTYPE=image/png:https://www.rakiuracalendar.com/wp-content/uploads/2024/03/Whenua-Hou-FB-Image-Square.png
ORGANIZER;CN="Whenua Hou Komiti":MAILTO:whenuahoucommittee@doc.govt.nz
END:VEVENT
BEGIN:VEVENT
DTSTART;VALUE=DATE:20240628
DTEND;VALUE=DATE:20240630
DTSTAMP:20260424T200903
CREATED:20240624T072059Z
LAST-MODIFIED:20240624T072127Z
UID:10001587-1719532800-1719705599@www.rakiuracalendar.com
SUMMARY:Te Mātahi O Te Tau Matariki
DESCRIPTION:
URL:https://www.rakiuracalendar.com/event/te-matahi-o-te-tau-matariki/
LOCATION:Southland
CATEGORIES:Community
ATTACH;FMTTYPE=image/jpeg:https://www.rakiuracalendar.com/wp-content/uploads/2024/06/1000006755.jpg
END:VEVENT
BEGIN:VEVENT
DTSTART;TZID=Pacific/Auckland:20240701T100000
DTEND;TZID=Pacific/Auckland:20240701T110000
DTSTAMP:20260424T200903
CREATED:20230528T220851Z
LAST-MODIFIED:20230729T065001Z
UID:10000151-1719828000-1719831600@www.rakiuracalendar.com
SUMMARY:Tai chi
DESCRIPTION:Tai chi every Monday and Thursday- relaxed pace and beginners welcome! Gold coin donation.
URL:https://www.rakiuracalendar.com/event/tai-chi/2024-07-01/
LOCATION:RSA Pavilion\, 7 Ayr Street\, Oban\, Southland\, 9818\, New Zealand
CATEGORIES:Sport,Wellbeing
ATTACH;FMTTYPE=image/jpeg:https://www.rakiuracalendar.com/wp-content/uploads/2023/05/20230408_115141-e1690613375334.jpg
END:VEVENT
BEGIN:VEVENT
DTSTART;TZID=Pacific/Auckland:20240701T190000
DTEND;TZID=Pacific/Auckland:20240701T190000
DTSTAMP:20260424T200903
CREATED:20230529T074945Z
LAST-MODIFIED:20230530T041221Z
UID:10000636-1719860400-1719860400@www.rakiuracalendar.com
SUMMARY:Oban Fire Brigade Training Night
DESCRIPTION:Fire and Emergency NZ weekly training for the local brigade. \nCome along to see what we’re up to and if you’re interested in volunteering.
URL:https://www.rakiuracalendar.com/event/oban-fire-brigade-training-night/2024-07-01/
LOCATION:Oban Fire Station\, 6 Argyle Street\, Oban\, Southland\, 9818\, New Zealand
CATEGORIES:Community,Group meeting,Training,Volunteer
ATTACH;FMTTYPE=image/jpeg:https://www.rakiuracalendar.com/wp-content/uploads/2023/05/Screenshot_20230529_194125_Outlook.jpg
END:VEVENT
BEGIN:VEVENT
DTSTART;TZID=Pacific/Auckland:20240703T130000
DTEND;TZID=Pacific/Auckland:20240703T150000
DTSTAMP:20260424T200903
CREATED:20230522T053215Z
LAST-MODIFIED:20230823T001926Z
UID:10001041-1720011600-1720018800@www.rakiuracalendar.com
SUMMARY:Community Nursery – Plant & Plot
DESCRIPTION:Join us up at the community nursery as we propagate native plants\, and have a chat. It is a great way to learn more about the plants of Rakiura. \nPlease bring your own gardening gloves\, sturdy footwear\, weather appropriate clothing\, and a drink and snack. \nEVERYONE WELCOME!
URL:https://www.rakiuracalendar.com/event/community-nursery-2/2024-07-03/
LOCATION:Traill Park Nursery\, Golden Bay Rd\, Stewart Island\, New Zealand
CATEGORIES:Community,Conservation,Volunteer
ATTACH;FMTTYPE=image/jpeg:https://www.rakiuracalendar.com/wp-content/uploads/Events/P1020178-scaled.jpg
ORGANIZER;CN="SIRCET":MAILTO:community@sircet.org.nz
END:VEVENT
BEGIN:VEVENT
DTSTART;TZID=Pacific/Auckland:20240703T173000
DTEND;TZID=Pacific/Auckland:20240703T183000
DTSTAMP:20260424T200903
CREATED:20230713T015633Z
LAST-MODIFIED:20230719T063919Z
UID:10000911-1720027800-1720031400@www.rakiuracalendar.com
SUMMARY:Animal Flow
DESCRIPTION:Animal Flow is a ground based bodyweight exercise system developed by Mike Fitch and with roots in yoga\, Pilates and breakdance. It can be adapted to be accessible to moderately fit people or to challenge the very fit.
URL:https://www.rakiuracalendar.com/event/animal-flow/2024-07-03/
LOCATION:St Andrews Anglican Church Hall\, 10 Excelsior Road\, Oban\, 9818\, New Zealand
CATEGORIES:Health,Sport,Training,Wellbeing
ATTACH;FMTTYPE=image/png:https://www.rakiuracalendar.com/wp-content/uploads/2023/07/Animal-Flow.png
ORGANIZER;CN="Bill Watt":MAILTO:williamwatt@outlook.co.nz
END:VEVENT
BEGIN:VEVENT
DTSTART;TZID=Pacific/Auckland:20240704T100000
DTEND;TZID=Pacific/Auckland:20240704T110000
DTSTAMP:20260424T200903
CREATED:20230528T220851Z
LAST-MODIFIED:20230729T065001Z
UID:10000152-1720087200-1720090800@www.rakiuracalendar.com
SUMMARY:Tai chi
DESCRIPTION:Tai chi every Monday and Thursday- relaxed pace and beginners welcome! Gold coin donation.
URL:https://www.rakiuracalendar.com/event/tai-chi/2024-07-04/
LOCATION:RSA Pavilion\, 7 Ayr Street\, Oban\, Southland\, 9818\, New Zealand
CATEGORIES:Sport,Wellbeing
ATTACH;FMTTYPE=image/jpeg:https://www.rakiuracalendar.com/wp-content/uploads/2023/05/20230408_115141-e1690613375334.jpg
END:VEVENT
BEGIN:VEVENT
DTSTART;TZID=Pacific/Auckland:20240708T100000
DTEND;TZID=Pacific/Auckland:20240708T110000
DTSTAMP:20260424T200903
CREATED:20230528T220851Z
LAST-MODIFIED:20230729T065001Z
UID:10000153-1720432800-1720436400@www.rakiuracalendar.com
SUMMARY:Tai chi
DESCRIPTION:Tai chi every Monday and Thursday- relaxed pace and beginners welcome! Gold coin donation.
URL:https://www.rakiuracalendar.com/event/tai-chi/2024-07-08/
LOCATION:RSA Pavilion\, 7 Ayr Street\, Oban\, Southland\, 9818\, New Zealand
CATEGORIES:Sport,Wellbeing
ATTACH;FMTTYPE=image/jpeg:https://www.rakiuracalendar.com/wp-content/uploads/2023/05/20230408_115141-e1690613375334.jpg
END:VEVENT
BEGIN:VEVENT
DTSTART;TZID=Pacific/Auckland:20240708T190000
DTEND;TZID=Pacific/Auckland:20240708T190000
DTSTAMP:20260424T200903
CREATED:20230529T074945Z
LAST-MODIFIED:20230530T041221Z
UID:10000637-1720465200-1720465200@www.rakiuracalendar.com
SUMMARY:Oban Fire Brigade Training Night
DESCRIPTION:Fire and Emergency NZ weekly training for the local brigade. \nCome along to see what we’re up to and if you’re interested in volunteering.
URL:https://www.rakiuracalendar.com/event/oban-fire-brigade-training-night/2024-07-08/
LOCATION:Oban Fire Station\, 6 Argyle Street\, Oban\, Southland\, 9818\, New Zealand
CATEGORIES:Community,Group meeting,Training,Volunteer
ATTACH;FMTTYPE=image/jpeg:https://www.rakiuracalendar.com/wp-content/uploads/2023/05/Screenshot_20230529_194125_Outlook.jpg
END:VEVENT
BEGIN:VEVENT
DTSTART;TZID=Pacific/Auckland:20240709T193000
DTEND;TZID=Pacific/Auckland:20240709T210000
DTSTAMP:20260424T200903
CREATED:20240603T215431Z
LAST-MODIFIED:20240603T215432Z
UID:10001528-1720553400-1720558800@www.rakiuracalendar.com
SUMMARY:Future Rakiura Committee Meeting
DESCRIPTION:Monthly meeting of the Future Rakiura Committee to progress community projects.
URL:https://www.rakiuracalendar.com/event/future-rakiura-committee-meeting-10-2-2/2024-07-09/
LOCATION:Southland
CATEGORIES:Community
ATTACH;FMTTYPE=image/png:https://www.rakiuracalendar.com/wp-content/uploads/Logos/Logo.png
ORGANIZER;CN="Future Rakiura":MAILTO:rakiura.future@gmail.com
END:VEVENT
BEGIN:VEVENT
DTSTART;TZID=Pacific/Auckland:20240710T130000
DTEND;TZID=Pacific/Auckland:20240710T150000
DTSTAMP:20260424T200903
CREATED:20230522T053215Z
LAST-MODIFIED:20230823T001926Z
UID:10001042-1720616400-1720623600@www.rakiuracalendar.com
SUMMARY:Community Nursery – Plant & Plot
DESCRIPTION:Join us up at the community nursery as we propagate native plants\, and have a chat. It is a great way to learn more about the plants of Rakiura. \nPlease bring your own gardening gloves\, sturdy footwear\, weather appropriate clothing\, and a drink and snack. \nEVERYONE WELCOME!
URL:https://www.rakiuracalendar.com/event/community-nursery-2/2024-07-10/
LOCATION:Traill Park Nursery\, Golden Bay Rd\, Stewart Island\, New Zealand
CATEGORIES:Community,Conservation,Volunteer
ATTACH;FMTTYPE=image/jpeg:https://www.rakiuracalendar.com/wp-content/uploads/Events/P1020178-scaled.jpg
ORGANIZER;CN="SIRCET":MAILTO:community@sircet.org.nz
END:VEVENT
BEGIN:VEVENT
DTSTART;TZID=Pacific/Auckland:20240710T173000
DTEND;TZID=Pacific/Auckland:20240710T183000
DTSTAMP:20260424T200903
CREATED:20230713T015633Z
LAST-MODIFIED:20230719T063919Z
UID:10000912-1720632600-1720636200@www.rakiuracalendar.com
SUMMARY:Animal Flow
DESCRIPTION:Animal Flow is a ground based bodyweight exercise system developed by Mike Fitch and with roots in yoga\, Pilates and breakdance. It can be adapted to be accessible to moderately fit people or to challenge the very fit.
URL:https://www.rakiuracalendar.com/event/animal-flow/2024-07-10/
LOCATION:St Andrews Anglican Church Hall\, 10 Excelsior Road\, Oban\, 9818\, New Zealand
CATEGORIES:Health,Sport,Training,Wellbeing
ATTACH;FMTTYPE=image/png:https://www.rakiuracalendar.com/wp-content/uploads/2023/07/Animal-Flow.png
ORGANIZER;CN="Bill Watt":MAILTO:williamwatt@outlook.co.nz
END:VEVENT
BEGIN:VEVENT
DTSTART;TZID=Pacific/Auckland:20240711T100000
DTEND;TZID=Pacific/Auckland:20240711T110000
DTSTAMP:20260424T200903
CREATED:20230528T220851Z
LAST-MODIFIED:20230729T065001Z
UID:10000154-1720692000-1720695600@www.rakiuracalendar.com
SUMMARY:Tai chi
DESCRIPTION:Tai chi every Monday and Thursday- relaxed pace and beginners welcome! Gold coin donation.
URL:https://www.rakiuracalendar.com/event/tai-chi/2024-07-11/
LOCATION:RSA Pavilion\, 7 Ayr Street\, Oban\, Southland\, 9818\, New Zealand
CATEGORIES:Sport,Wellbeing
ATTACH;FMTTYPE=image/jpeg:https://www.rakiuracalendar.com/wp-content/uploads/2023/05/20230408_115141-e1690613375334.jpg
END:VEVENT
BEGIN:VEVENT
DTSTART;TZID=Pacific/Auckland:20240711T190000
DTEND;TZID=Pacific/Auckland:20240711T203000
DTSTAMP:20260424T200903
CREATED:20240707T003639Z
LAST-MODIFIED:20240707T003639Z
UID:10001591-1720724400-1720729800@www.rakiuracalendar.com
SUMMARY:Badminton
DESCRIPTION:
URL:https://www.rakiuracalendar.com/event/badminton-3/2024-07-11/
LOCATION:Community Centre\, 10 Ayr Street\, Oban\, Southland\, 9818\, New Zealand
CATEGORIES:Sport
ATTACH;FMTTYPE=image/jpeg:https://www.rakiuracalendar.com/wp-content/uploads/Events/20230523_152053-scaled-e1720312483151.jpg
END:VEVENT
BEGIN:VEVENT
DTSTART;TZID=Pacific/Auckland:20240715T100000
DTEND;TZID=Pacific/Auckland:20240715T110000
DTSTAMP:20260424T200903
CREATED:20230528T220851Z
LAST-MODIFIED:20230729T065001Z
UID:10000155-1721037600-1721041200@www.rakiuracalendar.com
SUMMARY:Tai chi
DESCRIPTION:Tai chi every Monday and Thursday- relaxed pace and beginners welcome! Gold coin donation.
URL:https://www.rakiuracalendar.com/event/tai-chi/2024-07-15/
LOCATION:RSA Pavilion\, 7 Ayr Street\, Oban\, Southland\, 9818\, New Zealand
CATEGORIES:Sport,Wellbeing
ATTACH;FMTTYPE=image/jpeg:https://www.rakiuracalendar.com/wp-content/uploads/2023/05/20230408_115141-e1690613375334.jpg
END:VEVENT
BEGIN:VEVENT
DTSTART;TZID=Pacific/Auckland:20240715T190000
DTEND;TZID=Pacific/Auckland:20240715T190000
DTSTAMP:20260424T200903
CREATED:20230529T074945Z
LAST-MODIFIED:20230530T041221Z
UID:10000638-1721070000-1721070000@www.rakiuracalendar.com
SUMMARY:Oban Fire Brigade Training Night
DESCRIPTION:Fire and Emergency NZ weekly training for the local brigade. \nCome along to see what we’re up to and if you’re interested in volunteering.
URL:https://www.rakiuracalendar.com/event/oban-fire-brigade-training-night/2024-07-15/
LOCATION:Oban Fire Station\, 6 Argyle Street\, Oban\, Southland\, 9818\, New Zealand
CATEGORIES:Community,Group meeting,Training,Volunteer
ATTACH;FMTTYPE=image/jpeg:https://www.rakiuracalendar.com/wp-content/uploads/2023/05/Screenshot_20230529_194125_Outlook.jpg
END:VEVENT
BEGIN:VEVENT
DTSTART;TZID=Pacific/Auckland:20240717T130000
DTEND;TZID=Pacific/Auckland:20240717T150000
DTSTAMP:20260424T200903
CREATED:20230522T053215Z
LAST-MODIFIED:20230823T001926Z
UID:10001043-1721221200-1721228400@www.rakiuracalendar.com
SUMMARY:Community Nursery – Plant & Plot
DESCRIPTION:Join us up at the community nursery as we propagate native plants\, and have a chat. It is a great way to learn more about the plants of Rakiura. \nPlease bring your own gardening gloves\, sturdy footwear\, weather appropriate clothing\, and a drink and snack. \nEVERYONE WELCOME!
URL:https://www.rakiuracalendar.com/event/community-nursery-2/2024-07-17/
LOCATION:Traill Park Nursery\, Golden Bay Rd\, Stewart Island\, New Zealand
CATEGORIES:Community,Conservation,Volunteer
ATTACH;FMTTYPE=image/jpeg:https://www.rakiuracalendar.com/wp-content/uploads/Events/P1020178-scaled.jpg
ORGANIZER;CN="SIRCET":MAILTO:community@sircet.org.nz
END:VEVENT
BEGIN:VEVENT
DTSTART;TZID=Pacific/Auckland:20240717T173000
DTEND;TZID=Pacific/Auckland:20240717T183000
DTSTAMP:20260424T200903
CREATED:20230713T015633Z
LAST-MODIFIED:20230719T063919Z
UID:10000913-1721237400-1721241000@www.rakiuracalendar.com
SUMMARY:Animal Flow
DESCRIPTION:Animal Flow is a ground based bodyweight exercise system developed by Mike Fitch and with roots in yoga\, Pilates and breakdance. It can be adapted to be accessible to moderately fit people or to challenge the very fit.
URL:https://www.rakiuracalendar.com/event/animal-flow/2024-07-17/
LOCATION:St Andrews Anglican Church Hall\, 10 Excelsior Road\, Oban\, 9818\, New Zealand
CATEGORIES:Health,Sport,Training,Wellbeing
ATTACH;FMTTYPE=image/png:https://www.rakiuracalendar.com/wp-content/uploads/2023/07/Animal-Flow.png
ORGANIZER;CN="Bill Watt":MAILTO:williamwatt@outlook.co.nz
END:VEVENT
BEGIN:VEVENT
DTSTART;TZID=Pacific/Auckland:20240718T100000
DTEND;TZID=Pacific/Auckland:20240718T110000
DTSTAMP:20260424T200903
CREATED:20230528T220851Z
LAST-MODIFIED:20230729T065001Z
UID:10000156-1721296800-1721300400@www.rakiuracalendar.com
SUMMARY:Tai chi
DESCRIPTION:Tai chi every Monday and Thursday- relaxed pace and beginners welcome! Gold coin donation.
URL:https://www.rakiuracalendar.com/event/tai-chi/2024-07-18/
LOCATION:RSA Pavilion\, 7 Ayr Street\, Oban\, Southland\, 9818\, New Zealand
CATEGORIES:Sport,Wellbeing
ATTACH;FMTTYPE=image/jpeg:https://www.rakiuracalendar.com/wp-content/uploads/2023/05/20230408_115141-e1690613375334.jpg
END:VEVENT
BEGIN:VEVENT
DTSTART;TZID=Pacific/Auckland:20240718T190000
DTEND;TZID=Pacific/Auckland:20240718T203000
DTSTAMP:20260424T200903
CREATED:20240707T003639Z
LAST-MODIFIED:20240707T003639Z
UID:10001592-1721329200-1721334600@www.rakiuracalendar.com
SUMMARY:Badminton
DESCRIPTION:
URL:https://www.rakiuracalendar.com/event/badminton-3/2024-07-18/
LOCATION:Community Centre\, 10 Ayr Street\, Oban\, Southland\, 9818\, New Zealand
CATEGORIES:Sport
ATTACH;FMTTYPE=image/jpeg:https://www.rakiuracalendar.com/wp-content/uploads/Events/20230523_152053-scaled-e1720312483151.jpg
END:VEVENT
BEGIN:VEVENT
DTSTART;TZID=Pacific/Auckland:20240722T100000
DTEND;TZID=Pacific/Auckland:20240722T110000
DTSTAMP:20260424T200903
CREATED:20230528T220851Z
LAST-MODIFIED:20230729T065001Z
UID:10000157-1721642400-1721646000@www.rakiuracalendar.com
SUMMARY:Tai chi
DESCRIPTION:Tai chi every Monday and Thursday- relaxed pace and beginners welcome! Gold coin donation.
URL:https://www.rakiuracalendar.com/event/tai-chi/2024-07-22/
LOCATION:RSA Pavilion\, 7 Ayr Street\, Oban\, Southland\, 9818\, New Zealand
CATEGORIES:Sport,Wellbeing
ATTACH;FMTTYPE=image/jpeg:https://www.rakiuracalendar.com/wp-content/uploads/2023/05/20230408_115141-e1690613375334.jpg
END:VEVENT
BEGIN:VEVENT
DTSTART;TZID=Pacific/Auckland:20240722T190000
DTEND;TZID=Pacific/Auckland:20240722T190000
DTSTAMP:20260424T200903
CREATED:20230529T074945Z
LAST-MODIFIED:20230530T041221Z
UID:10000639-1721674800-1721674800@www.rakiuracalendar.com
SUMMARY:Oban Fire Brigade Training Night
DESCRIPTION:Fire and Emergency NZ weekly training for the local brigade. \nCome along to see what we’re up to and if you’re interested in volunteering.
URL:https://www.rakiuracalendar.com/event/oban-fire-brigade-training-night/2024-07-22/
LOCATION:Oban Fire Station\, 6 Argyle Street\, Oban\, Southland\, 9818\, New Zealand
CATEGORIES:Community,Group meeting,Training,Volunteer
ATTACH;FMTTYPE=image/jpeg:https://www.rakiuracalendar.com/wp-content/uploads/2023/05/Screenshot_20230529_194125_Outlook.jpg
END:VEVENT
BEGIN:VEVENT
DTSTART;TZID=Pacific/Auckland:20240724T130000
DTEND;TZID=Pacific/Auckland:20240724T150000
DTSTAMP:20260424T200903
CREATED:20230522T053215Z
LAST-MODIFIED:20230823T001926Z
UID:10001044-1721826000-1721833200@www.rakiuracalendar.com
SUMMARY:Community Nursery – Plant & Plot
DESCRIPTION:Join us up at the community nursery as we propagate native plants\, and have a chat. It is a great way to learn more about the plants of Rakiura. \nPlease bring your own gardening gloves\, sturdy footwear\, weather appropriate clothing\, and a drink and snack. \nEVERYONE WELCOME!
URL:https://www.rakiuracalendar.com/event/community-nursery-2/2024-07-24/
LOCATION:Traill Park Nursery\, Golden Bay Rd\, Stewart Island\, New Zealand
CATEGORIES:Community,Conservation,Volunteer
ATTACH;FMTTYPE=image/jpeg:https://www.rakiuracalendar.com/wp-content/uploads/Events/P1020178-scaled.jpg
ORGANIZER;CN="SIRCET":MAILTO:community@sircet.org.nz
END:VEVENT
BEGIN:VEVENT
DTSTART;TZID=Pacific/Auckland:20240724T173000
DTEND;TZID=Pacific/Auckland:20240724T183000
DTSTAMP:20260424T200903
CREATED:20230713T015633Z
LAST-MODIFIED:20230719T063919Z
UID:10000914-1721842200-1721845800@www.rakiuracalendar.com
SUMMARY:Animal Flow
DESCRIPTION:Animal Flow is a ground based bodyweight exercise system developed by Mike Fitch and with roots in yoga\, Pilates and breakdance. It can be adapted to be accessible to moderately fit people or to challenge the very fit.
URL:https://www.rakiuracalendar.com/event/animal-flow/2024-07-24/
LOCATION:St Andrews Anglican Church Hall\, 10 Excelsior Road\, Oban\, 9818\, New Zealand
CATEGORIES:Health,Sport,Training,Wellbeing
ATTACH;FMTTYPE=image/png:https://www.rakiuracalendar.com/wp-content/uploads/2023/07/Animal-Flow.png
ORGANIZER;CN="Bill Watt":MAILTO:williamwatt@outlook.co.nz
END:VEVENT
END:VCALENDAR