BEGIN:VCALENDAR
VERSION:2.0
PRODID:-//Rakiura Calendar - 2026 - ECPv6.15.20//NONSGML v1.0//EN
CALSCALE:GREGORIAN
METHOD:PUBLISH
X-WR-CALNAME:Rakiura Calendar - 2026
X-ORIGINAL-URL:https://www.rakiuracalendar.com
X-WR-CALDESC:Events for Rakiura Calendar - 2026
REFRESH-INTERVAL;VALUE=DURATION:PT1H
X-Robots-Tag:noindex
X-PUBLISHED-TTL:PT1H
BEGIN:VTIMEZONE
TZID:Pacific/Auckland
BEGIN:STANDARD
TZOFFSETFROM:+1300
TZOFFSETTO:+1200
TZNAME:NZST
DTSTART:20270403T140000
END:STANDARD
BEGIN:DAYLIGHT
TZOFFSETFROM:+1200
TZOFFSETTO:+1300
TZNAME:NZDT
DTSTART:20270925T140000
END:DAYLIGHT
BEGIN:STANDARD
TZOFFSETFROM:+1300
TZOFFSETTO:+1200
TZNAME:NZST
DTSTART:20280401T140000
END:STANDARD
BEGIN:DAYLIGHT
TZOFFSETFROM:+1200
TZOFFSETTO:+1300
TZNAME:NZDT
DTSTART:20280923T140000
END:DAYLIGHT
BEGIN:STANDARD
TZOFFSETFROM:+1300
TZOFFSETTO:+1200
TZNAME:NZST
DTSTART:20290331T140000
END:STANDARD
BEGIN:DAYLIGHT
TZOFFSETFROM:+1200
TZOFFSETTO:+1300
TZNAME:NZDT
DTSTART:20290929T140000
END:DAYLIGHT
END:VTIMEZONE
BEGIN:VEVENT
DTSTART;TZID=Pacific/Auckland:20280119T130000
DTEND;TZID=Pacific/Auckland:20280119T150000
DTSTAMP:20260420T190810
CREATED:20240817T050438Z
LAST-MODIFIED:20240817T050438Z
UID:10001784-1831899600-1831906800@www.rakiuracalendar.com
SUMMARY:SIRCET Plant & Plot
DESCRIPTION:
URL:https://www.rakiuracalendar.com/event/sircet-plant-plot/2028-01-19/
LOCATION:Southland
CATEGORIES:Conservation,Outdoors
ATTACH;FMTTYPE=image/jpeg:https://www.rakiuracalendar.com/wp-content/uploads/2024/08/att.VyK46gQo0TKr71KN42gRUydL05kP9F9IqEFgaB4_nlM-1-e1723871006841.jpg
ORGANIZER;CN="SIRCET":MAILTO:community@sircet.org.nz
END:VEVENT
BEGIN:VEVENT
DTSTART;TZID=Pacific/Auckland:20280119T173000
DTEND;TZID=Pacific/Auckland:20280119T183000
DTSTAMP:20260420T190810
CREATED:20251001T013410Z
LAST-MODIFIED:20251002T202333Z
UID:10003328-1831915800-1831919400@www.rakiuracalendar.com
SUMMARY:Seido karate
DESCRIPTION:
URL:https://www.rakiuracalendar.com/event/seido-karate/2028-01-19/
LOCATION:Community Centre\, 10 Ayr Street\, Oban\, Southland\, 9818\, New Zealand
CATEGORIES:Training
ATTACH;FMTTYPE=image/png:https://www.rakiuracalendar.com/wp-content/uploads/2025/10/seido-karate-1-e1759281973823.png
ORGANIZER;CN="Nigel Fraser":MAILTO:gappx3@gmail.com
END:VEVENT
BEGIN:VEVENT
DTSTART;TZID=Pacific/Auckland:20280119T190000
DTEND;TZID=Pacific/Auckland:20280119T203000
DTSTAMP:20260420T190810
CREATED:20260124T210428Z
LAST-MODIFIED:20260310T194853Z
UID:10003655-1831921200-1831926600@www.rakiuracalendar.com
SUMMARY:Winter Jam Session
DESCRIPTION:Come along to the Oban Volunteer Fire Brigade Station to hear some of our local music enthusiasts jamming. Better yet\, bring your instrument of choice and join in. \nGold coin donation to support the Oban Volunteer Fire Brigade participation in the Wajax pump competition.
URL:https://www.rakiuracalendar.com/event/winter-jam-session-2-2-2/2028-01-19/
LOCATION:Oban Fire Station\, 6 Argyle Street\, Oban\, Southland\, 9818\, New Zealand
CATEGORIES:Music
ATTACH;FMTTYPE=image/jpeg:https://www.rakiuracalendar.com/wp-content/uploads/2025/07/pexels-bigbagfilms-8512617-scaled-e1752641177610.jpg
END:VEVENT
BEGIN:VEVENT
DTSTART;TZID=Pacific/Auckland:20280123T083000
DTEND;TZID=Pacific/Auckland:20280123T100000
DTSTAMP:20260420T190810
CREATED:20260220T204117Z
LAST-MODIFIED:20260220T204117Z
UID:10004799-1832229000-1832234400@www.rakiuracalendar.com
SUMMARY:Seido karate
DESCRIPTION:
URL:https://www.rakiuracalendar.com/event/seido-karate-2-2/2028-01-23/
LOCATION:Community Centre\, 10 Ayr Street\, Oban\, Southland\, 9818\, New Zealand
CATEGORIES:Training
ATTACH;FMTTYPE=image/png:https://www.rakiuracalendar.com/wp-content/uploads/2025/10/seido-karate-1-e1759281973823.png
ORGANIZER;CN="Nigel Fraser":MAILTO:gappx3@gmail.com
END:VEVENT
BEGIN:VEVENT
DTSTART;TZID=Pacific/Auckland:20280124T190000
DTEND;TZID=Pacific/Auckland:20280124T190000
DTSTAMP:20260420T190810
CREATED:20230529T074945Z
LAST-MODIFIED:20230530T041221Z
UID:10000822-1832353200-1832353200@www.rakiuracalendar.com
SUMMARY:Oban Fire Brigade Training Night
DESCRIPTION:Fire and Emergency NZ weekly training for the local brigade. \nCome along to see what we’re up to and if you’re interested in volunteering.
URL:https://www.rakiuracalendar.com/event/oban-fire-brigade-training-night/2028-01-24/
LOCATION:Oban Fire Station\, 6 Argyle Street\, Oban\, Southland\, 9818\, New Zealand
CATEGORIES:Community,Group meeting,Training,Volunteer
ATTACH;FMTTYPE=image/jpeg:https://www.rakiuracalendar.com/wp-content/uploads/2023/05/Screenshot_20230529_194125_Outlook.jpg
END:VEVENT
BEGIN:VEVENT
DTSTART;TZID=Pacific/Auckland:20280125T140000
DTEND;TZID=Pacific/Auckland:20280125T160000
DTSTAMP:20260420T190810
CREATED:20260211T050351Z
LAST-MODIFIED:20260211T050351Z
UID:10004472-1832421600-1832428800@www.rakiuracalendar.com
SUMMARY:Knit and Natter
DESCRIPTION:
URL:https://www.rakiuracalendar.com/event/knit-and-natter/2028-01-25/
LOCATION:Oban Fire Station\, 6 Argyle Street\, Oban\, Southland\, 9818\, New Zealand
END:VEVENT
BEGIN:VEVENT
DTSTART;TZID=Pacific/Auckland:20280125T190000
DTEND;TZID=Pacific/Auckland:20280125T200000
DTSTAMP:20260420T190810
CREATED:20250731T073142Z
LAST-MODIFIED:20250731T073142Z
UID:10002734-1832439600-1832443200@www.rakiuracalendar.com
SUMMARY:Land SAR committee meeting
DESCRIPTION:
URL:https://www.rakiuracalendar.com/event/land-sar-committee-meeting-2/2028-01-25/
LOCATION:Oban Fire Station\, 6 Argyle Street\, Oban\, Southland\, 9818\, New Zealand
CATEGORIES:Emergency services
ATTACH;FMTTYPE=image/jpeg:https://www.rakiuracalendar.com/wp-content/uploads/Logos/Logo.jpg
ORGANIZER;CN="Rakiura LandSAR":MAILTO:stewartisland@landsar.org.nz
END:VEVENT
BEGIN:VEVENT
DTSTART;TZID=Pacific/Auckland:20280126T130000
DTEND;TZID=Pacific/Auckland:20280126T150000
DTSTAMP:20260420T190810
CREATED:20240817T050438Z
LAST-MODIFIED:20240817T050438Z
UID:10001785-1832504400-1832511600@www.rakiuracalendar.com
SUMMARY:SIRCET Plant & Plot
DESCRIPTION:
URL:https://www.rakiuracalendar.com/event/sircet-plant-plot/2028-01-26/
LOCATION:Southland
CATEGORIES:Conservation,Outdoors
ATTACH;FMTTYPE=image/jpeg:https://www.rakiuracalendar.com/wp-content/uploads/2024/08/att.VyK46gQo0TKr71KN42gRUydL05kP9F9IqEFgaB4_nlM-1-e1723871006841.jpg
ORGANIZER;CN="SIRCET":MAILTO:community@sircet.org.nz
END:VEVENT
BEGIN:VEVENT
DTSTART;TZID=Pacific/Auckland:20280126T173000
DTEND;TZID=Pacific/Auckland:20280126T183000
DTSTAMP:20260420T190810
CREATED:20251001T013410Z
LAST-MODIFIED:20251002T202333Z
UID:10002938-1832520600-1832524200@www.rakiuracalendar.com
SUMMARY:Seido karate
DESCRIPTION:
URL:https://www.rakiuracalendar.com/event/seido-karate/2028-01-26/
LOCATION:Community Centre\, 10 Ayr Street\, Oban\, Southland\, 9818\, New Zealand
CATEGORIES:Training
ATTACH;FMTTYPE=image/png:https://www.rakiuracalendar.com/wp-content/uploads/2025/10/seido-karate-1-e1759281973823.png
ORGANIZER;CN="Nigel Fraser":MAILTO:gappx3@gmail.com
END:VEVENT
BEGIN:VEVENT
DTSTART;TZID=Pacific/Auckland:20280126T190000
DTEND;TZID=Pacific/Auckland:20280126T203000
DTSTAMP:20260420T190810
CREATED:20260124T210428Z
LAST-MODIFIED:20260310T194853Z
UID:10003656-1832526000-1832531400@www.rakiuracalendar.com
SUMMARY:Winter Jam Session
DESCRIPTION:Come along to the Oban Volunteer Fire Brigade Station to hear some of our local music enthusiasts jamming. Better yet\, bring your instrument of choice and join in. \nGold coin donation to support the Oban Volunteer Fire Brigade participation in the Wajax pump competition.
URL:https://www.rakiuracalendar.com/event/winter-jam-session-2-2-2/2028-01-26/
LOCATION:Oban Fire Station\, 6 Argyle Street\, Oban\, Southland\, 9818\, New Zealand
CATEGORIES:Music
ATTACH;FMTTYPE=image/jpeg:https://www.rakiuracalendar.com/wp-content/uploads/2025/07/pexels-bigbagfilms-8512617-scaled-e1752641177610.jpg
END:VEVENT
BEGIN:VEVENT
DTSTART;TZID=Pacific/Auckland:20280130T083000
DTEND;TZID=Pacific/Auckland:20280130T100000
DTSTAMP:20260420T190810
CREATED:20260220T204117Z
LAST-MODIFIED:20260220T204117Z
UID:10004800-1832833800-1832839200@www.rakiuracalendar.com
SUMMARY:Seido karate
DESCRIPTION:
URL:https://www.rakiuracalendar.com/event/seido-karate-2-2/2028-01-30/
LOCATION:Community Centre\, 10 Ayr Street\, Oban\, Southland\, 9818\, New Zealand
CATEGORIES:Training
ATTACH;FMTTYPE=image/png:https://www.rakiuracalendar.com/wp-content/uploads/2025/10/seido-karate-1-e1759281973823.png
ORGANIZER;CN="Nigel Fraser":MAILTO:gappx3@gmail.com
END:VEVENT
BEGIN:VEVENT
DTSTART;TZID=Pacific/Auckland:20280131T190000
DTEND;TZID=Pacific/Auckland:20280131T190000
DTSTAMP:20260420T190810
CREATED:20230529T074945Z
LAST-MODIFIED:20230530T041221Z
UID:10000823-1832958000-1832958000@www.rakiuracalendar.com
SUMMARY:Oban Fire Brigade Training Night
DESCRIPTION:Fire and Emergency NZ weekly training for the local brigade. \nCome along to see what we’re up to and if you’re interested in volunteering.
URL:https://www.rakiuracalendar.com/event/oban-fire-brigade-training-night/2028-01-31/
LOCATION:Oban Fire Station\, 6 Argyle Street\, Oban\, Southland\, 9818\, New Zealand
CATEGORIES:Community,Group meeting,Training,Volunteer
ATTACH;FMTTYPE=image/jpeg:https://www.rakiuracalendar.com/wp-content/uploads/2023/05/Screenshot_20230529_194125_Outlook.jpg
END:VEVENT
BEGIN:VEVENT
DTSTART;TZID=Pacific/Auckland:20280201T140000
DTEND;TZID=Pacific/Auckland:20280201T160000
DTSTAMP:20260420T190810
CREATED:20260211T050351Z
LAST-MODIFIED:20260211T050351Z
UID:10004473-1833026400-1833033600@www.rakiuracalendar.com
SUMMARY:Knit and Natter
DESCRIPTION:
URL:https://www.rakiuracalendar.com/event/knit-and-natter/2028-02-01/
LOCATION:Oban Fire Station\, 6 Argyle Street\, Oban\, Southland\, 9818\, New Zealand
END:VEVENT
BEGIN:VEVENT
DTSTART;TZID=Pacific/Auckland:20280202T130000
DTEND;TZID=Pacific/Auckland:20280202T150000
DTSTAMP:20260420T190810
CREATED:20240817T050438Z
LAST-MODIFIED:20240817T050438Z
UID:10001786-1833109200-1833116400@www.rakiuracalendar.com
SUMMARY:SIRCET Plant & Plot
DESCRIPTION:
URL:https://www.rakiuracalendar.com/event/sircet-plant-plot/2028-02-02/
LOCATION:Southland
CATEGORIES:Conservation,Outdoors
ATTACH;FMTTYPE=image/jpeg:https://www.rakiuracalendar.com/wp-content/uploads/2024/08/att.VyK46gQo0TKr71KN42gRUydL05kP9F9IqEFgaB4_nlM-1-e1723871006841.jpg
ORGANIZER;CN="SIRCET":MAILTO:community@sircet.org.nz
END:VEVENT
BEGIN:VEVENT
DTSTART;TZID=Pacific/Auckland:20280202T173000
DTEND;TZID=Pacific/Auckland:20280202T183000
DTSTAMP:20260420T190810
CREATED:20251001T013410Z
LAST-MODIFIED:20251002T202333Z
UID:10003329-1833125400-1833129000@www.rakiuracalendar.com
SUMMARY:Seido karate
DESCRIPTION:
URL:https://www.rakiuracalendar.com/event/seido-karate/2028-02-02/
LOCATION:Community Centre\, 10 Ayr Street\, Oban\, Southland\, 9818\, New Zealand
CATEGORIES:Training
ATTACH;FMTTYPE=image/png:https://www.rakiuracalendar.com/wp-content/uploads/2025/10/seido-karate-1-e1759281973823.png
ORGANIZER;CN="Nigel Fraser":MAILTO:gappx3@gmail.com
END:VEVENT
BEGIN:VEVENT
DTSTART;TZID=Pacific/Auckland:20280202T190000
DTEND;TZID=Pacific/Auckland:20280202T203000
DTSTAMP:20260420T190810
CREATED:20260124T210428Z
LAST-MODIFIED:20260310T194853Z
UID:10003657-1833130800-1833136200@www.rakiuracalendar.com
SUMMARY:Winter Jam Session
DESCRIPTION:Come along to the Oban Volunteer Fire Brigade Station to hear some of our local music enthusiasts jamming. Better yet\, bring your instrument of choice and join in. \nGold coin donation to support the Oban Volunteer Fire Brigade participation in the Wajax pump competition.
URL:https://www.rakiuracalendar.com/event/winter-jam-session-2-2-2/2028-02-02/
LOCATION:Oban Fire Station\, 6 Argyle Street\, Oban\, Southland\, 9818\, New Zealand
CATEGORIES:Music
ATTACH;FMTTYPE=image/jpeg:https://www.rakiuracalendar.com/wp-content/uploads/2025/07/pexels-bigbagfilms-8512617-scaled-e1752641177610.jpg
END:VEVENT
BEGIN:VEVENT
DTSTART;TZID=Pacific/Auckland:20280206T083000
DTEND;TZID=Pacific/Auckland:20280206T100000
DTSTAMP:20260420T190810
CREATED:20260220T204117Z
LAST-MODIFIED:20260220T204117Z
UID:10004801-1833438600-1833444000@www.rakiuracalendar.com
SUMMARY:Seido karate
DESCRIPTION:
URL:https://www.rakiuracalendar.com/event/seido-karate-2-2/2028-02-06/
LOCATION:Community Centre\, 10 Ayr Street\, Oban\, Southland\, 9818\, New Zealand
CATEGORIES:Training
ATTACH;FMTTYPE=image/png:https://www.rakiuracalendar.com/wp-content/uploads/2025/10/seido-karate-1-e1759281973823.png
ORGANIZER;CN="Nigel Fraser":MAILTO:gappx3@gmail.com
END:VEVENT
BEGIN:VEVENT
DTSTART;TZID=Pacific/Auckland:20280207T190000
DTEND;TZID=Pacific/Auckland:20280207T190000
DTSTAMP:20260420T190810
CREATED:20230529T074945Z
LAST-MODIFIED:20230530T041221Z
UID:10000824-1833562800-1833562800@www.rakiuracalendar.com
SUMMARY:Oban Fire Brigade Training Night
DESCRIPTION:Fire and Emergency NZ weekly training for the local brigade. \nCome along to see what we’re up to and if you’re interested in volunteering.
URL:https://www.rakiuracalendar.com/event/oban-fire-brigade-training-night/2028-02-07/
LOCATION:Oban Fire Station\, 6 Argyle Street\, Oban\, Southland\, 9818\, New Zealand
CATEGORIES:Community,Group meeting,Training,Volunteer
ATTACH;FMTTYPE=image/jpeg:https://www.rakiuracalendar.com/wp-content/uploads/2023/05/Screenshot_20230529_194125_Outlook.jpg
END:VEVENT
BEGIN:VEVENT
DTSTART;TZID=Pacific/Auckland:20280208T140000
DTEND;TZID=Pacific/Auckland:20280208T160000
DTSTAMP:20260420T190810
CREATED:20260211T050351Z
LAST-MODIFIED:20260211T050351Z
UID:10004474-1833631200-1833638400@www.rakiuracalendar.com
SUMMARY:Knit and Natter
DESCRIPTION:
URL:https://www.rakiuracalendar.com/event/knit-and-natter/2028-02-08/
LOCATION:Oban Fire Station\, 6 Argyle Street\, Oban\, Southland\, 9818\, New Zealand
END:VEVENT
BEGIN:VEVENT
DTSTART;TZID=Pacific/Auckland:20280208T173000
DTEND;TZID=Pacific/Auckland:20280208T183000
DTSTAMP:20260420T190810
CREATED:20241004T182256Z
LAST-MODIFIED:20241004T182256Z
UID:10002000-1833643800-1833647400@www.rakiuracalendar.com
SUMMARY:Future Rakiura Committee Meeting
DESCRIPTION:Monthly meeting of the Future Rakiura Committee to progress community projects.
URL:https://www.rakiuracalendar.com/event/future-rakiura-committee-meeting-10-2-2-2/2028-02-08/
LOCATION:Southland
CATEGORIES:Community
ATTACH;FMTTYPE=image/png:https://www.rakiuracalendar.com/wp-content/uploads/Logos/Logo.png
ORGANIZER;CN="Future Rakiura":MAILTO:rakiura.future@gmail.com
END:VEVENT
BEGIN:VEVENT
DTSTART;TZID=Pacific/Auckland:20280209T130000
DTEND;TZID=Pacific/Auckland:20280209T150000
DTSTAMP:20260420T190810
CREATED:20240817T050438Z
LAST-MODIFIED:20240817T050438Z
UID:10001787-1833714000-1833721200@www.rakiuracalendar.com
SUMMARY:SIRCET Plant & Plot
DESCRIPTION:
URL:https://www.rakiuracalendar.com/event/sircet-plant-plot/2028-02-09/
LOCATION:Southland
CATEGORIES:Conservation,Outdoors
ATTACH;FMTTYPE=image/jpeg:https://www.rakiuracalendar.com/wp-content/uploads/2024/08/att.VyK46gQo0TKr71KN42gRUydL05kP9F9IqEFgaB4_nlM-1-e1723871006841.jpg
ORGANIZER;CN="SIRCET":MAILTO:community@sircet.org.nz
END:VEVENT
BEGIN:VEVENT
DTSTART;TZID=Pacific/Auckland:20280209T173000
DTEND;TZID=Pacific/Auckland:20280209T183000
DTSTAMP:20260420T190810
CREATED:20251001T013410Z
LAST-MODIFIED:20251002T202333Z
UID:10002939-1833730200-1833733800@www.rakiuracalendar.com
SUMMARY:Seido karate
DESCRIPTION:
URL:https://www.rakiuracalendar.com/event/seido-karate/2028-02-09/
LOCATION:Community Centre\, 10 Ayr Street\, Oban\, Southland\, 9818\, New Zealand
CATEGORIES:Training
ATTACH;FMTTYPE=image/png:https://www.rakiuracalendar.com/wp-content/uploads/2025/10/seido-karate-1-e1759281973823.png
ORGANIZER;CN="Nigel Fraser":MAILTO:gappx3@gmail.com
END:VEVENT
BEGIN:VEVENT
DTSTART;TZID=Pacific/Auckland:20280209T190000
DTEND;TZID=Pacific/Auckland:20280209T203000
DTSTAMP:20260420T190810
CREATED:20260124T210428Z
LAST-MODIFIED:20260310T194853Z
UID:10003658-1833735600-1833741000@www.rakiuracalendar.com
SUMMARY:Winter Jam Session
DESCRIPTION:Come along to the Oban Volunteer Fire Brigade Station to hear some of our local music enthusiasts jamming. Better yet\, bring your instrument of choice and join in. \nGold coin donation to support the Oban Volunteer Fire Brigade participation in the Wajax pump competition.
URL:https://www.rakiuracalendar.com/event/winter-jam-session-2-2-2/2028-02-09/
LOCATION:Oban Fire Station\, 6 Argyle Street\, Oban\, Southland\, 9818\, New Zealand
CATEGORIES:Music
ATTACH;FMTTYPE=image/jpeg:https://www.rakiuracalendar.com/wp-content/uploads/2025/07/pexels-bigbagfilms-8512617-scaled-e1752641177610.jpg
END:VEVENT
BEGIN:VEVENT
DTSTART;TZID=Pacific/Auckland:20280213T083000
DTEND;TZID=Pacific/Auckland:20280213T100000
DTSTAMP:20260420T190810
CREATED:20260220T204117Z
LAST-MODIFIED:20260220T204117Z
UID:10004802-1834043400-1834048800@www.rakiuracalendar.com
SUMMARY:Seido karate
DESCRIPTION:
URL:https://www.rakiuracalendar.com/event/seido-karate-2-2/2028-02-13/
LOCATION:Community Centre\, 10 Ayr Street\, Oban\, Southland\, 9818\, New Zealand
CATEGORIES:Training
ATTACH;FMTTYPE=image/png:https://www.rakiuracalendar.com/wp-content/uploads/2025/10/seido-karate-1-e1759281973823.png
ORGANIZER;CN="Nigel Fraser":MAILTO:gappx3@gmail.com
END:VEVENT
BEGIN:VEVENT
DTSTART;TZID=Pacific/Auckland:20280214T190000
DTEND;TZID=Pacific/Auckland:20280214T190000
DTSTAMP:20260420T190810
CREATED:20230529T074945Z
LAST-MODIFIED:20230530T041221Z
UID:10000825-1834167600-1834167600@www.rakiuracalendar.com
SUMMARY:Oban Fire Brigade Training Night
DESCRIPTION:Fire and Emergency NZ weekly training for the local brigade. \nCome along to see what we’re up to and if you’re interested in volunteering.
URL:https://www.rakiuracalendar.com/event/oban-fire-brigade-training-night/2028-02-14/
LOCATION:Oban Fire Station\, 6 Argyle Street\, Oban\, Southland\, 9818\, New Zealand
CATEGORIES:Community,Group meeting,Training,Volunteer
ATTACH;FMTTYPE=image/jpeg:https://www.rakiuracalendar.com/wp-content/uploads/2023/05/Screenshot_20230529_194125_Outlook.jpg
END:VEVENT
BEGIN:VEVENT
DTSTART;TZID=Pacific/Auckland:20280215T140000
DTEND;TZID=Pacific/Auckland:20280215T160000
DTSTAMP:20260420T190810
CREATED:20260211T050351Z
LAST-MODIFIED:20260211T050351Z
UID:10004475-1834236000-1834243200@www.rakiuracalendar.com
SUMMARY:Knit and Natter
DESCRIPTION:
URL:https://www.rakiuracalendar.com/event/knit-and-natter/2028-02-15/
LOCATION:Oban Fire Station\, 6 Argyle Street\, Oban\, Southland\, 9818\, New Zealand
END:VEVENT
BEGIN:VEVENT
DTSTART;TZID=Pacific/Auckland:20280216T130000
DTEND;TZID=Pacific/Auckland:20280216T150000
DTSTAMP:20260420T190810
CREATED:20240817T050438Z
LAST-MODIFIED:20240817T050438Z
UID:10001788-1834318800-1834326000@www.rakiuracalendar.com
SUMMARY:SIRCET Plant & Plot
DESCRIPTION:
URL:https://www.rakiuracalendar.com/event/sircet-plant-plot/2028-02-16/
LOCATION:Southland
CATEGORIES:Conservation,Outdoors
ATTACH;FMTTYPE=image/jpeg:https://www.rakiuracalendar.com/wp-content/uploads/2024/08/att.VyK46gQo0TKr71KN42gRUydL05kP9F9IqEFgaB4_nlM-1-e1723871006841.jpg
ORGANIZER;CN="SIRCET":MAILTO:community@sircet.org.nz
END:VEVENT
BEGIN:VEVENT
DTSTART;TZID=Pacific/Auckland:20280216T173000
DTEND;TZID=Pacific/Auckland:20280216T183000
DTSTAMP:20260420T190810
CREATED:20251001T013410Z
LAST-MODIFIED:20251002T202333Z
UID:10003330-1834335000-1834338600@www.rakiuracalendar.com
SUMMARY:Seido karate
DESCRIPTION:
URL:https://www.rakiuracalendar.com/event/seido-karate/2028-02-16/
LOCATION:Community Centre\, 10 Ayr Street\, Oban\, Southland\, 9818\, New Zealand
CATEGORIES:Training
ATTACH;FMTTYPE=image/png:https://www.rakiuracalendar.com/wp-content/uploads/2025/10/seido-karate-1-e1759281973823.png
ORGANIZER;CN="Nigel Fraser":MAILTO:gappx3@gmail.com
END:VEVENT
BEGIN:VEVENT
DTSTART;TZID=Pacific/Auckland:20280216T190000
DTEND;TZID=Pacific/Auckland:20280216T203000
DTSTAMP:20260420T190810
CREATED:20260124T210428Z
LAST-MODIFIED:20260310T194853Z
UID:10003659-1834340400-1834345800@www.rakiuracalendar.com
SUMMARY:Winter Jam Session
DESCRIPTION:Come along to the Oban Volunteer Fire Brigade Station to hear some of our local music enthusiasts jamming. Better yet\, bring your instrument of choice and join in. \nGold coin donation to support the Oban Volunteer Fire Brigade participation in the Wajax pump competition.
URL:https://www.rakiuracalendar.com/event/winter-jam-session-2-2-2/2028-02-16/
LOCATION:Oban Fire Station\, 6 Argyle Street\, Oban\, Southland\, 9818\, New Zealand
CATEGORIES:Music
ATTACH;FMTTYPE=image/jpeg:https://www.rakiuracalendar.com/wp-content/uploads/2025/07/pexels-bigbagfilms-8512617-scaled-e1752641177610.jpg
END:VEVENT
BEGIN:VEVENT
DTSTART;TZID=Pacific/Auckland:20280220T083000
DTEND;TZID=Pacific/Auckland:20280220T100000
DTSTAMP:20260420T190810
CREATED:20260220T204117Z
LAST-MODIFIED:20260220T204117Z
UID:10004803-1834648200-1834653600@www.rakiuracalendar.com
SUMMARY:Seido karate
DESCRIPTION:
URL:https://www.rakiuracalendar.com/event/seido-karate-2-2/2028-02-20/
LOCATION:Community Centre\, 10 Ayr Street\, Oban\, Southland\, 9818\, New Zealand
CATEGORIES:Training
ATTACH;FMTTYPE=image/png:https://www.rakiuracalendar.com/wp-content/uploads/2025/10/seido-karate-1-e1759281973823.png
ORGANIZER;CN="Nigel Fraser":MAILTO:gappx3@gmail.com
END:VEVENT
END:VCALENDAR