BEGIN:VCALENDAR
VERSION:2.0
PRODID:-//Rakiura Calendar - 2026 - ECPv6.15.20//NONSGML v1.0//EN
CALSCALE:GREGORIAN
METHOD:PUBLISH
X-WR-CALNAME:Rakiura Calendar - 2026
X-ORIGINAL-URL:https://www.rakiuracalendar.com
X-WR-CALDESC:Events for Rakiura Calendar - 2026
REFRESH-INTERVAL;VALUE=DURATION:PT1H
X-Robots-Tag:noindex
X-PUBLISHED-TTL:PT1H
BEGIN:VTIMEZONE
TZID:Pacific/Auckland
BEGIN:STANDARD
TZOFFSETFROM:+1300
TZOFFSETTO:+1200
TZNAME:NZST
DTSTART:20260404T140000
END:STANDARD
BEGIN:DAYLIGHT
TZOFFSETFROM:+1200
TZOFFSETTO:+1300
TZNAME:NZDT
DTSTART:20260926T140000
END:DAYLIGHT
BEGIN:STANDARD
TZOFFSETFROM:+1300
TZOFFSETTO:+1200
TZNAME:NZST
DTSTART:20270403T140000
END:STANDARD
BEGIN:DAYLIGHT
TZOFFSETFROM:+1200
TZOFFSETTO:+1300
TZNAME:NZDT
DTSTART:20270925T140000
END:DAYLIGHT
BEGIN:STANDARD
TZOFFSETFROM:+1300
TZOFFSETTO:+1200
TZNAME:NZST
DTSTART:20280401T140000
END:STANDARD
BEGIN:DAYLIGHT
TZOFFSETFROM:+1200
TZOFFSETTO:+1300
TZNAME:NZDT
DTSTART:20280923T140000
END:DAYLIGHT
END:VTIMEZONE
BEGIN:VEVENT
DTSTART;TZID=Pacific/Auckland:20270914T173000
DTEND;TZID=Pacific/Auckland:20270914T183000
DTSTAMP:20260420T110018
CREATED:20241004T182256Z
LAST-MODIFIED:20241004T182256Z
UID:10001995-1820943000-1820946600@www.rakiuracalendar.com
SUMMARY:Future Rakiura Committee Meeting
DESCRIPTION:Monthly meeting of the Future Rakiura Committee to progress community projects.
URL:https://www.rakiuracalendar.com/event/future-rakiura-committee-meeting-10-2-2-2/2027-09-14/
LOCATION:Southland
CATEGORIES:Community
ATTACH;FMTTYPE=image/png:https://www.rakiuracalendar.com/wp-content/uploads/Logos/Logo.png
ORGANIZER;CN="Future Rakiura":MAILTO:rakiura.future@gmail.com
END:VEVENT
BEGIN:VEVENT
DTSTART;TZID=Pacific/Auckland:20270915T130000
DTEND;TZID=Pacific/Auckland:20270915T150000
DTSTAMP:20260420T110018
CREATED:20240817T050438Z
LAST-MODIFIED:20240817T050438Z
UID:10001766-1821013200-1821020400@www.rakiuracalendar.com
SUMMARY:SIRCET Plant & Plot
DESCRIPTION:
URL:https://www.rakiuracalendar.com/event/sircet-plant-plot/2027-09-15/
LOCATION:Southland
CATEGORIES:Conservation,Outdoors
ATTACH;FMTTYPE=image/jpeg:https://www.rakiuracalendar.com/wp-content/uploads/2024/08/att.VyK46gQo0TKr71KN42gRUydL05kP9F9IqEFgaB4_nlM-1-e1723871006841.jpg
ORGANIZER;CN="SIRCET":MAILTO:community@sircet.org.nz
END:VEVENT
BEGIN:VEVENT
DTSTART;TZID=Pacific/Auckland:20270915T173000
DTEND;TZID=Pacific/Auckland:20270915T183000
DTSTAMP:20260420T110018
CREATED:20251001T013410Z
LAST-MODIFIED:20251002T202333Z
UID:10003319-1821029400-1821033000@www.rakiuracalendar.com
SUMMARY:Seido karate
DESCRIPTION:
URL:https://www.rakiuracalendar.com/event/seido-karate/2027-09-15/
LOCATION:Community Centre\, 10 Ayr Street\, Oban\, Southland\, 9818\, New Zealand
CATEGORIES:Training
ATTACH;FMTTYPE=image/png:https://www.rakiuracalendar.com/wp-content/uploads/2025/10/seido-karate-1-e1759281973823.png
ORGANIZER;CN="Nigel Fraser":MAILTO:gappx3@gmail.com
END:VEVENT
BEGIN:VEVENT
DTSTART;TZID=Pacific/Auckland:20270915T190000
DTEND;TZID=Pacific/Auckland:20270915T203000
DTSTAMP:20260420T110018
CREATED:20260124T210428Z
LAST-MODIFIED:20260310T194853Z
UID:10003637-1821034800-1821040200@www.rakiuracalendar.com
SUMMARY:Winter Jam Session
DESCRIPTION:Come along to the Oban Volunteer Fire Brigade Station to hear some of our local music enthusiasts jamming. Better yet\, bring your instrument of choice and join in. \nGold coin donation to support the Oban Volunteer Fire Brigade participation in the Wajax pump competition.
URL:https://www.rakiuracalendar.com/event/winter-jam-session-2-2-2/2027-09-15/
LOCATION:Oban Fire Station\, 6 Argyle Street\, Oban\, Southland\, 9818\, New Zealand
CATEGORIES:Music
ATTACH;FMTTYPE=image/jpeg:https://www.rakiuracalendar.com/wp-content/uploads/2025/07/pexels-bigbagfilms-8512617-scaled-e1752641177610.jpg
END:VEVENT
BEGIN:VEVENT
DTSTART;TZID=Pacific/Auckland:20270919T083000
DTEND;TZID=Pacific/Auckland:20270919T100000
DTSTAMP:20260420T110018
CREATED:20260220T204117Z
LAST-MODIFIED:20260220T204117Z
UID:10004781-1821342600-1821348000@www.rakiuracalendar.com
SUMMARY:Seido karate
DESCRIPTION:
URL:https://www.rakiuracalendar.com/event/seido-karate-2-2/2027-09-19/
LOCATION:Community Centre\, 10 Ayr Street\, Oban\, Southland\, 9818\, New Zealand
CATEGORIES:Training
ATTACH;FMTTYPE=image/png:https://www.rakiuracalendar.com/wp-content/uploads/2025/10/seido-karate-1-e1759281973823.png
ORGANIZER;CN="Nigel Fraser":MAILTO:gappx3@gmail.com
END:VEVENT
BEGIN:VEVENT
DTSTART;TZID=Pacific/Auckland:20270920T190000
DTEND;TZID=Pacific/Auckland:20270920T190000
DTSTAMP:20260420T110018
CREATED:20230529T074945Z
LAST-MODIFIED:20230530T041221Z
UID:10000804-1821466800-1821466800@www.rakiuracalendar.com
SUMMARY:Oban Fire Brigade Training Night
DESCRIPTION:Fire and Emergency NZ weekly training for the local brigade. \nCome along to see what we’re up to and if you’re interested in volunteering.
URL:https://www.rakiuracalendar.com/event/oban-fire-brigade-training-night/2027-09-20/
LOCATION:Oban Fire Station\, 6 Argyle Street\, Oban\, Southland\, 9818\, New Zealand
CATEGORIES:Community,Group meeting,Training,Volunteer
ATTACH;FMTTYPE=image/jpeg:https://www.rakiuracalendar.com/wp-content/uploads/2023/05/Screenshot_20230529_194125_Outlook.jpg
END:VEVENT
BEGIN:VEVENT
DTSTART;TZID=Pacific/Auckland:20270921T140000
DTEND;TZID=Pacific/Auckland:20270921T160000
DTSTAMP:20260420T110018
CREATED:20260211T050351Z
LAST-MODIFIED:20260211T050351Z
UID:10004454-1821535200-1821542400@www.rakiuracalendar.com
SUMMARY:Knit and Natter
DESCRIPTION:
URL:https://www.rakiuracalendar.com/event/knit-and-natter/2027-09-21/
LOCATION:Oban Fire Station\, 6 Argyle Street\, Oban\, Southland\, 9818\, New Zealand
END:VEVENT
BEGIN:VEVENT
DTSTART;TZID=Pacific/Auckland:20270922T130000
DTEND;TZID=Pacific/Auckland:20270922T150000
DTSTAMP:20260420T110018
CREATED:20240817T050438Z
LAST-MODIFIED:20240817T050438Z
UID:10001767-1821618000-1821625200@www.rakiuracalendar.com
SUMMARY:SIRCET Plant & Plot
DESCRIPTION:
URL:https://www.rakiuracalendar.com/event/sircet-plant-plot/2027-09-22/
LOCATION:Southland
CATEGORIES:Conservation,Outdoors
ATTACH;FMTTYPE=image/jpeg:https://www.rakiuracalendar.com/wp-content/uploads/2024/08/att.VyK46gQo0TKr71KN42gRUydL05kP9F9IqEFgaB4_nlM-1-e1723871006841.jpg
ORGANIZER;CN="SIRCET":MAILTO:community@sircet.org.nz
END:VEVENT
BEGIN:VEVENT
DTSTART;TZID=Pacific/Auckland:20270922T173000
DTEND;TZID=Pacific/Auckland:20270922T183000
DTSTAMP:20260420T110018
CREATED:20251001T013410Z
LAST-MODIFIED:20251002T202333Z
UID:10002929-1821634200-1821637800@www.rakiuracalendar.com
SUMMARY:Seido karate
DESCRIPTION:
URL:https://www.rakiuracalendar.com/event/seido-karate/2027-09-22/
LOCATION:Community Centre\, 10 Ayr Street\, Oban\, Southland\, 9818\, New Zealand
CATEGORIES:Training
ATTACH;FMTTYPE=image/png:https://www.rakiuracalendar.com/wp-content/uploads/2025/10/seido-karate-1-e1759281973823.png
ORGANIZER;CN="Nigel Fraser":MAILTO:gappx3@gmail.com
END:VEVENT
BEGIN:VEVENT
DTSTART;TZID=Pacific/Auckland:20270922T190000
DTEND;TZID=Pacific/Auckland:20270922T203000
DTSTAMP:20260420T110018
CREATED:20260124T210428Z
LAST-MODIFIED:20260310T194853Z
UID:10003638-1821639600-1821645000@www.rakiuracalendar.com
SUMMARY:Winter Jam Session
DESCRIPTION:Come along to the Oban Volunteer Fire Brigade Station to hear some of our local music enthusiasts jamming. Better yet\, bring your instrument of choice and join in. \nGold coin donation to support the Oban Volunteer Fire Brigade participation in the Wajax pump competition.
URL:https://www.rakiuracalendar.com/event/winter-jam-session-2-2-2/2027-09-22/
LOCATION:Oban Fire Station\, 6 Argyle Street\, Oban\, Southland\, 9818\, New Zealand
CATEGORIES:Music
ATTACH;FMTTYPE=image/jpeg:https://www.rakiuracalendar.com/wp-content/uploads/2025/07/pexels-bigbagfilms-8512617-scaled-e1752641177610.jpg
END:VEVENT
BEGIN:VEVENT
DTSTART;TZID=Pacific/Auckland:20270926T083000
DTEND;TZID=Pacific/Auckland:20270926T100000
DTSTAMP:20260420T110018
CREATED:20260220T204117Z
LAST-MODIFIED:20260220T204117Z
UID:10004782-1821947400-1821952800@www.rakiuracalendar.com
SUMMARY:Seido karate
DESCRIPTION:
URL:https://www.rakiuracalendar.com/event/seido-karate-2-2/2027-09-26/
LOCATION:Community Centre\, 10 Ayr Street\, Oban\, Southland\, 9818\, New Zealand
CATEGORIES:Training
ATTACH;FMTTYPE=image/png:https://www.rakiuracalendar.com/wp-content/uploads/2025/10/seido-karate-1-e1759281973823.png
ORGANIZER;CN="Nigel Fraser":MAILTO:gappx3@gmail.com
END:VEVENT
BEGIN:VEVENT
DTSTART;TZID=Pacific/Auckland:20270927T190000
DTEND;TZID=Pacific/Auckland:20270927T190000
DTSTAMP:20260420T110018
CREATED:20230529T074945Z
LAST-MODIFIED:20230530T041221Z
UID:10000805-1822071600-1822071600@www.rakiuracalendar.com
SUMMARY:Oban Fire Brigade Training Night
DESCRIPTION:Fire and Emergency NZ weekly training for the local brigade. \nCome along to see what we’re up to and if you’re interested in volunteering.
URL:https://www.rakiuracalendar.com/event/oban-fire-brigade-training-night/2027-09-27/
LOCATION:Oban Fire Station\, 6 Argyle Street\, Oban\, Southland\, 9818\, New Zealand
CATEGORIES:Community,Group meeting,Training,Volunteer
ATTACH;FMTTYPE=image/jpeg:https://www.rakiuracalendar.com/wp-content/uploads/2023/05/Screenshot_20230529_194125_Outlook.jpg
END:VEVENT
BEGIN:VEVENT
DTSTART;TZID=Pacific/Auckland:20270928T140000
DTEND;TZID=Pacific/Auckland:20270928T160000
DTSTAMP:20260420T110018
CREATED:20260211T050351Z
LAST-MODIFIED:20260211T050351Z
UID:10004455-1822140000-1822147200@www.rakiuracalendar.com
SUMMARY:Knit and Natter
DESCRIPTION:
URL:https://www.rakiuracalendar.com/event/knit-and-natter/2027-09-28/
LOCATION:Oban Fire Station\, 6 Argyle Street\, Oban\, Southland\, 9818\, New Zealand
END:VEVENT
BEGIN:VEVENT
DTSTART;TZID=Pacific/Auckland:20270929T130000
DTEND;TZID=Pacific/Auckland:20270929T150000
DTSTAMP:20260420T110018
CREATED:20240817T050438Z
LAST-MODIFIED:20240817T050438Z
UID:10001768-1822222800-1822230000@www.rakiuracalendar.com
SUMMARY:SIRCET Plant & Plot
DESCRIPTION:
URL:https://www.rakiuracalendar.com/event/sircet-plant-plot/2027-09-29/
LOCATION:Southland
CATEGORIES:Conservation,Outdoors
ATTACH;FMTTYPE=image/jpeg:https://www.rakiuracalendar.com/wp-content/uploads/2024/08/att.VyK46gQo0TKr71KN42gRUydL05kP9F9IqEFgaB4_nlM-1-e1723871006841.jpg
ORGANIZER;CN="SIRCET":MAILTO:community@sircet.org.nz
END:VEVENT
BEGIN:VEVENT
DTSTART;TZID=Pacific/Auckland:20270929T173000
DTEND;TZID=Pacific/Auckland:20270929T183000
DTSTAMP:20260420T110018
CREATED:20251001T013410Z
LAST-MODIFIED:20251002T202333Z
UID:10003320-1822239000-1822242600@www.rakiuracalendar.com
SUMMARY:Seido karate
DESCRIPTION:
URL:https://www.rakiuracalendar.com/event/seido-karate/2027-09-29/
LOCATION:Community Centre\, 10 Ayr Street\, Oban\, Southland\, 9818\, New Zealand
CATEGORIES:Training
ATTACH;FMTTYPE=image/png:https://www.rakiuracalendar.com/wp-content/uploads/2025/10/seido-karate-1-e1759281973823.png
ORGANIZER;CN="Nigel Fraser":MAILTO:gappx3@gmail.com
END:VEVENT
BEGIN:VEVENT
DTSTART;TZID=Pacific/Auckland:20270929T190000
DTEND;TZID=Pacific/Auckland:20270929T203000
DTSTAMP:20260420T110019
CREATED:20260124T210428Z
LAST-MODIFIED:20260310T194853Z
UID:10003639-1822244400-1822249800@www.rakiuracalendar.com
SUMMARY:Winter Jam Session
DESCRIPTION:Come along to the Oban Volunteer Fire Brigade Station to hear some of our local music enthusiasts jamming. Better yet\, bring your instrument of choice and join in. \nGold coin donation to support the Oban Volunteer Fire Brigade participation in the Wajax pump competition.
URL:https://www.rakiuracalendar.com/event/winter-jam-session-2-2-2/2027-09-29/
LOCATION:Oban Fire Station\, 6 Argyle Street\, Oban\, Southland\, 9818\, New Zealand
CATEGORIES:Music
ATTACH;FMTTYPE=image/jpeg:https://www.rakiuracalendar.com/wp-content/uploads/2025/07/pexels-bigbagfilms-8512617-scaled-e1752641177610.jpg
END:VEVENT
BEGIN:VEVENT
DTSTART;TZID=Pacific/Auckland:20271003T083000
DTEND;TZID=Pacific/Auckland:20271003T100000
DTSTAMP:20260420T110019
CREATED:20260220T204117Z
LAST-MODIFIED:20260220T204117Z
UID:10004783-1822552200-1822557600@www.rakiuracalendar.com
SUMMARY:Seido karate
DESCRIPTION:
URL:https://www.rakiuracalendar.com/event/seido-karate-2-2/2027-10-03/
LOCATION:Community Centre\, 10 Ayr Street\, Oban\, Southland\, 9818\, New Zealand
CATEGORIES:Training
ATTACH;FMTTYPE=image/png:https://www.rakiuracalendar.com/wp-content/uploads/2025/10/seido-karate-1-e1759281973823.png
ORGANIZER;CN="Nigel Fraser":MAILTO:gappx3@gmail.com
END:VEVENT
BEGIN:VEVENT
DTSTART;TZID=Pacific/Auckland:20271004T190000
DTEND;TZID=Pacific/Auckland:20271004T190000
DTSTAMP:20260420T110019
CREATED:20230529T074945Z
LAST-MODIFIED:20230530T041221Z
UID:10000806-1822676400-1822676400@www.rakiuracalendar.com
SUMMARY:Oban Fire Brigade Training Night
DESCRIPTION:Fire and Emergency NZ weekly training for the local brigade. \nCome along to see what we’re up to and if you’re interested in volunteering.
URL:https://www.rakiuracalendar.com/event/oban-fire-brigade-training-night/2027-10-04/
LOCATION:Oban Fire Station\, 6 Argyle Street\, Oban\, Southland\, 9818\, New Zealand
CATEGORIES:Community,Group meeting,Training,Volunteer
ATTACH;FMTTYPE=image/jpeg:https://www.rakiuracalendar.com/wp-content/uploads/2023/05/Screenshot_20230529_194125_Outlook.jpg
END:VEVENT
BEGIN:VEVENT
DTSTART;TZID=Pacific/Auckland:20271005T140000
DTEND;TZID=Pacific/Auckland:20271005T160000
DTSTAMP:20260420T110019
CREATED:20260211T050351Z
LAST-MODIFIED:20260211T050351Z
UID:10004456-1822744800-1822752000@www.rakiuracalendar.com
SUMMARY:Knit and Natter
DESCRIPTION:
URL:https://www.rakiuracalendar.com/event/knit-and-natter/2027-10-05/
LOCATION:Oban Fire Station\, 6 Argyle Street\, Oban\, Southland\, 9818\, New Zealand
END:VEVENT
BEGIN:VEVENT
DTSTART;TZID=Pacific/Auckland:20271006T130000
DTEND;TZID=Pacific/Auckland:20271006T150000
DTSTAMP:20260420T110019
CREATED:20240817T050438Z
LAST-MODIFIED:20240817T050438Z
UID:10001769-1822827600-1822834800@www.rakiuracalendar.com
SUMMARY:SIRCET Plant & Plot
DESCRIPTION:
URL:https://www.rakiuracalendar.com/event/sircet-plant-plot/2027-10-06/
LOCATION:Southland
CATEGORIES:Conservation,Outdoors
ATTACH;FMTTYPE=image/jpeg:https://www.rakiuracalendar.com/wp-content/uploads/2024/08/att.VyK46gQo0TKr71KN42gRUydL05kP9F9IqEFgaB4_nlM-1-e1723871006841.jpg
ORGANIZER;CN="SIRCET":MAILTO:community@sircet.org.nz
END:VEVENT
BEGIN:VEVENT
DTSTART;TZID=Pacific/Auckland:20271006T173000
DTEND;TZID=Pacific/Auckland:20271006T183000
DTSTAMP:20260420T110019
CREATED:20251001T013410Z
LAST-MODIFIED:20251002T202333Z
UID:10002930-1822843800-1822847400@www.rakiuracalendar.com
SUMMARY:Seido karate
DESCRIPTION:
URL:https://www.rakiuracalendar.com/event/seido-karate/2027-10-06/
LOCATION:Community Centre\, 10 Ayr Street\, Oban\, Southland\, 9818\, New Zealand
CATEGORIES:Training
ATTACH;FMTTYPE=image/png:https://www.rakiuracalendar.com/wp-content/uploads/2025/10/seido-karate-1-e1759281973823.png
ORGANIZER;CN="Nigel Fraser":MAILTO:gappx3@gmail.com
END:VEVENT
BEGIN:VEVENT
DTSTART;TZID=Pacific/Auckland:20271006T190000
DTEND;TZID=Pacific/Auckland:20271006T203000
DTSTAMP:20260420T110019
CREATED:20260124T210428Z
LAST-MODIFIED:20260310T194853Z
UID:10003640-1822849200-1822854600@www.rakiuracalendar.com
SUMMARY:Winter Jam Session
DESCRIPTION:Come along to the Oban Volunteer Fire Brigade Station to hear some of our local music enthusiasts jamming. Better yet\, bring your instrument of choice and join in. \nGold coin donation to support the Oban Volunteer Fire Brigade participation in the Wajax pump competition.
URL:https://www.rakiuracalendar.com/event/winter-jam-session-2-2-2/2027-10-06/
LOCATION:Oban Fire Station\, 6 Argyle Street\, Oban\, Southland\, 9818\, New Zealand
CATEGORIES:Music
ATTACH;FMTTYPE=image/jpeg:https://www.rakiuracalendar.com/wp-content/uploads/2025/07/pexels-bigbagfilms-8512617-scaled-e1752641177610.jpg
END:VEVENT
BEGIN:VEVENT
DTSTART;TZID=Pacific/Auckland:20271010T083000
DTEND;TZID=Pacific/Auckland:20271010T100000
DTSTAMP:20260420T110019
CREATED:20260220T204117Z
LAST-MODIFIED:20260220T204117Z
UID:10004784-1823157000-1823162400@www.rakiuracalendar.com
SUMMARY:Seido karate
DESCRIPTION:
URL:https://www.rakiuracalendar.com/event/seido-karate-2-2/2027-10-10/
LOCATION:Community Centre\, 10 Ayr Street\, Oban\, Southland\, 9818\, New Zealand
CATEGORIES:Training
ATTACH;FMTTYPE=image/png:https://www.rakiuracalendar.com/wp-content/uploads/2025/10/seido-karate-1-e1759281973823.png
ORGANIZER;CN="Nigel Fraser":MAILTO:gappx3@gmail.com
END:VEVENT
BEGIN:VEVENT
DTSTART;TZID=Pacific/Auckland:20271011T190000
DTEND;TZID=Pacific/Auckland:20271011T190000
DTSTAMP:20260420T110019
CREATED:20230529T074945Z
LAST-MODIFIED:20230530T041221Z
UID:10000807-1823281200-1823281200@www.rakiuracalendar.com
SUMMARY:Oban Fire Brigade Training Night
DESCRIPTION:Fire and Emergency NZ weekly training for the local brigade. \nCome along to see what we’re up to and if you’re interested in volunteering.
URL:https://www.rakiuracalendar.com/event/oban-fire-brigade-training-night/2027-10-11/
LOCATION:Oban Fire Station\, 6 Argyle Street\, Oban\, Southland\, 9818\, New Zealand
CATEGORIES:Community,Group meeting,Training,Volunteer
ATTACH;FMTTYPE=image/jpeg:https://www.rakiuracalendar.com/wp-content/uploads/2023/05/Screenshot_20230529_194125_Outlook.jpg
END:VEVENT
BEGIN:VEVENT
DTSTART;TZID=Pacific/Auckland:20271012T140000
DTEND;TZID=Pacific/Auckland:20271012T160000
DTSTAMP:20260420T110019
CREATED:20260211T050351Z
LAST-MODIFIED:20260211T050351Z
UID:10004457-1823349600-1823356800@www.rakiuracalendar.com
SUMMARY:Knit and Natter
DESCRIPTION:
URL:https://www.rakiuracalendar.com/event/knit-and-natter/2027-10-12/
LOCATION:Oban Fire Station\, 6 Argyle Street\, Oban\, Southland\, 9818\, New Zealand
END:VEVENT
BEGIN:VEVENT
DTSTART;TZID=Pacific/Auckland:20271012T173000
DTEND;TZID=Pacific/Auckland:20271012T183000
DTSTAMP:20260420T110019
CREATED:20241004T182256Z
LAST-MODIFIED:20241004T182256Z
UID:10001996-1823362200-1823365800@www.rakiuracalendar.com
SUMMARY:Future Rakiura Committee Meeting
DESCRIPTION:Monthly meeting of the Future Rakiura Committee to progress community projects.
URL:https://www.rakiuracalendar.com/event/future-rakiura-committee-meeting-10-2-2-2/2027-10-12/
LOCATION:Southland
CATEGORIES:Community
ATTACH;FMTTYPE=image/png:https://www.rakiuracalendar.com/wp-content/uploads/Logos/Logo.png
ORGANIZER;CN="Future Rakiura":MAILTO:rakiura.future@gmail.com
END:VEVENT
BEGIN:VEVENT
DTSTART;TZID=Pacific/Auckland:20271013T130000
DTEND;TZID=Pacific/Auckland:20271013T150000
DTSTAMP:20260420T110019
CREATED:20240817T050438Z
LAST-MODIFIED:20240817T050438Z
UID:10001770-1823432400-1823439600@www.rakiuracalendar.com
SUMMARY:SIRCET Plant & Plot
DESCRIPTION:
URL:https://www.rakiuracalendar.com/event/sircet-plant-plot/2027-10-13/
LOCATION:Southland
CATEGORIES:Conservation,Outdoors
ATTACH;FMTTYPE=image/jpeg:https://www.rakiuracalendar.com/wp-content/uploads/2024/08/att.VyK46gQo0TKr71KN42gRUydL05kP9F9IqEFgaB4_nlM-1-e1723871006841.jpg
ORGANIZER;CN="SIRCET":MAILTO:community@sircet.org.nz
END:VEVENT
BEGIN:VEVENT
DTSTART;TZID=Pacific/Auckland:20271013T173000
DTEND;TZID=Pacific/Auckland:20271013T183000
DTSTAMP:20260420T110019
CREATED:20251001T013410Z
LAST-MODIFIED:20251002T202333Z
UID:10003321-1823448600-1823452200@www.rakiuracalendar.com
SUMMARY:Seido karate
DESCRIPTION:
URL:https://www.rakiuracalendar.com/event/seido-karate/2027-10-13/
LOCATION:Community Centre\, 10 Ayr Street\, Oban\, Southland\, 9818\, New Zealand
CATEGORIES:Training
ATTACH;FMTTYPE=image/png:https://www.rakiuracalendar.com/wp-content/uploads/2025/10/seido-karate-1-e1759281973823.png
ORGANIZER;CN="Nigel Fraser":MAILTO:gappx3@gmail.com
END:VEVENT
BEGIN:VEVENT
DTSTART;TZID=Pacific/Auckland:20271013T190000
DTEND;TZID=Pacific/Auckland:20271013T203000
DTSTAMP:20260420T110019
CREATED:20260124T210428Z
LAST-MODIFIED:20260310T194853Z
UID:10003641-1823454000-1823459400@www.rakiuracalendar.com
SUMMARY:Winter Jam Session
DESCRIPTION:Come along to the Oban Volunteer Fire Brigade Station to hear some of our local music enthusiasts jamming. Better yet\, bring your instrument of choice and join in. \nGold coin donation to support the Oban Volunteer Fire Brigade participation in the Wajax pump competition.
URL:https://www.rakiuracalendar.com/event/winter-jam-session-2-2-2/2027-10-13/
LOCATION:Oban Fire Station\, 6 Argyle Street\, Oban\, Southland\, 9818\, New Zealand
CATEGORIES:Music
ATTACH;FMTTYPE=image/jpeg:https://www.rakiuracalendar.com/wp-content/uploads/2025/07/pexels-bigbagfilms-8512617-scaled-e1752641177610.jpg
END:VEVENT
BEGIN:VEVENT
DTSTART;TZID=Pacific/Auckland:20271017T083000
DTEND;TZID=Pacific/Auckland:20271017T100000
DTSTAMP:20260420T110019
CREATED:20260220T204117Z
LAST-MODIFIED:20260220T204117Z
UID:10004785-1823761800-1823767200@www.rakiuracalendar.com
SUMMARY:Seido karate
DESCRIPTION:
URL:https://www.rakiuracalendar.com/event/seido-karate-2-2/2027-10-17/
LOCATION:Community Centre\, 10 Ayr Street\, Oban\, Southland\, 9818\, New Zealand
CATEGORIES:Training
ATTACH;FMTTYPE=image/png:https://www.rakiuracalendar.com/wp-content/uploads/2025/10/seido-karate-1-e1759281973823.png
ORGANIZER;CN="Nigel Fraser":MAILTO:gappx3@gmail.com
END:VEVENT
END:VCALENDAR