BEGIN:VCALENDAR
VERSION:2.0
PRODID:-//Rakiura Calendar - 2026 - ECPv6.15.20//NONSGML v1.0//EN
CALSCALE:GREGORIAN
METHOD:PUBLISH
X-WR-CALNAME:Rakiura Calendar - 2026
X-ORIGINAL-URL:https://www.rakiuracalendar.com
X-WR-CALDESC:Events for Rakiura Calendar - 2026
REFRESH-INTERVAL;VALUE=DURATION:PT1H
X-Robots-Tag:noindex
X-PUBLISHED-TTL:PT1H
BEGIN:VTIMEZONE
TZID:Pacific/Auckland
BEGIN:STANDARD
TZOFFSETFROM:+1300
TZOFFSETTO:+1200
TZNAME:NZST
DTSTART:20270403T140000
END:STANDARD
BEGIN:DAYLIGHT
TZOFFSETFROM:+1200
TZOFFSETTO:+1300
TZNAME:NZDT
DTSTART:20270925T140000
END:DAYLIGHT
BEGIN:STANDARD
TZOFFSETFROM:+1300
TZOFFSETTO:+1200
TZNAME:NZST
DTSTART:20280401T140000
END:STANDARD
BEGIN:DAYLIGHT
TZOFFSETFROM:+1200
TZOFFSETTO:+1300
TZNAME:NZDT
DTSTART:20280923T140000
END:DAYLIGHT
BEGIN:STANDARD
TZOFFSETFROM:+1300
TZOFFSETTO:+1200
TZNAME:NZST
DTSTART:20290331T140000
END:STANDARD
BEGIN:DAYLIGHT
TZOFFSETFROM:+1200
TZOFFSETTO:+1300
TZNAME:NZDT
DTSTART:20290929T140000
END:DAYLIGHT
END:VTIMEZONE
BEGIN:VEVENT
DTSTART;TZID=Pacific/Auckland:20280301T130000
DTEND;TZID=Pacific/Auckland:20280301T150000
DTSTAMP:20260420T171804
CREATED:20240817T050438Z
LAST-MODIFIED:20240817T050438Z
UID:10001790-1835528400-1835535600@www.rakiuracalendar.com
SUMMARY:SIRCET Plant & Plot
DESCRIPTION:
URL:https://www.rakiuracalendar.com/event/sircet-plant-plot/2028-03-01/
LOCATION:Southland
CATEGORIES:Conservation,Outdoors
ATTACH;FMTTYPE=image/jpeg:https://www.rakiuracalendar.com/wp-content/uploads/2024/08/att.VyK46gQo0TKr71KN42gRUydL05kP9F9IqEFgaB4_nlM-1-e1723871006841.jpg
ORGANIZER;CN="SIRCET":MAILTO:community@sircet.org.nz
END:VEVENT
BEGIN:VEVENT
DTSTART;TZID=Pacific/Auckland:20280301T173000
DTEND;TZID=Pacific/Auckland:20280301T183000
DTSTAMP:20260420T171804
CREATED:20251001T013410Z
LAST-MODIFIED:20251002T202333Z
UID:10003331-1835544600-1835548200@www.rakiuracalendar.com
SUMMARY:Seido karate
DESCRIPTION:
URL:https://www.rakiuracalendar.com/event/seido-karate/2028-03-01/
LOCATION:Community Centre\, 10 Ayr Street\, Oban\, Southland\, 9818\, New Zealand
CATEGORIES:Training
ATTACH;FMTTYPE=image/png:https://www.rakiuracalendar.com/wp-content/uploads/2025/10/seido-karate-1-e1759281973823.png
ORGANIZER;CN="Nigel Fraser":MAILTO:gappx3@gmail.com
END:VEVENT
BEGIN:VEVENT
DTSTART;TZID=Pacific/Auckland:20280301T190000
DTEND;TZID=Pacific/Auckland:20280301T203000
DTSTAMP:20260420T171804
CREATED:20260124T210428Z
LAST-MODIFIED:20260310T194853Z
UID:10003661-1835550000-1835555400@www.rakiuracalendar.com
SUMMARY:Winter Jam Session
DESCRIPTION:Come along to the Oban Volunteer Fire Brigade Station to hear some of our local music enthusiasts jamming. Better yet\, bring your instrument of choice and join in. \nGold coin donation to support the Oban Volunteer Fire Brigade participation in the Wajax pump competition.
URL:https://www.rakiuracalendar.com/event/winter-jam-session-2-2-2/2028-03-01/
LOCATION:Oban Fire Station\, 6 Argyle Street\, Oban\, Southland\, 9818\, New Zealand
CATEGORIES:Music
ATTACH;FMTTYPE=image/jpeg:https://www.rakiuracalendar.com/wp-content/uploads/2025/07/pexels-bigbagfilms-8512617-scaled-e1752641177610.jpg
END:VEVENT
BEGIN:VEVENT
DTSTART;TZID=Pacific/Auckland:20280305T083000
DTEND;TZID=Pacific/Auckland:20280305T100000
DTSTAMP:20260420T171804
CREATED:20260220T204117Z
LAST-MODIFIED:20260220T204117Z
UID:10004805-1835857800-1835863200@www.rakiuracalendar.com
SUMMARY:Seido karate
DESCRIPTION:
URL:https://www.rakiuracalendar.com/event/seido-karate-2-2/2028-03-05/
LOCATION:Community Centre\, 10 Ayr Street\, Oban\, Southland\, 9818\, New Zealand
CATEGORIES:Training
ATTACH;FMTTYPE=image/png:https://www.rakiuracalendar.com/wp-content/uploads/2025/10/seido-karate-1-e1759281973823.png
ORGANIZER;CN="Nigel Fraser":MAILTO:gappx3@gmail.com
END:VEVENT
BEGIN:VEVENT
DTSTART;TZID=Pacific/Auckland:20280306T190000
DTEND;TZID=Pacific/Auckland:20280306T190000
DTSTAMP:20260420T171804
CREATED:20230529T074945Z
LAST-MODIFIED:20230530T041221Z
UID:10000828-1835982000-1835982000@www.rakiuracalendar.com
SUMMARY:Oban Fire Brigade Training Night
DESCRIPTION:Fire and Emergency NZ weekly training for the local brigade. \nCome along to see what we’re up to and if you’re interested in volunteering.
URL:https://www.rakiuracalendar.com/event/oban-fire-brigade-training-night/2028-03-06/
LOCATION:Oban Fire Station\, 6 Argyle Street\, Oban\, Southland\, 9818\, New Zealand
CATEGORIES:Community,Group meeting,Training,Volunteer
ATTACH;FMTTYPE=image/jpeg:https://www.rakiuracalendar.com/wp-content/uploads/2023/05/Screenshot_20230529_194125_Outlook.jpg
END:VEVENT
BEGIN:VEVENT
DTSTART;TZID=Pacific/Auckland:20280307T140000
DTEND;TZID=Pacific/Auckland:20280307T160000
DTSTAMP:20260420T171804
CREATED:20260211T050351Z
LAST-MODIFIED:20260211T050351Z
UID:10004478-1836050400-1836057600@www.rakiuracalendar.com
SUMMARY:Knit and Natter
DESCRIPTION:
URL:https://www.rakiuracalendar.com/event/knit-and-natter/2028-03-07/
LOCATION:Oban Fire Station\, 6 Argyle Street\, Oban\, Southland\, 9818\, New Zealand
END:VEVENT
BEGIN:VEVENT
DTSTART;TZID=Pacific/Auckland:20280308T130000
DTEND;TZID=Pacific/Auckland:20280308T150000
DTSTAMP:20260420T171804
CREATED:20240817T050438Z
LAST-MODIFIED:20240817T050438Z
UID:10001791-1836133200-1836140400@www.rakiuracalendar.com
SUMMARY:SIRCET Plant & Plot
DESCRIPTION:
URL:https://www.rakiuracalendar.com/event/sircet-plant-plot/2028-03-08/
LOCATION:Southland
CATEGORIES:Conservation,Outdoors
ATTACH;FMTTYPE=image/jpeg:https://www.rakiuracalendar.com/wp-content/uploads/2024/08/att.VyK46gQo0TKr71KN42gRUydL05kP9F9IqEFgaB4_nlM-1-e1723871006841.jpg
ORGANIZER;CN="SIRCET":MAILTO:community@sircet.org.nz
END:VEVENT
BEGIN:VEVENT
DTSTART;TZID=Pacific/Auckland:20280308T173000
DTEND;TZID=Pacific/Auckland:20280308T183000
DTSTAMP:20260420T171804
CREATED:20251001T013410Z
LAST-MODIFIED:20251002T202333Z
UID:10002941-1836149400-1836153000@www.rakiuracalendar.com
SUMMARY:Seido karate
DESCRIPTION:
URL:https://www.rakiuracalendar.com/event/seido-karate/2028-03-08/
LOCATION:Community Centre\, 10 Ayr Street\, Oban\, Southland\, 9818\, New Zealand
CATEGORIES:Training
ATTACH;FMTTYPE=image/png:https://www.rakiuracalendar.com/wp-content/uploads/2025/10/seido-karate-1-e1759281973823.png
ORGANIZER;CN="Nigel Fraser":MAILTO:gappx3@gmail.com
END:VEVENT
BEGIN:VEVENT
DTSTART;TZID=Pacific/Auckland:20280308T190000
DTEND;TZID=Pacific/Auckland:20280308T203000
DTSTAMP:20260420T171804
CREATED:20260124T210428Z
LAST-MODIFIED:20260310T194853Z
UID:10003662-1836154800-1836160200@www.rakiuracalendar.com
SUMMARY:Winter Jam Session
DESCRIPTION:Come along to the Oban Volunteer Fire Brigade Station to hear some of our local music enthusiasts jamming. Better yet\, bring your instrument of choice and join in. \nGold coin donation to support the Oban Volunteer Fire Brigade participation in the Wajax pump competition.
URL:https://www.rakiuracalendar.com/event/winter-jam-session-2-2-2/2028-03-08/
LOCATION:Oban Fire Station\, 6 Argyle Street\, Oban\, Southland\, 9818\, New Zealand
CATEGORIES:Music
ATTACH;FMTTYPE=image/jpeg:https://www.rakiuracalendar.com/wp-content/uploads/2025/07/pexels-bigbagfilms-8512617-scaled-e1752641177610.jpg
END:VEVENT
BEGIN:VEVENT
DTSTART;TZID=Pacific/Auckland:20280312T083000
DTEND;TZID=Pacific/Auckland:20280312T100000
DTSTAMP:20260420T171804
CREATED:20260220T204117Z
LAST-MODIFIED:20260220T204117Z
UID:10004806-1836462600-1836468000@www.rakiuracalendar.com
SUMMARY:Seido karate
DESCRIPTION:
URL:https://www.rakiuracalendar.com/event/seido-karate-2-2/2028-03-12/
LOCATION:Community Centre\, 10 Ayr Street\, Oban\, Southland\, 9818\, New Zealand
CATEGORIES:Training
ATTACH;FMTTYPE=image/png:https://www.rakiuracalendar.com/wp-content/uploads/2025/10/seido-karate-1-e1759281973823.png
ORGANIZER;CN="Nigel Fraser":MAILTO:gappx3@gmail.com
END:VEVENT
BEGIN:VEVENT
DTSTART;TZID=Pacific/Auckland:20280313T190000
DTEND;TZID=Pacific/Auckland:20280313T190000
DTSTAMP:20260420T171804
CREATED:20230529T074945Z
LAST-MODIFIED:20230530T041221Z
UID:10000829-1836586800-1836586800@www.rakiuracalendar.com
SUMMARY:Oban Fire Brigade Training Night
DESCRIPTION:Fire and Emergency NZ weekly training for the local brigade. \nCome along to see what we’re up to and if you’re interested in volunteering.
URL:https://www.rakiuracalendar.com/event/oban-fire-brigade-training-night/2028-03-13/
LOCATION:Oban Fire Station\, 6 Argyle Street\, Oban\, Southland\, 9818\, New Zealand
CATEGORIES:Community,Group meeting,Training,Volunteer
ATTACH;FMTTYPE=image/jpeg:https://www.rakiuracalendar.com/wp-content/uploads/2023/05/Screenshot_20230529_194125_Outlook.jpg
END:VEVENT
BEGIN:VEVENT
DTSTART;TZID=Pacific/Auckland:20280314T140000
DTEND;TZID=Pacific/Auckland:20280314T160000
DTSTAMP:20260420T171804
CREATED:20260211T050351Z
LAST-MODIFIED:20260211T050351Z
UID:10004479-1836655200-1836662400@www.rakiuracalendar.com
SUMMARY:Knit and Natter
DESCRIPTION:
URL:https://www.rakiuracalendar.com/event/knit-and-natter/2028-03-14/
LOCATION:Oban Fire Station\, 6 Argyle Street\, Oban\, Southland\, 9818\, New Zealand
END:VEVENT
BEGIN:VEVENT
DTSTART;TZID=Pacific/Auckland:20280314T173000
DTEND;TZID=Pacific/Auckland:20280314T183000
DTSTAMP:20260420T171804
CREATED:20241004T182256Z
LAST-MODIFIED:20241004T182256Z
UID:10002001-1836667800-1836671400@www.rakiuracalendar.com
SUMMARY:Future Rakiura Committee Meeting
DESCRIPTION:Monthly meeting of the Future Rakiura Committee to progress community projects.
URL:https://www.rakiuracalendar.com/event/future-rakiura-committee-meeting-10-2-2-2/2028-03-14/
LOCATION:Southland
CATEGORIES:Community
ATTACH;FMTTYPE=image/png:https://www.rakiuracalendar.com/wp-content/uploads/Logos/Logo.png
ORGANIZER;CN="Future Rakiura":MAILTO:rakiura.future@gmail.com
END:VEVENT
BEGIN:VEVENT
DTSTART;TZID=Pacific/Auckland:20280315T130000
DTEND;TZID=Pacific/Auckland:20280315T150000
DTSTAMP:20260420T171804
CREATED:20240817T050438Z
LAST-MODIFIED:20240817T050438Z
UID:10001792-1836738000-1836745200@www.rakiuracalendar.com
SUMMARY:SIRCET Plant & Plot
DESCRIPTION:
URL:https://www.rakiuracalendar.com/event/sircet-plant-plot/2028-03-15/
LOCATION:Southland
CATEGORIES:Conservation,Outdoors
ATTACH;FMTTYPE=image/jpeg:https://www.rakiuracalendar.com/wp-content/uploads/2024/08/att.VyK46gQo0TKr71KN42gRUydL05kP9F9IqEFgaB4_nlM-1-e1723871006841.jpg
ORGANIZER;CN="SIRCET":MAILTO:community@sircet.org.nz
END:VEVENT
BEGIN:VEVENT
DTSTART;TZID=Pacific/Auckland:20280315T173000
DTEND;TZID=Pacific/Auckland:20280315T183000
DTSTAMP:20260420T171804
CREATED:20251001T013410Z
LAST-MODIFIED:20251002T202333Z
UID:10003332-1836754200-1836757800@www.rakiuracalendar.com
SUMMARY:Seido karate
DESCRIPTION:
URL:https://www.rakiuracalendar.com/event/seido-karate/2028-03-15/
LOCATION:Community Centre\, 10 Ayr Street\, Oban\, Southland\, 9818\, New Zealand
CATEGORIES:Training
ATTACH;FMTTYPE=image/png:https://www.rakiuracalendar.com/wp-content/uploads/2025/10/seido-karate-1-e1759281973823.png
ORGANIZER;CN="Nigel Fraser":MAILTO:gappx3@gmail.com
END:VEVENT
BEGIN:VEVENT
DTSTART;TZID=Pacific/Auckland:20280315T190000
DTEND;TZID=Pacific/Auckland:20280315T203000
DTSTAMP:20260420T171804
CREATED:20260124T210428Z
LAST-MODIFIED:20260310T194853Z
UID:10003663-1836759600-1836765000@www.rakiuracalendar.com
SUMMARY:Winter Jam Session
DESCRIPTION:Come along to the Oban Volunteer Fire Brigade Station to hear some of our local music enthusiasts jamming. Better yet\, bring your instrument of choice and join in. \nGold coin donation to support the Oban Volunteer Fire Brigade participation in the Wajax pump competition.
URL:https://www.rakiuracalendar.com/event/winter-jam-session-2-2-2/2028-03-15/
LOCATION:Oban Fire Station\, 6 Argyle Street\, Oban\, Southland\, 9818\, New Zealand
CATEGORIES:Music
ATTACH;FMTTYPE=image/jpeg:https://www.rakiuracalendar.com/wp-content/uploads/2025/07/pexels-bigbagfilms-8512617-scaled-e1752641177610.jpg
END:VEVENT
BEGIN:VEVENT
DTSTART;TZID=Pacific/Auckland:20280319T083000
DTEND;TZID=Pacific/Auckland:20280319T100000
DTSTAMP:20260420T171804
CREATED:20260220T204117Z
LAST-MODIFIED:20260220T204117Z
UID:10004807-1837067400-1837072800@www.rakiuracalendar.com
SUMMARY:Seido karate
DESCRIPTION:
URL:https://www.rakiuracalendar.com/event/seido-karate-2-2/2028-03-19/
LOCATION:Community Centre\, 10 Ayr Street\, Oban\, Southland\, 9818\, New Zealand
CATEGORIES:Training
ATTACH;FMTTYPE=image/png:https://www.rakiuracalendar.com/wp-content/uploads/2025/10/seido-karate-1-e1759281973823.png
ORGANIZER;CN="Nigel Fraser":MAILTO:gappx3@gmail.com
END:VEVENT
BEGIN:VEVENT
DTSTART;TZID=Pacific/Auckland:20280320T190000
DTEND;TZID=Pacific/Auckland:20280320T190000
DTSTAMP:20260420T171804
CREATED:20230529T074945Z
LAST-MODIFIED:20230530T041221Z
UID:10000830-1837191600-1837191600@www.rakiuracalendar.com
SUMMARY:Oban Fire Brigade Training Night
DESCRIPTION:Fire and Emergency NZ weekly training for the local brigade. \nCome along to see what we’re up to and if you’re interested in volunteering.
URL:https://www.rakiuracalendar.com/event/oban-fire-brigade-training-night/2028-03-20/
LOCATION:Oban Fire Station\, 6 Argyle Street\, Oban\, Southland\, 9818\, New Zealand
CATEGORIES:Community,Group meeting,Training,Volunteer
ATTACH;FMTTYPE=image/jpeg:https://www.rakiuracalendar.com/wp-content/uploads/2023/05/Screenshot_20230529_194125_Outlook.jpg
END:VEVENT
BEGIN:VEVENT
DTSTART;TZID=Pacific/Auckland:20280321T140000
DTEND;TZID=Pacific/Auckland:20280321T160000
DTSTAMP:20260420T171804
CREATED:20260211T050351Z
LAST-MODIFIED:20260211T050351Z
UID:10004480-1837260000-1837267200@www.rakiuracalendar.com
SUMMARY:Knit and Natter
DESCRIPTION:
URL:https://www.rakiuracalendar.com/event/knit-and-natter/2028-03-21/
LOCATION:Oban Fire Station\, 6 Argyle Street\, Oban\, Southland\, 9818\, New Zealand
END:VEVENT
BEGIN:VEVENT
DTSTART;TZID=Pacific/Auckland:20280322T130000
DTEND;TZID=Pacific/Auckland:20280322T150000
DTSTAMP:20260420T171804
CREATED:20240817T050438Z
LAST-MODIFIED:20240817T050438Z
UID:10001793-1837342800-1837350000@www.rakiuracalendar.com
SUMMARY:SIRCET Plant & Plot
DESCRIPTION:
URL:https://www.rakiuracalendar.com/event/sircet-plant-plot/2028-03-22/
LOCATION:Southland
CATEGORIES:Conservation,Outdoors
ATTACH;FMTTYPE=image/jpeg:https://www.rakiuracalendar.com/wp-content/uploads/2024/08/att.VyK46gQo0TKr71KN42gRUydL05kP9F9IqEFgaB4_nlM-1-e1723871006841.jpg
ORGANIZER;CN="SIRCET":MAILTO:community@sircet.org.nz
END:VEVENT
BEGIN:VEVENT
DTSTART;TZID=Pacific/Auckland:20280322T173000
DTEND;TZID=Pacific/Auckland:20280322T183000
DTSTAMP:20260420T171804
CREATED:20251001T013410Z
LAST-MODIFIED:20251002T202333Z
UID:10002942-1837359000-1837362600@www.rakiuracalendar.com
SUMMARY:Seido karate
DESCRIPTION:
URL:https://www.rakiuracalendar.com/event/seido-karate/2028-03-22/
LOCATION:Community Centre\, 10 Ayr Street\, Oban\, Southland\, 9818\, New Zealand
CATEGORIES:Training
ATTACH;FMTTYPE=image/png:https://www.rakiuracalendar.com/wp-content/uploads/2025/10/seido-karate-1-e1759281973823.png
ORGANIZER;CN="Nigel Fraser":MAILTO:gappx3@gmail.com
END:VEVENT
BEGIN:VEVENT
DTSTART;TZID=Pacific/Auckland:20280322T190000
DTEND;TZID=Pacific/Auckland:20280322T203000
DTSTAMP:20260420T171804
CREATED:20260124T210428Z
LAST-MODIFIED:20260310T194853Z
UID:10003664-1837364400-1837369800@www.rakiuracalendar.com
SUMMARY:Winter Jam Session
DESCRIPTION:Come along to the Oban Volunteer Fire Brigade Station to hear some of our local music enthusiasts jamming. Better yet\, bring your instrument of choice and join in. \nGold coin donation to support the Oban Volunteer Fire Brigade participation in the Wajax pump competition.
URL:https://www.rakiuracalendar.com/event/winter-jam-session-2-2-2/2028-03-22/
LOCATION:Oban Fire Station\, 6 Argyle Street\, Oban\, Southland\, 9818\, New Zealand
CATEGORIES:Music
ATTACH;FMTTYPE=image/jpeg:https://www.rakiuracalendar.com/wp-content/uploads/2025/07/pexels-bigbagfilms-8512617-scaled-e1752641177610.jpg
END:VEVENT
BEGIN:VEVENT
DTSTART;TZID=Pacific/Auckland:20280326T083000
DTEND;TZID=Pacific/Auckland:20280326T100000
DTSTAMP:20260420T171804
CREATED:20260220T204117Z
LAST-MODIFIED:20260220T204117Z
UID:10004808-1837672200-1837677600@www.rakiuracalendar.com
SUMMARY:Seido karate
DESCRIPTION:
URL:https://www.rakiuracalendar.com/event/seido-karate-2-2/2028-03-26/
LOCATION:Community Centre\, 10 Ayr Street\, Oban\, Southland\, 9818\, New Zealand
CATEGORIES:Training
ATTACH;FMTTYPE=image/png:https://www.rakiuracalendar.com/wp-content/uploads/2025/10/seido-karate-1-e1759281973823.png
ORGANIZER;CN="Nigel Fraser":MAILTO:gappx3@gmail.com
END:VEVENT
BEGIN:VEVENT
DTSTART;TZID=Pacific/Auckland:20280327T190000
DTEND;TZID=Pacific/Auckland:20280327T190000
DTSTAMP:20260420T171804
CREATED:20230529T074945Z
LAST-MODIFIED:20230530T041221Z
UID:10000831-1837796400-1837796400@www.rakiuracalendar.com
SUMMARY:Oban Fire Brigade Training Night
DESCRIPTION:Fire and Emergency NZ weekly training for the local brigade. \nCome along to see what we’re up to and if you’re interested in volunteering.
URL:https://www.rakiuracalendar.com/event/oban-fire-brigade-training-night/2028-03-27/
LOCATION:Oban Fire Station\, 6 Argyle Street\, Oban\, Southland\, 9818\, New Zealand
CATEGORIES:Community,Group meeting,Training,Volunteer
ATTACH;FMTTYPE=image/jpeg:https://www.rakiuracalendar.com/wp-content/uploads/2023/05/Screenshot_20230529_194125_Outlook.jpg
END:VEVENT
BEGIN:VEVENT
DTSTART;TZID=Pacific/Auckland:20280328T140000
DTEND;TZID=Pacific/Auckland:20280328T160000
DTSTAMP:20260420T171804
CREATED:20260211T050351Z
LAST-MODIFIED:20260211T050351Z
UID:10004481-1837864800-1837872000@www.rakiuracalendar.com
SUMMARY:Knit and Natter
DESCRIPTION:
URL:https://www.rakiuracalendar.com/event/knit-and-natter/2028-03-28/
LOCATION:Oban Fire Station\, 6 Argyle Street\, Oban\, Southland\, 9818\, New Zealand
END:VEVENT
BEGIN:VEVENT
DTSTART;TZID=Pacific/Auckland:20280329T130000
DTEND;TZID=Pacific/Auckland:20280329T150000
DTSTAMP:20260420T171804
CREATED:20240817T050438Z
LAST-MODIFIED:20240817T050438Z
UID:10001794-1837947600-1837954800@www.rakiuracalendar.com
SUMMARY:SIRCET Plant & Plot
DESCRIPTION:
URL:https://www.rakiuracalendar.com/event/sircet-plant-plot/2028-03-29/
LOCATION:Southland
CATEGORIES:Conservation,Outdoors
ATTACH;FMTTYPE=image/jpeg:https://www.rakiuracalendar.com/wp-content/uploads/2024/08/att.VyK46gQo0TKr71KN42gRUydL05kP9F9IqEFgaB4_nlM-1-e1723871006841.jpg
ORGANIZER;CN="SIRCET":MAILTO:community@sircet.org.nz
END:VEVENT
BEGIN:VEVENT
DTSTART;TZID=Pacific/Auckland:20280329T173000
DTEND;TZID=Pacific/Auckland:20280329T183000
DTSTAMP:20260420T171804
CREATED:20251001T013410Z
LAST-MODIFIED:20251002T202333Z
UID:10003333-1837963800-1837967400@www.rakiuracalendar.com
SUMMARY:Seido karate
DESCRIPTION:
URL:https://www.rakiuracalendar.com/event/seido-karate/2028-03-29/
LOCATION:Community Centre\, 10 Ayr Street\, Oban\, Southland\, 9818\, New Zealand
CATEGORIES:Training
ATTACH;FMTTYPE=image/png:https://www.rakiuracalendar.com/wp-content/uploads/2025/10/seido-karate-1-e1759281973823.png
ORGANIZER;CN="Nigel Fraser":MAILTO:gappx3@gmail.com
END:VEVENT
BEGIN:VEVENT
DTSTART;TZID=Pacific/Auckland:20280329T190000
DTEND;TZID=Pacific/Auckland:20280329T203000
DTSTAMP:20260420T171804
CREATED:20260124T210428Z
LAST-MODIFIED:20260310T194853Z
UID:10003665-1837969200-1837974600@www.rakiuracalendar.com
SUMMARY:Winter Jam Session
DESCRIPTION:Come along to the Oban Volunteer Fire Brigade Station to hear some of our local music enthusiasts jamming. Better yet\, bring your instrument of choice and join in. \nGold coin donation to support the Oban Volunteer Fire Brigade participation in the Wajax pump competition.
URL:https://www.rakiuracalendar.com/event/winter-jam-session-2-2-2/2028-03-29/
LOCATION:Oban Fire Station\, 6 Argyle Street\, Oban\, Southland\, 9818\, New Zealand
CATEGORIES:Music
ATTACH;FMTTYPE=image/jpeg:https://www.rakiuracalendar.com/wp-content/uploads/2025/07/pexels-bigbagfilms-8512617-scaled-e1752641177610.jpg
END:VEVENT
END:VCALENDAR