BEGIN:VCALENDAR
VERSION:2.0
PRODID:-//Rakiura Calendar - 2026 - ECPv6.15.20//NONSGML v1.0//EN
CALSCALE:GREGORIAN
METHOD:PUBLISH
X-ORIGINAL-URL:https://www.rakiuracalendar.com
X-WR-CALDESC:Events for Rakiura Calendar - 2026
REFRESH-INTERVAL;VALUE=DURATION:PT1H
X-Robots-Tag:noindex
X-PUBLISHED-TTL:PT1H
BEGIN:VTIMEZONE
TZID:Pacific/Auckland
BEGIN:STANDARD
TZOFFSETFROM:+1300
TZOFFSETTO:+1200
TZNAME:NZST
DTSTART:20230401T140000
END:STANDARD
BEGIN:DAYLIGHT
TZOFFSETFROM:+1200
TZOFFSETTO:+1300
TZNAME:NZDT
DTSTART:20230923T140000
END:DAYLIGHT
BEGIN:STANDARD
TZOFFSETFROM:+1300
TZOFFSETTO:+1200
TZNAME:NZST
DTSTART:20240406T140000
END:STANDARD
BEGIN:DAYLIGHT
TZOFFSETFROM:+1200
TZOFFSETTO:+1300
TZNAME:NZDT
DTSTART:20240928T140000
END:DAYLIGHT
BEGIN:STANDARD
TZOFFSETFROM:+1300
TZOFFSETTO:+1200
TZNAME:NZST
DTSTART:20250405T140000
END:STANDARD
BEGIN:DAYLIGHT
TZOFFSETFROM:+1200
TZOFFSETTO:+1300
TZNAME:NZDT
DTSTART:20250927T140000
END:DAYLIGHT
END:VTIMEZONE
BEGIN:VEVENT
DTSTART;TZID=Pacific/Auckland:20240903T180000
DTEND;TZID=Pacific/Auckland:20240903T180000
DTSTAMP:20260424T185357
CREATED:20240826T194857Z
LAST-MODIFIED:20240826T202500Z
UID:10001942-1725386400-1725386400@www.rakiuracalendar.com
SUMMARY:Rat Pathways to Rakiura Research: Experts Workshop
DESCRIPTION:YOU’RE INVITED! \nPredator Free Rakiura is supporting PF2050 and CEBRA to investigate rat pathways to Rakiura\, and we need your help! \nAn effective\, reliable\, and feasible biosecurity system is a key requirement for the long-term future of Predator Free Rakiura. \nPF2050 is funding research by the Centre of Excellence for Biosecurity Risk Analysis (CEBRA) from Melbourne to assess and model rat entry pathways to Rakiura\, which aims to understand incursion risks and manage biosecurity measure priorities.\nThis work will help to inform the design of a biosecurity system for Rakiura. \nThe research process includes CEBRA visiting Rakiura and Bluff to host information sessions and workshops with technical experts – that means you! We hope you can join us to share your experience and knowledge of rats and how they might travel to Rakiura. When Predator Free Rakiura is successful\, we need to make sure we can stop rats from returning to the island! If you’d like more information about this research\, visit our website here. RSVP by email to info@predatorfreerakiura.org.nz.
URL:https://www.rakiuracalendar.com/event/rat-pathways-to-rakiura-research-experts-workshop/
LOCATION:RSA Pavilion\, 7 Ayr Street\, Oban\, Southland\, 9818\, New Zealand
CATEGORIES:Community,Conservation
ATTACH;FMTTYPE=image/png:https://www.rakiuracalendar.com/wp-content/uploads/2024/08/Rat-Pathways-Research-Future-Rakiura-Calendar-Image-1.png
END:VEVENT
BEGIN:VEVENT
DTSTART;TZID=Pacific/Auckland:20240902T190000
DTEND;TZID=Pacific/Auckland:20240902T190000
DTSTAMP:20260424T185357
CREATED:20230529T074945Z
LAST-MODIFIED:20230530T041221Z
UID:10000645-1725303600-1725303600@www.rakiuracalendar.com
SUMMARY:Oban Fire Brigade Training Night
DESCRIPTION:Fire and Emergency NZ weekly training for the local brigade. \nCome along to see what we’re up to and if you’re interested in volunteering.
URL:https://www.rakiuracalendar.com/event/oban-fire-brigade-training-night/2024-09-02/
LOCATION:Oban Fire Station\, 6 Argyle Street\, Oban\, Southland\, 9818\, New Zealand
CATEGORIES:Community,Group meeting,Training,Volunteer
ATTACH;FMTTYPE=image/jpeg:https://www.rakiuracalendar.com/wp-content/uploads/2023/05/Screenshot_20230529_194125_Outlook.jpg
END:VEVENT
BEGIN:VEVENT
DTSTART;TZID=Pacific/Auckland:20240902T180000
DTEND;TZID=Pacific/Auckland:20240902T180000
DTSTAMP:20260424T185357
CREATED:20240826T194506Z
LAST-MODIFIED:20240826T202532Z
UID:10001943-1725300000-1725300000@www.rakiuracalendar.com
SUMMARY:Rat Pathways to Rakiura Research: Introducing the CEBRA Team
DESCRIPTION:YOU’RE INVITED! \nPredator Free Rakiura is supporting PF2050 and CEBRA to investigate rat pathways to Rakiura\, and we need your help! \nAn effective\, reliable\, and feasible biosecurity system is a key requirement for the long-term future of Predator Free Rakiura. \nPF2050 is funding research by the Centre of Excellence for Biosecurity Risk Analysis (CEBRA) from Melbourne to assess and model rat entry pathways to Rakiura\, which aims to understand incursion risks and manage biosecurity measure priorities.\nThis work will help to inform the design of a biosecurity system for Rakiura. \nThe research process includes CEBRA visiting Rakiura and Bluff to host information sessions and workshops with technical experts – that means you! We hope you can join us to share your experience and knowledge of rats and how they might travel to Rakiura. When Predator Free Rakiura is successful\, we need to make sure we can stop rats from returning to the island! If you’d like more information about this research\, visit our website here. RSVP by email to info@predatorfreerakiura.org.nz.
URL:https://www.rakiuracalendar.com/event/rat-pathways-to-rakiura-research-introducing-the-cebra-team/
LOCATION:RSA Pavilion\, 7 Ayr Street\, Oban\, Southland\, 9818\, New Zealand
CATEGORIES:Community,Conservation
ATTACH;FMTTYPE=image/png:https://www.rakiuracalendar.com/wp-content/uploads/2024/08/Rat-Pathways-Research-Future-Rakiura-Calendar-Image-1.png
END:VEVENT
BEGIN:VEVENT
DTSTART;TZID=Pacific/Auckland:20240902T100000
DTEND;TZID=Pacific/Auckland:20240902T110000
DTSTAMP:20260424T185357
CREATED:20230528T220851Z
LAST-MODIFIED:20230729T065001Z
UID:10000169-1725271200-1725274800@www.rakiuracalendar.com
SUMMARY:Tai chi
DESCRIPTION:Tai chi every Monday and Thursday- relaxed pace and beginners welcome! Gold coin donation.
URL:https://www.rakiuracalendar.com/event/tai-chi/2024-09-02/
LOCATION:RSA Pavilion\, 7 Ayr Street\, Oban\, Southland\, 9818\, New Zealand
CATEGORIES:Sport,Wellbeing
ATTACH;FMTTYPE=image/jpeg:https://www.rakiuracalendar.com/wp-content/uploads/2023/05/20230408_115141-e1690613375334.jpg
END:VEVENT
BEGIN:VEVENT
DTSTART;TZID=Pacific/Auckland:20240831T193000
DTEND;TZID=Pacific/Auckland:20240831T193000
DTSTAMP:20260424T185357
CREATED:20240817T053636Z
LAST-MODIFIED:20240826T203957Z
UID:10001940-1725132600-1725132600@www.rakiuracalendar.com
SUMMARY:Taonga Purakau
DESCRIPTION:
URL:https://www.rakiuracalendar.com/event/taonga-purakau/
LOCATION:Community Centre\, 10 Ayr Street\, Oban\, Southland\, 9818\, New Zealand
CATEGORIES:Arts,Community
ATTACH;FMTTYPE=image/jpeg:https://www.rakiuracalendar.com/wp-content/uploads/2024/08/455024617_10231851202164246_9181116486179056972_n.jpg
ORGANIZER;CN="Toi Rakiura":MAILTO:toi.rakiura@gmail.com
END:VEVENT
BEGIN:VEVENT
DTSTART;VALUE=DATE:20240831
DTEND;VALUE=DATE:20240901
DTSTAMP:20260424T185357
CREATED:20240817T054049Z
LAST-MODIFIED:20240817T054049Z
UID:10001941-1725062400-1725148799@www.rakiuracalendar.com
SUMMARY:Rakiura LandSAR AGM
DESCRIPTION:Time to be confirmed
URL:https://www.rakiuracalendar.com/event/rakiura-landsar-agm-2/
LOCATION:Oban Fire Station\, 6 Argyle Street\, Oban\, Southland\, 9818\, New Zealand
CATEGORIES:Emergency services,Group meeting
ATTACH;FMTTYPE=image/jpeg:https://www.rakiuracalendar.com/wp-content/uploads/Logos/Logo.jpg
ORGANIZER;CN="Rakiura LandSAR":MAILTO:stewartisland@landsar.org.nz
END:VEVENT
BEGIN:VEVENT
DTSTART;TZID=Pacific/Auckland:20240829T190000
DTEND;TZID=Pacific/Auckland:20240829T203000
DTSTAMP:20260424T185357
CREATED:20240707T003639Z
LAST-MODIFIED:20240707T003639Z
UID:10001598-1724958000-1724963400@www.rakiuracalendar.com
SUMMARY:Badminton
DESCRIPTION:
URL:https://www.rakiuracalendar.com/event/badminton-3/2024-08-29/
LOCATION:Community Centre\, 10 Ayr Street\, Oban\, Southland\, 9818\, New Zealand
CATEGORIES:Sport
ATTACH;FMTTYPE=image/jpeg:https://www.rakiuracalendar.com/wp-content/uploads/Events/20230523_152053-scaled-e1720312483151.jpg
END:VEVENT
BEGIN:VEVENT
DTSTART;TZID=Pacific/Auckland:20240829T173000
DTEND;TZID=Pacific/Auckland:20240829T173000
DTSTAMP:20260424T185357
CREATED:20240817T050924Z
LAST-MODIFIED:20240817T051151Z
UID:10001867-1724952600-1724952600@www.rakiuracalendar.com
SUMMARY:SIRCET Annual General Meeting
DESCRIPTION:
URL:https://www.rakiuracalendar.com/event/sircet-annual-general-meeting/
LOCATION:RSA Pavilion\, 7 Ayr Street\, Oban\, Southland\, 9818\, New Zealand
CATEGORIES:Conservation
ATTACH;FMTTYPE=image/png:https://www.rakiuracalendar.com/wp-content/uploads/2023/08/Untitled-design-8.png
ORGANIZER;CN="SIRCET":MAILTO:community@sircet.org.nz
END:VEVENT
BEGIN:VEVENT
DTSTART;TZID=Pacific/Auckland:20240829T100000
DTEND;TZID=Pacific/Auckland:20240829T110000
DTSTAMP:20260424T185357
CREATED:20230528T220851Z
LAST-MODIFIED:20230729T065001Z
UID:10000168-1724925600-1724929200@www.rakiuracalendar.com
SUMMARY:Tai chi
DESCRIPTION:Tai chi every Monday and Thursday- relaxed pace and beginners welcome! Gold coin donation.
URL:https://www.rakiuracalendar.com/event/tai-chi/2024-08-29/
LOCATION:RSA Pavilion\, 7 Ayr Street\, Oban\, Southland\, 9818\, New Zealand
CATEGORIES:Sport,Wellbeing
ATTACH;FMTTYPE=image/jpeg:https://www.rakiuracalendar.com/wp-content/uploads/2023/05/20230408_115141-e1690613375334.jpg
END:VEVENT
BEGIN:VEVENT
DTSTART;TZID=Pacific/Auckland:20240828T170000
DTEND;TZID=Pacific/Auckland:20240828T180000
DTSTAMP:20260424T185357
CREATED:20240817T052403Z
LAST-MODIFIED:20240817T052403Z
UID:10001873-1724864400-1724868000@www.rakiuracalendar.com
SUMMARY:Animal Flow
DESCRIPTION:Animal Flow is a ground based bodyweight exercise system developed by Mike Fitch and with roots in yoga\, Pilates and breakdance. It can be adapted to be accessible to moderately fit people or to challenge the very fit.
URL:https://www.rakiuracalendar.com/event/animal-flow-2/2024-08-28/
LOCATION:St Andrews Anglican Church Hall\, 10 Excelsior Road\, Oban\, 9818\, New Zealand
CATEGORIES:Health,Sport,Training,Wellbeing
ATTACH;FMTTYPE=image/png:https://www.rakiuracalendar.com/wp-content/uploads/2023/07/Animal-Flow.png
ORGANIZER;CN="Bill Watt":MAILTO:williamwatt@outlook.co.nz
END:VEVENT
BEGIN:VEVENT
DTSTART;TZID=Pacific/Auckland:20240828T130000
DTEND;TZID=Pacific/Auckland:20240828T150000
DTSTAMP:20260424T185357
CREATED:20240817T050438Z
LAST-MODIFIED:20240817T050438Z
UID:10001607-1724850000-1724857200@www.rakiuracalendar.com
SUMMARY:SIRCET Plant & Plot
DESCRIPTION:
URL:https://www.rakiuracalendar.com/event/sircet-plant-plot/2024-08-28/
LOCATION:Southland
CATEGORIES:Conservation,Outdoors
ATTACH;FMTTYPE=image/jpeg:https://www.rakiuracalendar.com/wp-content/uploads/2024/08/att.VyK46gQo0TKr71KN42gRUydL05kP9F9IqEFgaB4_nlM-1-e1723871006841.jpg
ORGANIZER;CN="SIRCET":MAILTO:community@sircet.org.nz
END:VEVENT
BEGIN:VEVENT
DTSTART;TZID=Pacific/Auckland:20240828T100000
DTEND;TZID=Pacific/Auckland:20240828T150000
DTSTAMP:20260424T185357
CREATED:20240817T053338Z
LAST-MODIFIED:20240817T053338Z
UID:10001879-1724839200-1724857200@www.rakiuracalendar.com
SUMMARY:Card Games
DESCRIPTION:
URL:https://www.rakiuracalendar.com/event/card-games/2024-08-28/
LOCATION:South Sea Hotel\, 26 Elgin Terrace\, Oban\, Southland\, 9818\, New Zealand
CATEGORIES:Community
ATTACH;FMTTYPE=image/jpeg:https://www.rakiuracalendar.com/wp-content/uploads/Events/20230523_152505-scaled-e1723872739432.jpg
END:VEVENT
BEGIN:VEVENT
DTSTART;TZID=Pacific/Auckland:20240827T190000
DTEND;TZID=Pacific/Auckland:20240827T203000
DTSTAMP:20260424T185357
CREATED:20240119T223017Z
LAST-MODIFIED:20240119T223017Z
UID:10001384-1724785200-1724790600@www.rakiuracalendar.com
SUMMARY:Rakiura LandSAR Committee Meeting
DESCRIPTION:Monthly meeting of the Stewart Island/Rakiura Land Search and Rescue volunteer group. \nMeetings are held at the Oban Fire Station on the last Tuesday of every month. \nContact our Secretary – Jon Spraggon for more information.
URL:https://www.rakiuracalendar.com/event/rakiura-landsar-committee-meeting-8/2024-08-27/
LOCATION:Southland
CATEGORIES:Emergency services,Volunteer
ATTACH;FMTTYPE=image/jpeg:https://www.rakiuracalendar.com/wp-content/uploads/Logos/Logo.jpg
ORGANIZER;CN="Rakiura LandSAR":MAILTO:stewartisland@landsar.org.nz
END:VEVENT
BEGIN:VEVENT
DTSTART;TZID=Pacific/Auckland:20240826T190000
DTEND;TZID=Pacific/Auckland:20240826T190000
DTSTAMP:20260424T185357
CREATED:20230529T074945Z
LAST-MODIFIED:20230530T041221Z
UID:10000644-1724698800-1724698800@www.rakiuracalendar.com
SUMMARY:Oban Fire Brigade Training Night
DESCRIPTION:Fire and Emergency NZ weekly training for the local brigade. \nCome along to see what we’re up to and if you’re interested in volunteering.
URL:https://www.rakiuracalendar.com/event/oban-fire-brigade-training-night/2024-08-26/
LOCATION:Oban Fire Station\, 6 Argyle Street\, Oban\, Southland\, 9818\, New Zealand
CATEGORIES:Community,Group meeting,Training,Volunteer
ATTACH;FMTTYPE=image/jpeg:https://www.rakiuracalendar.com/wp-content/uploads/2023/05/Screenshot_20230529_194125_Outlook.jpg
END:VEVENT
BEGIN:VEVENT
DTSTART;TZID=Pacific/Auckland:20240826T163000
DTEND;TZID=Pacific/Auckland:20240826T163000
DTSTAMP:20260424T185357
CREATED:20240817T051719Z
LAST-MODIFIED:20240817T051719Z
UID:10001868-1724689800-1724689800@www.rakiuracalendar.com
SUMMARY:Stewart Island Community Centre Trust
DESCRIPTION:
URL:https://www.rakiuracalendar.com/event/stewart-island-community-centre-trust/
LOCATION:Community Centre\, 10 Ayr Street\, Oban\, Southland\, 9818\, New Zealand
CATEGORIES:Community
END:VEVENT
BEGIN:VEVENT
DTSTART;TZID=Pacific/Auckland:20240826T100000
DTEND;TZID=Pacific/Auckland:20240826T110000
DTSTAMP:20260424T185357
CREATED:20230528T220851Z
LAST-MODIFIED:20230729T065001Z
UID:10000167-1724666400-1724670000@www.rakiuracalendar.com
SUMMARY:Tai chi
DESCRIPTION:Tai chi every Monday and Thursday- relaxed pace and beginners welcome! Gold coin donation.
URL:https://www.rakiuracalendar.com/event/tai-chi/2024-08-26/
LOCATION:RSA Pavilion\, 7 Ayr Street\, Oban\, Southland\, 9818\, New Zealand
CATEGORIES:Sport,Wellbeing
ATTACH;FMTTYPE=image/jpeg:https://www.rakiuracalendar.com/wp-content/uploads/2023/05/20230408_115141-e1690613375334.jpg
END:VEVENT
BEGIN:VEVENT
DTSTART;TZID=Pacific/Auckland:20240824T100000
DTEND;TZID=Pacific/Auckland:20240824T150000
DTSTAMP:20260424T185357
CREATED:20240707T004225Z
LAST-MODIFIED:20240817T053715Z
UID:10001603-1724493600-1724511600@www.rakiuracalendar.com
SUMMARY:Writing workshop
DESCRIPTION:
URL:https://www.rakiuracalendar.com/event/writing-workshop/
LOCATION:Oban Fire Station\, 6 Argyle Street\, Oban\, Southland\, 9818\, New Zealand
CATEGORIES:Arts
ATTACH;FMTTYPE=image/png:https://www.rakiuracalendar.com/wp-content/uploads/2024/07/writingworkshopcrop.png
ORGANIZER;CN="Toi Rakiura":MAILTO:toi.rakiura@gmail.com
END:VEVENT
BEGIN:VEVENT
DTSTART;TZID=Pacific/Auckland:20240822T190000
DTEND;TZID=Pacific/Auckland:20240822T203000
DTSTAMP:20260424T185357
CREATED:20240707T003639Z
LAST-MODIFIED:20240707T003639Z
UID:10001597-1724353200-1724358600@www.rakiuracalendar.com
SUMMARY:Badminton
DESCRIPTION:
URL:https://www.rakiuracalendar.com/event/badminton-3/2024-08-22/
LOCATION:Community Centre\, 10 Ayr Street\, Oban\, Southland\, 9818\, New Zealand
CATEGORIES:Sport
ATTACH;FMTTYPE=image/jpeg:https://www.rakiuracalendar.com/wp-content/uploads/Events/20230523_152053-scaled-e1720312483151.jpg
END:VEVENT
BEGIN:VEVENT
DTSTART;TZID=Pacific/Auckland:20240822T100000
DTEND;TZID=Pacific/Auckland:20240822T110000
DTSTAMP:20260424T185357
CREATED:20230528T220851Z
LAST-MODIFIED:20230729T065001Z
UID:10000166-1724320800-1724324400@www.rakiuracalendar.com
SUMMARY:Tai chi
DESCRIPTION:Tai chi every Monday and Thursday- relaxed pace and beginners welcome! Gold coin donation.
URL:https://www.rakiuracalendar.com/event/tai-chi/2024-08-22/
LOCATION:RSA Pavilion\, 7 Ayr Street\, Oban\, Southland\, 9818\, New Zealand
CATEGORIES:Sport,Wellbeing
ATTACH;FMTTYPE=image/jpeg:https://www.rakiuracalendar.com/wp-content/uploads/2023/05/20230408_115141-e1690613375334.jpg
END:VEVENT
BEGIN:VEVENT
DTSTART;TZID=Pacific/Auckland:20240821T170000
DTEND;TZID=Pacific/Auckland:20240821T180000
DTSTAMP:20260424T185357
CREATED:20240817T052403Z
LAST-MODIFIED:20240817T052403Z
UID:10001872-1724259600-1724263200@www.rakiuracalendar.com
SUMMARY:Animal Flow
DESCRIPTION:Animal Flow is a ground based bodyweight exercise system developed by Mike Fitch and with roots in yoga\, Pilates and breakdance. It can be adapted to be accessible to moderately fit people or to challenge the very fit.
URL:https://www.rakiuracalendar.com/event/animal-flow-2/2024-08-21/
LOCATION:St Andrews Anglican Church Hall\, 10 Excelsior Road\, Oban\, 9818\, New Zealand
CATEGORIES:Health,Sport,Training,Wellbeing
ATTACH;FMTTYPE=image/png:https://www.rakiuracalendar.com/wp-content/uploads/2023/07/Animal-Flow.png
ORGANIZER;CN="Bill Watt":MAILTO:williamwatt@outlook.co.nz
END:VEVENT
BEGIN:VEVENT
DTSTART;TZID=Pacific/Auckland:20240821T130000
DTEND;TZID=Pacific/Auckland:20240821T150000
DTSTAMP:20260424T185357
CREATED:20240817T050438Z
LAST-MODIFIED:20240817T050438Z
UID:10001606-1724245200-1724252400@www.rakiuracalendar.com
SUMMARY:SIRCET Plant & Plot
DESCRIPTION:
URL:https://www.rakiuracalendar.com/event/sircet-plant-plot/2024-08-21/
LOCATION:Southland
CATEGORIES:Conservation,Outdoors
ATTACH;FMTTYPE=image/jpeg:https://www.rakiuracalendar.com/wp-content/uploads/2024/08/att.VyK46gQo0TKr71KN42gRUydL05kP9F9IqEFgaB4_nlM-1-e1723871006841.jpg
ORGANIZER;CN="SIRCET":MAILTO:community@sircet.org.nz
END:VEVENT
BEGIN:VEVENT
DTSTART;TZID=Pacific/Auckland:20240821T100000
DTEND;TZID=Pacific/Auckland:20240821T150000
DTSTAMP:20260424T185357
CREATED:20240817T053338Z
LAST-MODIFIED:20240817T053338Z
UID:10001878-1724234400-1724252400@www.rakiuracalendar.com
SUMMARY:Card Games
DESCRIPTION:
URL:https://www.rakiuracalendar.com/event/card-games/2024-08-21/
LOCATION:South Sea Hotel\, 26 Elgin Terrace\, Oban\, Southland\, 9818\, New Zealand
CATEGORIES:Community
ATTACH;FMTTYPE=image/jpeg:https://www.rakiuracalendar.com/wp-content/uploads/Events/20230523_152505-scaled-e1723872739432.jpg
END:VEVENT
BEGIN:VEVENT
DTSTART;TZID=Pacific/Auckland:20240819T190000
DTEND;TZID=Pacific/Auckland:20240819T190000
DTSTAMP:20260424T185357
CREATED:20230529T074945Z
LAST-MODIFIED:20230530T041221Z
UID:10000643-1724094000-1724094000@www.rakiuracalendar.com
SUMMARY:Oban Fire Brigade Training Night
DESCRIPTION:Fire and Emergency NZ weekly training for the local brigade. \nCome along to see what we’re up to and if you’re interested in volunteering.
URL:https://www.rakiuracalendar.com/event/oban-fire-brigade-training-night/2024-08-19/
LOCATION:Oban Fire Station\, 6 Argyle Street\, Oban\, Southland\, 9818\, New Zealand
CATEGORIES:Community,Group meeting,Training,Volunteer
ATTACH;FMTTYPE=image/jpeg:https://www.rakiuracalendar.com/wp-content/uploads/2023/05/Screenshot_20230529_194125_Outlook.jpg
END:VEVENT
BEGIN:VEVENT
DTSTART;TZID=Pacific/Auckland:20240819T100000
DTEND;TZID=Pacific/Auckland:20240819T110000
DTSTAMP:20260424T185357
CREATED:20230528T220851Z
LAST-MODIFIED:20230729T065001Z
UID:10000165-1724061600-1724065200@www.rakiuracalendar.com
SUMMARY:Tai chi
DESCRIPTION:Tai chi every Monday and Thursday- relaxed pace and beginners welcome! Gold coin donation.
URL:https://www.rakiuracalendar.com/event/tai-chi/2024-08-19/
LOCATION:RSA Pavilion\, 7 Ayr Street\, Oban\, Southland\, 9818\, New Zealand
CATEGORIES:Sport,Wellbeing
ATTACH;FMTTYPE=image/jpeg:https://www.rakiuracalendar.com/wp-content/uploads/2023/05/20230408_115141-e1690613375334.jpg
END:VEVENT
BEGIN:VEVENT
DTSTART;TZID=Pacific/Auckland:20240815T190000
DTEND;TZID=Pacific/Auckland:20240815T203000
DTSTAMP:20260424T185357
CREATED:20240707T003639Z
LAST-MODIFIED:20240707T003639Z
UID:10001596-1723748400-1723753800@www.rakiuracalendar.com
SUMMARY:Badminton
DESCRIPTION:
URL:https://www.rakiuracalendar.com/event/badminton-3/2024-08-15/
LOCATION:Community Centre\, 10 Ayr Street\, Oban\, Southland\, 9818\, New Zealand
CATEGORIES:Sport
ATTACH;FMTTYPE=image/jpeg:https://www.rakiuracalendar.com/wp-content/uploads/Events/20230523_152053-scaled-e1720312483151.jpg
END:VEVENT
BEGIN:VEVENT
DTSTART;TZID=Pacific/Auckland:20240815T100000
DTEND;TZID=Pacific/Auckland:20240815T110000
DTSTAMP:20260424T185357
CREATED:20230528T220851Z
LAST-MODIFIED:20230729T065001Z
UID:10000164-1723716000-1723719600@www.rakiuracalendar.com
SUMMARY:Tai chi
DESCRIPTION:Tai chi every Monday and Thursday- relaxed pace and beginners welcome! Gold coin donation.
URL:https://www.rakiuracalendar.com/event/tai-chi/2024-08-15/
LOCATION:RSA Pavilion\, 7 Ayr Street\, Oban\, Southland\, 9818\, New Zealand
CATEGORIES:Sport,Wellbeing
ATTACH;FMTTYPE=image/jpeg:https://www.rakiuracalendar.com/wp-content/uploads/2023/05/20230408_115141-e1690613375334.jpg
END:VEVENT
BEGIN:VEVENT
DTSTART;TZID=Pacific/Auckland:20240814T173000
DTEND;TZID=Pacific/Auckland:20240814T203000
DTSTAMP:20260424T185357
CREATED:20240802T040406Z
LAST-MODIFIED:20240802T040406Z
UID:10001605-1723656600-1723667400@www.rakiuracalendar.com
SUMMARY:Shall We Dance?
DESCRIPTION:
URL:https://www.rakiuracalendar.com/event/shall-we-dance/2024-08-14/
LOCATION:Community Centre\, 10 Ayr Street\, Oban\, Southland\, 9818\, New Zealand
CATEGORIES:Sport
ATTACH;FMTTYPE=image/jpeg:https://www.rakiuracalendar.com/wp-content/uploads/2024/08/img_2_1722571081716.jpg
END:VEVENT
BEGIN:VEVENT
DTSTART;TZID=Pacific/Auckland:20240814T170000
DTEND;TZID=Pacific/Auckland:20240814T180000
DTSTAMP:20260424T185357
CREATED:20240817T052403Z
LAST-MODIFIED:20240817T052403Z
UID:10001871-1723654800-1723658400@www.rakiuracalendar.com
SUMMARY:Animal Flow
DESCRIPTION:Animal Flow is a ground based bodyweight exercise system developed by Mike Fitch and with roots in yoga\, Pilates and breakdance. It can be adapted to be accessible to moderately fit people or to challenge the very fit.
URL:https://www.rakiuracalendar.com/event/animal-flow-2/2024-08-14/
LOCATION:St Andrews Anglican Church Hall\, 10 Excelsior Road\, Oban\, 9818\, New Zealand
CATEGORIES:Health,Sport,Training,Wellbeing
ATTACH;FMTTYPE=image/png:https://www.rakiuracalendar.com/wp-content/uploads/2023/07/Animal-Flow.png
ORGANIZER;CN="Bill Watt":MAILTO:williamwatt@outlook.co.nz
END:VEVENT
BEGIN:VEVENT
DTSTART;TZID=Pacific/Auckland:20240813T193000
DTEND;TZID=Pacific/Auckland:20240813T210000
DTSTAMP:20260424T185357
CREATED:20240603T215431Z
LAST-MODIFIED:20240603T215432Z
UID:10001529-1723577400-1723582800@www.rakiuracalendar.com
SUMMARY:Future Rakiura Committee Meeting
DESCRIPTION:Monthly meeting of the Future Rakiura Committee to progress community projects.
URL:https://www.rakiuracalendar.com/event/future-rakiura-committee-meeting-10-2-2/2024-08-13/
LOCATION:Southland
CATEGORIES:Community
ATTACH;FMTTYPE=image/png:https://www.rakiuracalendar.com/wp-content/uploads/Logos/Logo.png
ORGANIZER;CN="Future Rakiura":MAILTO:rakiura.future@gmail.com
END:VEVENT
BEGIN:VEVENT
DTSTART;TZID=Pacific/Auckland:20240812T190000
DTEND;TZID=Pacific/Auckland:20240812T190000
DTSTAMP:20260424T185357
CREATED:20230529T074945Z
LAST-MODIFIED:20230530T041221Z
UID:10000642-1723489200-1723489200@www.rakiuracalendar.com
SUMMARY:Oban Fire Brigade Training Night
DESCRIPTION:Fire and Emergency NZ weekly training for the local brigade. \nCome along to see what we’re up to and if you’re interested in volunteering.
URL:https://www.rakiuracalendar.com/event/oban-fire-brigade-training-night/2024-08-12/
LOCATION:Oban Fire Station\, 6 Argyle Street\, Oban\, Southland\, 9818\, New Zealand
CATEGORIES:Community,Group meeting,Training,Volunteer
ATTACH;FMTTYPE=image/jpeg:https://www.rakiuracalendar.com/wp-content/uploads/2023/05/Screenshot_20230529_194125_Outlook.jpg
END:VEVENT
END:VCALENDAR