BEGIN:VCALENDAR
VERSION:2.0
PRODID:-//Rakiura Calendar - 2026 - ECPv6.15.20//NONSGML v1.0//EN
CALSCALE:GREGORIAN
METHOD:PUBLISH
X-ORIGINAL-URL:https://www.rakiuracalendar.com
X-WR-CALDESC:Events for Rakiura Calendar - 2026
REFRESH-INTERVAL;VALUE=DURATION:PT1H
X-Robots-Tag:noindex
X-PUBLISHED-TTL:PT1H
BEGIN:VTIMEZONE
TZID:Pacific/Auckland
BEGIN:STANDARD
TZOFFSETFROM:+1300
TZOFFSETTO:+1200
TZNAME:NZST
DTSTART:20230401T140000
END:STANDARD
BEGIN:DAYLIGHT
TZOFFSETFROM:+1200
TZOFFSETTO:+1300
TZNAME:NZDT
DTSTART:20230923T140000
END:DAYLIGHT
BEGIN:STANDARD
TZOFFSETFROM:+1300
TZOFFSETTO:+1200
TZNAME:NZST
DTSTART:20240406T140000
END:STANDARD
BEGIN:DAYLIGHT
TZOFFSETFROM:+1200
TZOFFSETTO:+1300
TZNAME:NZDT
DTSTART:20240928T140000
END:DAYLIGHT
BEGIN:STANDARD
TZOFFSETFROM:+1300
TZOFFSETTO:+1200
TZNAME:NZST
DTSTART:20250405T140000
END:STANDARD
BEGIN:DAYLIGHT
TZOFFSETFROM:+1200
TZOFFSETTO:+1300
TZNAME:NZDT
DTSTART:20250927T140000
END:DAYLIGHT
END:VTIMEZONE
BEGIN:VEVENT
DTSTART;TZID=Pacific/Auckland:20240407T100000
DTEND;TZID=Pacific/Auckland:20240407T150000
DTSTAMP:20260422T021110
CREATED:20240321T052946Z
LAST-MODIFIED:20240321T052946Z
UID:10001448-1712484000-1712502000@www.rakiuracalendar.com
SUMMARY:Artist Retreat Community Open Day
DESCRIPTION:The finale of our 10 artists creating over 10 days culminates in the Open Day on Sunday 7th April.\nCome and mingle\, view the artists creations (made with locally sourced resources) chat\, relax and share food & drinks – provided. Enter our People Choice award to go into the draw to win a personalized signed copy of Baye Riddell’s book Nga Kaihanga Uku.\nSee flyer for more details – open to all.
URL:https://www.rakiuracalendar.com/event/artist-retreat-community-open-day/
LOCATION:Te Pā\, 38 Miro Crescent\, Rakiura / Stewart Island\, 9818\, New Zealand
CATEGORIES:Arts
ATTACH;FMTTYPE=image/png:https://www.rakiuracalendar.com/wp-content/uploads/2024/03/ArtistsOpenDayBanner.png
ORGANIZER;CN="Traci Murray":MAILTO:admin@tekahuimanutiti.co.nz
END:VEVENT
END:VCALENDAR