BEGIN:VCALENDAR
VERSION:2.0
PRODID:-//Rakiura Calendar - 2026 - ECPv6.15.20//NONSGML v1.0//EN
CALSCALE:GREGORIAN
METHOD:PUBLISH
X-WR-CALNAME:Rakiura Calendar - 2026
X-ORIGINAL-URL:https://www.rakiuracalendar.com
X-WR-CALDESC:Events for Rakiura Calendar - 2026
REFRESH-INTERVAL;VALUE=DURATION:PT1H
X-Robots-Tag:noindex
X-PUBLISHED-TTL:PT1H
BEGIN:VTIMEZONE
TZID:Pacific/Auckland
BEGIN:STANDARD
TZOFFSETFROM:+1300
TZOFFSETTO:+1200
TZNAME:NZST
DTSTART:20270403T140000
END:STANDARD
BEGIN:DAYLIGHT
TZOFFSETFROM:+1200
TZOFFSETTO:+1300
TZNAME:NZDT
DTSTART:20270925T140000
END:DAYLIGHT
BEGIN:STANDARD
TZOFFSETFROM:+1300
TZOFFSETTO:+1200
TZNAME:NZST
DTSTART:20280401T140000
END:STANDARD
BEGIN:DAYLIGHT
TZOFFSETFROM:+1200
TZOFFSETTO:+1300
TZNAME:NZDT
DTSTART:20280923T140000
END:DAYLIGHT
BEGIN:STANDARD
TZOFFSETFROM:+1300
TZOFFSETTO:+1200
TZNAME:NZST
DTSTART:20290331T140000
END:STANDARD
BEGIN:DAYLIGHT
TZOFFSETFROM:+1200
TZOFFSETTO:+1300
TZNAME:NZDT
DTSTART:20290929T140000
END:DAYLIGHT
BEGIN:STANDARD
TZOFFSETFROM:+1300
TZOFFSETTO:+1200
TZNAME:NZST
DTSTART:20300406T140000
END:STANDARD
BEGIN:DAYLIGHT
TZOFFSETFROM:+1200
TZOFFSETTO:+1300
TZNAME:NZDT
DTSTART:20300928T140000
END:DAYLIGHT
END:VTIMEZONE
BEGIN:VEVENT
DTSTART;TZID=Pacific/Auckland:20280816T190000
DTEND;TZID=Pacific/Auckland:20280816T203000
DTSTAMP:20260424T060618
CREATED:20260124T210428Z
LAST-MODIFIED:20260310T194853Z
UID:10003685-1850065200-1850070600@www.rakiuracalendar.com
SUMMARY:Winter Jam Session
DESCRIPTION:Come along to the Oban Volunteer Fire Brigade Station to hear some of our local music enthusiasts jamming. Better yet\, bring your instrument of choice and join in. \nGold coin donation to support the Oban Volunteer Fire Brigade participation in the Wajax pump competition.
URL:https://www.rakiuracalendar.com/event/winter-jam-session-2-2-2/2028-08-16/
LOCATION:Oban Fire Station\, 6 Argyle Street\, Oban\, Southland\, 9818\, New Zealand
CATEGORIES:Music
ATTACH;FMTTYPE=image/jpeg:https://www.rakiuracalendar.com/wp-content/uploads/2025/07/pexels-bigbagfilms-8512617-scaled-e1752641177610.jpg
END:VEVENT
BEGIN:VEVENT
DTSTART;TZID=Pacific/Auckland:20280823T190000
DTEND;TZID=Pacific/Auckland:20280823T203000
DTSTAMP:20260424T060618
CREATED:20260124T210428Z
LAST-MODIFIED:20260310T194853Z
UID:10003686-1850670000-1850675400@www.rakiuracalendar.com
SUMMARY:Winter Jam Session
DESCRIPTION:Come along to the Oban Volunteer Fire Brigade Station to hear some of our local music enthusiasts jamming. Better yet\, bring your instrument of choice and join in. \nGold coin donation to support the Oban Volunteer Fire Brigade participation in the Wajax pump competition.
URL:https://www.rakiuracalendar.com/event/winter-jam-session-2-2-2/2028-08-23/
LOCATION:Oban Fire Station\, 6 Argyle Street\, Oban\, Southland\, 9818\, New Zealand
CATEGORIES:Music
ATTACH;FMTTYPE=image/jpeg:https://www.rakiuracalendar.com/wp-content/uploads/2025/07/pexels-bigbagfilms-8512617-scaled-e1752641177610.jpg
END:VEVENT
BEGIN:VEVENT
DTSTART;TZID=Pacific/Auckland:20280830T190000
DTEND;TZID=Pacific/Auckland:20280830T203000
DTSTAMP:20260424T060618
CREATED:20260124T210428Z
LAST-MODIFIED:20260310T194853Z
UID:10003687-1851274800-1851280200@www.rakiuracalendar.com
SUMMARY:Winter Jam Session
DESCRIPTION:Come along to the Oban Volunteer Fire Brigade Station to hear some of our local music enthusiasts jamming. Better yet\, bring your instrument of choice and join in. \nGold coin donation to support the Oban Volunteer Fire Brigade participation in the Wajax pump competition.
URL:https://www.rakiuracalendar.com/event/winter-jam-session-2-2-2/2028-08-30/
LOCATION:Oban Fire Station\, 6 Argyle Street\, Oban\, Southland\, 9818\, New Zealand
CATEGORIES:Music
ATTACH;FMTTYPE=image/jpeg:https://www.rakiuracalendar.com/wp-content/uploads/2025/07/pexels-bigbagfilms-8512617-scaled-e1752641177610.jpg
END:VEVENT
BEGIN:VEVENT
DTSTART;TZID=Pacific/Auckland:20280906T190000
DTEND;TZID=Pacific/Auckland:20280906T203000
DTSTAMP:20260424T060618
CREATED:20260124T210428Z
LAST-MODIFIED:20260310T194853Z
UID:10003688-1851879600-1851885000@www.rakiuracalendar.com
SUMMARY:Winter Jam Session
DESCRIPTION:Come along to the Oban Volunteer Fire Brigade Station to hear some of our local music enthusiasts jamming. Better yet\, bring your instrument of choice and join in. \nGold coin donation to support the Oban Volunteer Fire Brigade participation in the Wajax pump competition.
URL:https://www.rakiuracalendar.com/event/winter-jam-session-2-2-2/2028-09-06/
LOCATION:Oban Fire Station\, 6 Argyle Street\, Oban\, Southland\, 9818\, New Zealand
CATEGORIES:Music
ATTACH;FMTTYPE=image/jpeg:https://www.rakiuracalendar.com/wp-content/uploads/2025/07/pexels-bigbagfilms-8512617-scaled-e1752641177610.jpg
END:VEVENT
BEGIN:VEVENT
DTSTART;TZID=Pacific/Auckland:20280913T190000
DTEND;TZID=Pacific/Auckland:20280913T203000
DTSTAMP:20260424T060618
CREATED:20260124T210428Z
LAST-MODIFIED:20260310T194853Z
UID:10003689-1852484400-1852489800@www.rakiuracalendar.com
SUMMARY:Winter Jam Session
DESCRIPTION:Come along to the Oban Volunteer Fire Brigade Station to hear some of our local music enthusiasts jamming. Better yet\, bring your instrument of choice and join in. \nGold coin donation to support the Oban Volunteer Fire Brigade participation in the Wajax pump competition.
URL:https://www.rakiuracalendar.com/event/winter-jam-session-2-2-2/2028-09-13/
LOCATION:Oban Fire Station\, 6 Argyle Street\, Oban\, Southland\, 9818\, New Zealand
CATEGORIES:Music
ATTACH;FMTTYPE=image/jpeg:https://www.rakiuracalendar.com/wp-content/uploads/2025/07/pexels-bigbagfilms-8512617-scaled-e1752641177610.jpg
END:VEVENT
BEGIN:VEVENT
DTSTART;TZID=Pacific/Auckland:20280920T190000
DTEND;TZID=Pacific/Auckland:20280920T203000
DTSTAMP:20260424T060618
CREATED:20260124T210428Z
LAST-MODIFIED:20260310T194853Z
UID:10003690-1853089200-1853094600@www.rakiuracalendar.com
SUMMARY:Winter Jam Session
DESCRIPTION:Come along to the Oban Volunteer Fire Brigade Station to hear some of our local music enthusiasts jamming. Better yet\, bring your instrument of choice and join in. \nGold coin donation to support the Oban Volunteer Fire Brigade participation in the Wajax pump competition.
URL:https://www.rakiuracalendar.com/event/winter-jam-session-2-2-2/2028-09-20/
LOCATION:Oban Fire Station\, 6 Argyle Street\, Oban\, Southland\, 9818\, New Zealand
CATEGORIES:Music
ATTACH;FMTTYPE=image/jpeg:https://www.rakiuracalendar.com/wp-content/uploads/2025/07/pexels-bigbagfilms-8512617-scaled-e1752641177610.jpg
END:VEVENT
BEGIN:VEVENT
DTSTART;TZID=Pacific/Auckland:20280927T190000
DTEND;TZID=Pacific/Auckland:20280927T203000
DTSTAMP:20260424T060618
CREATED:20260124T210428Z
LAST-MODIFIED:20260310T194853Z
UID:10003691-1853694000-1853699400@www.rakiuracalendar.com
SUMMARY:Winter Jam Session
DESCRIPTION:Come along to the Oban Volunteer Fire Brigade Station to hear some of our local music enthusiasts jamming. Better yet\, bring your instrument of choice and join in. \nGold coin donation to support the Oban Volunteer Fire Brigade participation in the Wajax pump competition.
URL:https://www.rakiuracalendar.com/event/winter-jam-session-2-2-2/2028-09-27/
LOCATION:Oban Fire Station\, 6 Argyle Street\, Oban\, Southland\, 9818\, New Zealand
CATEGORIES:Music
ATTACH;FMTTYPE=image/jpeg:https://www.rakiuracalendar.com/wp-content/uploads/2025/07/pexels-bigbagfilms-8512617-scaled-e1752641177610.jpg
END:VEVENT
BEGIN:VEVENT
DTSTART;TZID=Pacific/Auckland:20281004T190000
DTEND;TZID=Pacific/Auckland:20281004T203000
DTSTAMP:20260424T060618
CREATED:20260124T210428Z
LAST-MODIFIED:20260310T194853Z
UID:10003692-1854298800-1854304200@www.rakiuracalendar.com
SUMMARY:Winter Jam Session
DESCRIPTION:Come along to the Oban Volunteer Fire Brigade Station to hear some of our local music enthusiasts jamming. Better yet\, bring your instrument of choice and join in. \nGold coin donation to support the Oban Volunteer Fire Brigade participation in the Wajax pump competition.
URL:https://www.rakiuracalendar.com/event/winter-jam-session-2-2-2/2028-10-04/
LOCATION:Oban Fire Station\, 6 Argyle Street\, Oban\, Southland\, 9818\, New Zealand
CATEGORIES:Music
ATTACH;FMTTYPE=image/jpeg:https://www.rakiuracalendar.com/wp-content/uploads/2025/07/pexels-bigbagfilms-8512617-scaled-e1752641177610.jpg
END:VEVENT
BEGIN:VEVENT
DTSTART;TZID=Pacific/Auckland:20281011T190000
DTEND;TZID=Pacific/Auckland:20281011T203000
DTSTAMP:20260424T060618
CREATED:20260124T210428Z
LAST-MODIFIED:20260310T194853Z
UID:10003693-1854903600-1854909000@www.rakiuracalendar.com
SUMMARY:Winter Jam Session
DESCRIPTION:Come along to the Oban Volunteer Fire Brigade Station to hear some of our local music enthusiasts jamming. Better yet\, bring your instrument of choice and join in. \nGold coin donation to support the Oban Volunteer Fire Brigade participation in the Wajax pump competition.
URL:https://www.rakiuracalendar.com/event/winter-jam-session-2-2-2/2028-10-11/
LOCATION:Oban Fire Station\, 6 Argyle Street\, Oban\, Southland\, 9818\, New Zealand
CATEGORIES:Music
ATTACH;FMTTYPE=image/jpeg:https://www.rakiuracalendar.com/wp-content/uploads/2025/07/pexels-bigbagfilms-8512617-scaled-e1752641177610.jpg
END:VEVENT
BEGIN:VEVENT
DTSTART;TZID=Pacific/Auckland:20281018T190000
DTEND;TZID=Pacific/Auckland:20281018T203000
DTSTAMP:20260424T060618
CREATED:20260124T210428Z
LAST-MODIFIED:20260310T194853Z
UID:10003694-1855508400-1855513800@www.rakiuracalendar.com
SUMMARY:Winter Jam Session
DESCRIPTION:Come along to the Oban Volunteer Fire Brigade Station to hear some of our local music enthusiasts jamming. Better yet\, bring your instrument of choice and join in. \nGold coin donation to support the Oban Volunteer Fire Brigade participation in the Wajax pump competition.
URL:https://www.rakiuracalendar.com/event/winter-jam-session-2-2-2/2028-10-18/
LOCATION:Oban Fire Station\, 6 Argyle Street\, Oban\, Southland\, 9818\, New Zealand
CATEGORIES:Music
ATTACH;FMTTYPE=image/jpeg:https://www.rakiuracalendar.com/wp-content/uploads/2025/07/pexels-bigbagfilms-8512617-scaled-e1752641177610.jpg
END:VEVENT
BEGIN:VEVENT
DTSTART;TZID=Pacific/Auckland:20281025T190000
DTEND;TZID=Pacific/Auckland:20281025T203000
DTSTAMP:20260424T060618
CREATED:20260124T210428Z
LAST-MODIFIED:20260310T194853Z
UID:10003695-1856113200-1856118600@www.rakiuracalendar.com
SUMMARY:Winter Jam Session
DESCRIPTION:Come along to the Oban Volunteer Fire Brigade Station to hear some of our local music enthusiasts jamming. Better yet\, bring your instrument of choice and join in. \nGold coin donation to support the Oban Volunteer Fire Brigade participation in the Wajax pump competition.
URL:https://www.rakiuracalendar.com/event/winter-jam-session-2-2-2/2028-10-25/
LOCATION:Oban Fire Station\, 6 Argyle Street\, Oban\, Southland\, 9818\, New Zealand
CATEGORIES:Music
ATTACH;FMTTYPE=image/jpeg:https://www.rakiuracalendar.com/wp-content/uploads/2025/07/pexels-bigbagfilms-8512617-scaled-e1752641177610.jpg
END:VEVENT
BEGIN:VEVENT
DTSTART;TZID=Pacific/Auckland:20281101T190000
DTEND;TZID=Pacific/Auckland:20281101T203000
DTSTAMP:20260424T060618
CREATED:20260124T210428Z
LAST-MODIFIED:20260310T194853Z
UID:10003696-1856718000-1856723400@www.rakiuracalendar.com
SUMMARY:Winter Jam Session
DESCRIPTION:Come along to the Oban Volunteer Fire Brigade Station to hear some of our local music enthusiasts jamming. Better yet\, bring your instrument of choice and join in. \nGold coin donation to support the Oban Volunteer Fire Brigade participation in the Wajax pump competition.
URL:https://www.rakiuracalendar.com/event/winter-jam-session-2-2-2/2028-11-01/
LOCATION:Oban Fire Station\, 6 Argyle Street\, Oban\, Southland\, 9818\, New Zealand
CATEGORIES:Music
ATTACH;FMTTYPE=image/jpeg:https://www.rakiuracalendar.com/wp-content/uploads/2025/07/pexels-bigbagfilms-8512617-scaled-e1752641177610.jpg
END:VEVENT
BEGIN:VEVENT
DTSTART;TZID=Pacific/Auckland:20281108T190000
DTEND;TZID=Pacific/Auckland:20281108T203000
DTSTAMP:20260424T060618
CREATED:20260124T210428Z
LAST-MODIFIED:20260310T194853Z
UID:10003697-1857322800-1857328200@www.rakiuracalendar.com
SUMMARY:Winter Jam Session
DESCRIPTION:Come along to the Oban Volunteer Fire Brigade Station to hear some of our local music enthusiasts jamming. Better yet\, bring your instrument of choice and join in. \nGold coin donation to support the Oban Volunteer Fire Brigade participation in the Wajax pump competition.
URL:https://www.rakiuracalendar.com/event/winter-jam-session-2-2-2/2028-11-08/
LOCATION:Oban Fire Station\, 6 Argyle Street\, Oban\, Southland\, 9818\, New Zealand
CATEGORIES:Music
ATTACH;FMTTYPE=image/jpeg:https://www.rakiuracalendar.com/wp-content/uploads/2025/07/pexels-bigbagfilms-8512617-scaled-e1752641177610.jpg
END:VEVENT
BEGIN:VEVENT
DTSTART;TZID=Pacific/Auckland:20281115T190000
DTEND;TZID=Pacific/Auckland:20281115T203000
DTSTAMP:20260424T060618
CREATED:20260124T210428Z
LAST-MODIFIED:20260310T194853Z
UID:10003698-1857927600-1857933000@www.rakiuracalendar.com
SUMMARY:Winter Jam Session
DESCRIPTION:Come along to the Oban Volunteer Fire Brigade Station to hear some of our local music enthusiasts jamming. Better yet\, bring your instrument of choice and join in. \nGold coin donation to support the Oban Volunteer Fire Brigade participation in the Wajax pump competition.
URL:https://www.rakiuracalendar.com/event/winter-jam-session-2-2-2/2028-11-15/
LOCATION:Oban Fire Station\, 6 Argyle Street\, Oban\, Southland\, 9818\, New Zealand
CATEGORIES:Music
ATTACH;FMTTYPE=image/jpeg:https://www.rakiuracalendar.com/wp-content/uploads/2025/07/pexels-bigbagfilms-8512617-scaled-e1752641177610.jpg
END:VEVENT
BEGIN:VEVENT
DTSTART;TZID=Pacific/Auckland:20281122T190000
DTEND;TZID=Pacific/Auckland:20281122T203000
DTSTAMP:20260424T060618
CREATED:20260124T210428Z
LAST-MODIFIED:20260310T194853Z
UID:10003699-1858532400-1858537800@www.rakiuracalendar.com
SUMMARY:Winter Jam Session
DESCRIPTION:Come along to the Oban Volunteer Fire Brigade Station to hear some of our local music enthusiasts jamming. Better yet\, bring your instrument of choice and join in. \nGold coin donation to support the Oban Volunteer Fire Brigade participation in the Wajax pump competition.
URL:https://www.rakiuracalendar.com/event/winter-jam-session-2-2-2/2028-11-22/
LOCATION:Oban Fire Station\, 6 Argyle Street\, Oban\, Southland\, 9818\, New Zealand
CATEGORIES:Music
ATTACH;FMTTYPE=image/jpeg:https://www.rakiuracalendar.com/wp-content/uploads/2025/07/pexels-bigbagfilms-8512617-scaled-e1752641177610.jpg
END:VEVENT
BEGIN:VEVENT
DTSTART;TZID=Pacific/Auckland:20281129T190000
DTEND;TZID=Pacific/Auckland:20281129T203000
DTSTAMP:20260424T060618
CREATED:20260124T210428Z
LAST-MODIFIED:20260310T194853Z
UID:10003700-1859137200-1859142600@www.rakiuracalendar.com
SUMMARY:Winter Jam Session
DESCRIPTION:Come along to the Oban Volunteer Fire Brigade Station to hear some of our local music enthusiasts jamming. Better yet\, bring your instrument of choice and join in. \nGold coin donation to support the Oban Volunteer Fire Brigade participation in the Wajax pump competition.
URL:https://www.rakiuracalendar.com/event/winter-jam-session-2-2-2/2028-11-29/
LOCATION:Oban Fire Station\, 6 Argyle Street\, Oban\, Southland\, 9818\, New Zealand
CATEGORIES:Music
ATTACH;FMTTYPE=image/jpeg:https://www.rakiuracalendar.com/wp-content/uploads/2025/07/pexels-bigbagfilms-8512617-scaled-e1752641177610.jpg
END:VEVENT
BEGIN:VEVENT
DTSTART;TZID=Pacific/Auckland:20281206T190000
DTEND;TZID=Pacific/Auckland:20281206T203000
DTSTAMP:20260424T060618
CREATED:20260124T210428Z
LAST-MODIFIED:20260310T194853Z
UID:10003701-1859742000-1859747400@www.rakiuracalendar.com
SUMMARY:Winter Jam Session
DESCRIPTION:Come along to the Oban Volunteer Fire Brigade Station to hear some of our local music enthusiasts jamming. Better yet\, bring your instrument of choice and join in. \nGold coin donation to support the Oban Volunteer Fire Brigade participation in the Wajax pump competition.
URL:https://www.rakiuracalendar.com/event/winter-jam-session-2-2-2/2028-12-06/
LOCATION:Oban Fire Station\, 6 Argyle Street\, Oban\, Southland\, 9818\, New Zealand
CATEGORIES:Music
ATTACH;FMTTYPE=image/jpeg:https://www.rakiuracalendar.com/wp-content/uploads/2025/07/pexels-bigbagfilms-8512617-scaled-e1752641177610.jpg
END:VEVENT
BEGIN:VEVENT
DTSTART;TZID=Pacific/Auckland:20281213T190000
DTEND;TZID=Pacific/Auckland:20281213T203000
DTSTAMP:20260424T060618
CREATED:20260124T210428Z
LAST-MODIFIED:20260310T194853Z
UID:10003702-1860346800-1860352200@www.rakiuracalendar.com
SUMMARY:Winter Jam Session
DESCRIPTION:Come along to the Oban Volunteer Fire Brigade Station to hear some of our local music enthusiasts jamming. Better yet\, bring your instrument of choice and join in. \nGold coin donation to support the Oban Volunteer Fire Brigade participation in the Wajax pump competition.
URL:https://www.rakiuracalendar.com/event/winter-jam-session-2-2-2/2028-12-13/
LOCATION:Oban Fire Station\, 6 Argyle Street\, Oban\, Southland\, 9818\, New Zealand
CATEGORIES:Music
ATTACH;FMTTYPE=image/jpeg:https://www.rakiuracalendar.com/wp-content/uploads/2025/07/pexels-bigbagfilms-8512617-scaled-e1752641177610.jpg
END:VEVENT
BEGIN:VEVENT
DTSTART;TZID=Pacific/Auckland:20281220T190000
DTEND;TZID=Pacific/Auckland:20281220T203000
DTSTAMP:20260424T060618
CREATED:20260124T210428Z
LAST-MODIFIED:20260310T194853Z
UID:10003703-1860951600-1860957000@www.rakiuracalendar.com
SUMMARY:Winter Jam Session
DESCRIPTION:Come along to the Oban Volunteer Fire Brigade Station to hear some of our local music enthusiasts jamming. Better yet\, bring your instrument of choice and join in. \nGold coin donation to support the Oban Volunteer Fire Brigade participation in the Wajax pump competition.
URL:https://www.rakiuracalendar.com/event/winter-jam-session-2-2-2/2028-12-20/
LOCATION:Oban Fire Station\, 6 Argyle Street\, Oban\, Southland\, 9818\, New Zealand
CATEGORIES:Music
ATTACH;FMTTYPE=image/jpeg:https://www.rakiuracalendar.com/wp-content/uploads/2025/07/pexels-bigbagfilms-8512617-scaled-e1752641177610.jpg
END:VEVENT
BEGIN:VEVENT
DTSTART;TZID=Pacific/Auckland:20281227T190000
DTEND;TZID=Pacific/Auckland:20281227T203000
DTSTAMP:20260424T060618
CREATED:20260124T210428Z
LAST-MODIFIED:20260310T194853Z
UID:10003704-1861556400-1861561800@www.rakiuracalendar.com
SUMMARY:Winter Jam Session
DESCRIPTION:Come along to the Oban Volunteer Fire Brigade Station to hear some of our local music enthusiasts jamming. Better yet\, bring your instrument of choice and join in. \nGold coin donation to support the Oban Volunteer Fire Brigade participation in the Wajax pump competition.
URL:https://www.rakiuracalendar.com/event/winter-jam-session-2-2-2/2028-12-27/
LOCATION:Oban Fire Station\, 6 Argyle Street\, Oban\, Southland\, 9818\, New Zealand
CATEGORIES:Music
ATTACH;FMTTYPE=image/jpeg:https://www.rakiuracalendar.com/wp-content/uploads/2025/07/pexels-bigbagfilms-8512617-scaled-e1752641177610.jpg
END:VEVENT
BEGIN:VEVENT
DTSTART;TZID=Pacific/Auckland:20290103T190000
DTEND;TZID=Pacific/Auckland:20290103T203000
DTSTAMP:20260424T060618
CREATED:20260124T210428Z
LAST-MODIFIED:20260310T194853Z
UID:10003705-1862161200-1862166600@www.rakiuracalendar.com
SUMMARY:Winter Jam Session
DESCRIPTION:Come along to the Oban Volunteer Fire Brigade Station to hear some of our local music enthusiasts jamming. Better yet\, bring your instrument of choice and join in. \nGold coin donation to support the Oban Volunteer Fire Brigade participation in the Wajax pump competition.
URL:https://www.rakiuracalendar.com/event/winter-jam-session-2-2-2/2029-01-03/
LOCATION:Oban Fire Station\, 6 Argyle Street\, Oban\, Southland\, 9818\, New Zealand
CATEGORIES:Music
ATTACH;FMTTYPE=image/jpeg:https://www.rakiuracalendar.com/wp-content/uploads/2025/07/pexels-bigbagfilms-8512617-scaled-e1752641177610.jpg
END:VEVENT
BEGIN:VEVENT
DTSTART;TZID=Pacific/Auckland:20290110T190000
DTEND;TZID=Pacific/Auckland:20290110T203000
DTSTAMP:20260424T060618
CREATED:20260124T210428Z
LAST-MODIFIED:20260310T194853Z
UID:10003706-1862766000-1862771400@www.rakiuracalendar.com
SUMMARY:Winter Jam Session
DESCRIPTION:Come along to the Oban Volunteer Fire Brigade Station to hear some of our local music enthusiasts jamming. Better yet\, bring your instrument of choice and join in. \nGold coin donation to support the Oban Volunteer Fire Brigade participation in the Wajax pump competition.
URL:https://www.rakiuracalendar.com/event/winter-jam-session-2-2-2/2029-01-10/
LOCATION:Oban Fire Station\, 6 Argyle Street\, Oban\, Southland\, 9818\, New Zealand
CATEGORIES:Music
ATTACH;FMTTYPE=image/jpeg:https://www.rakiuracalendar.com/wp-content/uploads/2025/07/pexels-bigbagfilms-8512617-scaled-e1752641177610.jpg
END:VEVENT
BEGIN:VEVENT
DTSTART;TZID=Pacific/Auckland:20290117T190000
DTEND;TZID=Pacific/Auckland:20290117T203000
DTSTAMP:20260424T060618
CREATED:20260124T210428Z
LAST-MODIFIED:20260310T194853Z
UID:10003707-1863370800-1863376200@www.rakiuracalendar.com
SUMMARY:Winter Jam Session
DESCRIPTION:Come along to the Oban Volunteer Fire Brigade Station to hear some of our local music enthusiasts jamming. Better yet\, bring your instrument of choice and join in. \nGold coin donation to support the Oban Volunteer Fire Brigade participation in the Wajax pump competition.
URL:https://www.rakiuracalendar.com/event/winter-jam-session-2-2-2/2029-01-17/
LOCATION:Oban Fire Station\, 6 Argyle Street\, Oban\, Southland\, 9818\, New Zealand
CATEGORIES:Music
ATTACH;FMTTYPE=image/jpeg:https://www.rakiuracalendar.com/wp-content/uploads/2025/07/pexels-bigbagfilms-8512617-scaled-e1752641177610.jpg
END:VEVENT
BEGIN:VEVENT
DTSTART;TZID=Pacific/Auckland:20290124T190000
DTEND;TZID=Pacific/Auckland:20290124T203000
DTSTAMP:20260424T060618
CREATED:20260124T210428Z
LAST-MODIFIED:20260310T194853Z
UID:10003708-1863975600-1863981000@www.rakiuracalendar.com
SUMMARY:Winter Jam Session
DESCRIPTION:Come along to the Oban Volunteer Fire Brigade Station to hear some of our local music enthusiasts jamming. Better yet\, bring your instrument of choice and join in. \nGold coin donation to support the Oban Volunteer Fire Brigade participation in the Wajax pump competition.
URL:https://www.rakiuracalendar.com/event/winter-jam-session-2-2-2/2029-01-24/
LOCATION:Oban Fire Station\, 6 Argyle Street\, Oban\, Southland\, 9818\, New Zealand
CATEGORIES:Music
ATTACH;FMTTYPE=image/jpeg:https://www.rakiuracalendar.com/wp-content/uploads/2025/07/pexels-bigbagfilms-8512617-scaled-e1752641177610.jpg
END:VEVENT
BEGIN:VEVENT
DTSTART;TZID=Pacific/Auckland:20290131T190000
DTEND;TZID=Pacific/Auckland:20290131T203000
DTSTAMP:20260424T060618
CREATED:20260124T210428Z
LAST-MODIFIED:20260310T194853Z
UID:10003709-1864580400-1864585800@www.rakiuracalendar.com
SUMMARY:Winter Jam Session
DESCRIPTION:Come along to the Oban Volunteer Fire Brigade Station to hear some of our local music enthusiasts jamming. Better yet\, bring your instrument of choice and join in. \nGold coin donation to support the Oban Volunteer Fire Brigade participation in the Wajax pump competition.
URL:https://www.rakiuracalendar.com/event/winter-jam-session-2-2-2/2029-01-31/
LOCATION:Oban Fire Station\, 6 Argyle Street\, Oban\, Southland\, 9818\, New Zealand
CATEGORIES:Music
ATTACH;FMTTYPE=image/jpeg:https://www.rakiuracalendar.com/wp-content/uploads/2025/07/pexels-bigbagfilms-8512617-scaled-e1752641177610.jpg
END:VEVENT
BEGIN:VEVENT
DTSTART;TZID=Pacific/Auckland:20290207T190000
DTEND;TZID=Pacific/Auckland:20290207T203000
DTSTAMP:20260424T060618
CREATED:20260124T210428Z
LAST-MODIFIED:20260310T194853Z
UID:10003710-1865185200-1865190600@www.rakiuracalendar.com
SUMMARY:Winter Jam Session
DESCRIPTION:Come along to the Oban Volunteer Fire Brigade Station to hear some of our local music enthusiasts jamming. Better yet\, bring your instrument of choice and join in. \nGold coin donation to support the Oban Volunteer Fire Brigade participation in the Wajax pump competition.
URL:https://www.rakiuracalendar.com/event/winter-jam-session-2-2-2/2029-02-07/
LOCATION:Oban Fire Station\, 6 Argyle Street\, Oban\, Southland\, 9818\, New Zealand
CATEGORIES:Music
ATTACH;FMTTYPE=image/jpeg:https://www.rakiuracalendar.com/wp-content/uploads/2025/07/pexels-bigbagfilms-8512617-scaled-e1752641177610.jpg
END:VEVENT
BEGIN:VEVENT
DTSTART;TZID=Pacific/Auckland:20290214T190000
DTEND;TZID=Pacific/Auckland:20290214T203000
DTSTAMP:20260424T060618
CREATED:20260124T210428Z
LAST-MODIFIED:20260310T194853Z
UID:10003711-1865790000-1865795400@www.rakiuracalendar.com
SUMMARY:Winter Jam Session
DESCRIPTION:Come along to the Oban Volunteer Fire Brigade Station to hear some of our local music enthusiasts jamming. Better yet\, bring your instrument of choice and join in. \nGold coin donation to support the Oban Volunteer Fire Brigade participation in the Wajax pump competition.
URL:https://www.rakiuracalendar.com/event/winter-jam-session-2-2-2/2029-02-14/
LOCATION:Oban Fire Station\, 6 Argyle Street\, Oban\, Southland\, 9818\, New Zealand
CATEGORIES:Music
ATTACH;FMTTYPE=image/jpeg:https://www.rakiuracalendar.com/wp-content/uploads/2025/07/pexels-bigbagfilms-8512617-scaled-e1752641177610.jpg
END:VEVENT
BEGIN:VEVENT
DTSTART;TZID=Pacific/Auckland:20290221T190000
DTEND;TZID=Pacific/Auckland:20290221T203000
DTSTAMP:20260424T060618
CREATED:20260124T210428Z
LAST-MODIFIED:20260310T194853Z
UID:10003712-1866394800-1866400200@www.rakiuracalendar.com
SUMMARY:Winter Jam Session
DESCRIPTION:Come along to the Oban Volunteer Fire Brigade Station to hear some of our local music enthusiasts jamming. Better yet\, bring your instrument of choice and join in. \nGold coin donation to support the Oban Volunteer Fire Brigade participation in the Wajax pump competition.
URL:https://www.rakiuracalendar.com/event/winter-jam-session-2-2-2/2029-02-21/
LOCATION:Oban Fire Station\, 6 Argyle Street\, Oban\, Southland\, 9818\, New Zealand
CATEGORIES:Music
ATTACH;FMTTYPE=image/jpeg:https://www.rakiuracalendar.com/wp-content/uploads/2025/07/pexels-bigbagfilms-8512617-scaled-e1752641177610.jpg
END:VEVENT
BEGIN:VEVENT
DTSTART;TZID=Pacific/Auckland:20290228T190000
DTEND;TZID=Pacific/Auckland:20290228T203000
DTSTAMP:20260424T060618
CREATED:20260124T210428Z
LAST-MODIFIED:20260310T194853Z
UID:10003713-1866999600-1867005000@www.rakiuracalendar.com
SUMMARY:Winter Jam Session
DESCRIPTION:Come along to the Oban Volunteer Fire Brigade Station to hear some of our local music enthusiasts jamming. Better yet\, bring your instrument of choice and join in. \nGold coin donation to support the Oban Volunteer Fire Brigade participation in the Wajax pump competition.
URL:https://www.rakiuracalendar.com/event/winter-jam-session-2-2-2/2029-02-28/
LOCATION:Oban Fire Station\, 6 Argyle Street\, Oban\, Southland\, 9818\, New Zealand
CATEGORIES:Music
ATTACH;FMTTYPE=image/jpeg:https://www.rakiuracalendar.com/wp-content/uploads/2025/07/pexels-bigbagfilms-8512617-scaled-e1752641177610.jpg
END:VEVENT
BEGIN:VEVENT
DTSTART;TZID=Pacific/Auckland:20290307T190000
DTEND;TZID=Pacific/Auckland:20290307T203000
DTSTAMP:20260424T060618
CREATED:20260124T210428Z
LAST-MODIFIED:20260310T194853Z
UID:10003714-1867604400-1867609800@www.rakiuracalendar.com
SUMMARY:Winter Jam Session
DESCRIPTION:Come along to the Oban Volunteer Fire Brigade Station to hear some of our local music enthusiasts jamming. Better yet\, bring your instrument of choice and join in. \nGold coin donation to support the Oban Volunteer Fire Brigade participation in the Wajax pump competition.
URL:https://www.rakiuracalendar.com/event/winter-jam-session-2-2-2/2029-03-07/
LOCATION:Oban Fire Station\, 6 Argyle Street\, Oban\, Southland\, 9818\, New Zealand
CATEGORIES:Music
ATTACH;FMTTYPE=image/jpeg:https://www.rakiuracalendar.com/wp-content/uploads/2025/07/pexels-bigbagfilms-8512617-scaled-e1752641177610.jpg
END:VEVENT
END:VCALENDAR