BEGIN:VCALENDAR
VERSION:2.0
PRODID:-//Rakiura Calendar - 2026 - ECPv6.15.20//NONSGML v1.0//EN
CALSCALE:GREGORIAN
METHOD:PUBLISH
X-ORIGINAL-URL:https://www.rakiuracalendar.com
X-WR-CALDESC:Events for Rakiura Calendar - 2026
REFRESH-INTERVAL;VALUE=DURATION:PT1H
X-Robots-Tag:noindex
X-PUBLISHED-TTL:PT1H
BEGIN:VTIMEZONE
TZID:Pacific/Auckland
BEGIN:STANDARD
TZOFFSETFROM:+1300
TZOFFSETTO:+1200
TZNAME:NZST
DTSTART:20260404T140000
END:STANDARD
BEGIN:DAYLIGHT
TZOFFSETFROM:+1200
TZOFFSETTO:+1300
TZNAME:NZDT
DTSTART:20260926T140000
END:DAYLIGHT
BEGIN:STANDARD
TZOFFSETFROM:+1300
TZOFFSETTO:+1200
TZNAME:NZST
DTSTART:20270403T140000
END:STANDARD
BEGIN:DAYLIGHT
TZOFFSETFROM:+1200
TZOFFSETTO:+1300
TZNAME:NZDT
DTSTART:20270925T140000
END:DAYLIGHT
BEGIN:STANDARD
TZOFFSETFROM:+1300
TZOFFSETTO:+1200
TZNAME:NZST
DTSTART:20280401T140000
END:STANDARD
BEGIN:DAYLIGHT
TZOFFSETFROM:+1200
TZOFFSETTO:+1300
TZNAME:NZDT
DTSTART:20280923T140000
END:DAYLIGHT
BEGIN:STANDARD
TZOFFSETFROM:+1300
TZOFFSETTO:+1200
TZNAME:NZST
DTSTART:20290331T140000
END:STANDARD
BEGIN:DAYLIGHT
TZOFFSETFROM:+1200
TZOFFSETTO:+1300
TZNAME:NZDT
DTSTART:20290929T140000
END:DAYLIGHT
END:VTIMEZONE
BEGIN:VEVENT
DTSTART;TZID=Pacific/Auckland:20270915T190000
DTEND;TZID=Pacific/Auckland:20270915T203000
DTSTAMP:20260423T233830
CREATED:20260124T210428Z
LAST-MODIFIED:20260310T194853Z
UID:10003637-1821034800-1821040200@www.rakiuracalendar.com
SUMMARY:Winter Jam Session
DESCRIPTION:Come along to the Oban Volunteer Fire Brigade Station to hear some of our local music enthusiasts jamming. Better yet\, bring your instrument of choice and join in. \nGold coin donation to support the Oban Volunteer Fire Brigade participation in the Wajax pump competition.
URL:https://www.rakiuracalendar.com/event/winter-jam-session-2-2-2/2027-09-15/
LOCATION:Oban Fire Station\, 6 Argyle Street\, Oban\, Southland\, 9818\, New Zealand
CATEGORIES:Music
ATTACH;FMTTYPE=image/jpeg:https://www.rakiuracalendar.com/wp-content/uploads/2025/07/pexels-bigbagfilms-8512617-scaled-e1752641177610.jpg
END:VEVENT
BEGIN:VEVENT
DTSTART;TZID=Pacific/Auckland:20270922T190000
DTEND;TZID=Pacific/Auckland:20270922T203000
DTSTAMP:20260423T233830
CREATED:20260124T210428Z
LAST-MODIFIED:20260310T194853Z
UID:10003638-1821639600-1821645000@www.rakiuracalendar.com
SUMMARY:Winter Jam Session
DESCRIPTION:Come along to the Oban Volunteer Fire Brigade Station to hear some of our local music enthusiasts jamming. Better yet\, bring your instrument of choice and join in. \nGold coin donation to support the Oban Volunteer Fire Brigade participation in the Wajax pump competition.
URL:https://www.rakiuracalendar.com/event/winter-jam-session-2-2-2/2027-09-22/
LOCATION:Oban Fire Station\, 6 Argyle Street\, Oban\, Southland\, 9818\, New Zealand
CATEGORIES:Music
ATTACH;FMTTYPE=image/jpeg:https://www.rakiuracalendar.com/wp-content/uploads/2025/07/pexels-bigbagfilms-8512617-scaled-e1752641177610.jpg
END:VEVENT
BEGIN:VEVENT
DTSTART;TZID=Pacific/Auckland:20270929T190000
DTEND;TZID=Pacific/Auckland:20270929T203000
DTSTAMP:20260423T233830
CREATED:20260124T210428Z
LAST-MODIFIED:20260310T194853Z
UID:10003639-1822244400-1822249800@www.rakiuracalendar.com
SUMMARY:Winter Jam Session
DESCRIPTION:Come along to the Oban Volunteer Fire Brigade Station to hear some of our local music enthusiasts jamming. Better yet\, bring your instrument of choice and join in. \nGold coin donation to support the Oban Volunteer Fire Brigade participation in the Wajax pump competition.
URL:https://www.rakiuracalendar.com/event/winter-jam-session-2-2-2/2027-09-29/
LOCATION:Oban Fire Station\, 6 Argyle Street\, Oban\, Southland\, 9818\, New Zealand
CATEGORIES:Music
ATTACH;FMTTYPE=image/jpeg:https://www.rakiuracalendar.com/wp-content/uploads/2025/07/pexels-bigbagfilms-8512617-scaled-e1752641177610.jpg
END:VEVENT
BEGIN:VEVENT
DTSTART;TZID=Pacific/Auckland:20271006T190000
DTEND;TZID=Pacific/Auckland:20271006T203000
DTSTAMP:20260423T233830
CREATED:20260124T210428Z
LAST-MODIFIED:20260310T194853Z
UID:10003640-1822849200-1822854600@www.rakiuracalendar.com
SUMMARY:Winter Jam Session
DESCRIPTION:Come along to the Oban Volunteer Fire Brigade Station to hear some of our local music enthusiasts jamming. Better yet\, bring your instrument of choice and join in. \nGold coin donation to support the Oban Volunteer Fire Brigade participation in the Wajax pump competition.
URL:https://www.rakiuracalendar.com/event/winter-jam-session-2-2-2/2027-10-06/
LOCATION:Oban Fire Station\, 6 Argyle Street\, Oban\, Southland\, 9818\, New Zealand
CATEGORIES:Music
ATTACH;FMTTYPE=image/jpeg:https://www.rakiuracalendar.com/wp-content/uploads/2025/07/pexels-bigbagfilms-8512617-scaled-e1752641177610.jpg
END:VEVENT
BEGIN:VEVENT
DTSTART;TZID=Pacific/Auckland:20271013T190000
DTEND;TZID=Pacific/Auckland:20271013T203000
DTSTAMP:20260423T233830
CREATED:20260124T210428Z
LAST-MODIFIED:20260310T194853Z
UID:10003641-1823454000-1823459400@www.rakiuracalendar.com
SUMMARY:Winter Jam Session
DESCRIPTION:Come along to the Oban Volunteer Fire Brigade Station to hear some of our local music enthusiasts jamming. Better yet\, bring your instrument of choice and join in. \nGold coin donation to support the Oban Volunteer Fire Brigade participation in the Wajax pump competition.
URL:https://www.rakiuracalendar.com/event/winter-jam-session-2-2-2/2027-10-13/
LOCATION:Oban Fire Station\, 6 Argyle Street\, Oban\, Southland\, 9818\, New Zealand
CATEGORIES:Music
ATTACH;FMTTYPE=image/jpeg:https://www.rakiuracalendar.com/wp-content/uploads/2025/07/pexels-bigbagfilms-8512617-scaled-e1752641177610.jpg
END:VEVENT
BEGIN:VEVENT
DTSTART;TZID=Pacific/Auckland:20271020T190000
DTEND;TZID=Pacific/Auckland:20271020T203000
DTSTAMP:20260423T233830
CREATED:20260124T210428Z
LAST-MODIFIED:20260310T194853Z
UID:10003642-1824058800-1824064200@www.rakiuracalendar.com
SUMMARY:Winter Jam Session
DESCRIPTION:Come along to the Oban Volunteer Fire Brigade Station to hear some of our local music enthusiasts jamming. Better yet\, bring your instrument of choice and join in. \nGold coin donation to support the Oban Volunteer Fire Brigade participation in the Wajax pump competition.
URL:https://www.rakiuracalendar.com/event/winter-jam-session-2-2-2/2027-10-20/
LOCATION:Oban Fire Station\, 6 Argyle Street\, Oban\, Southland\, 9818\, New Zealand
CATEGORIES:Music
ATTACH;FMTTYPE=image/jpeg:https://www.rakiuracalendar.com/wp-content/uploads/2025/07/pexels-bigbagfilms-8512617-scaled-e1752641177610.jpg
END:VEVENT
BEGIN:VEVENT
DTSTART;TZID=Pacific/Auckland:20271027T190000
DTEND;TZID=Pacific/Auckland:20271027T203000
DTSTAMP:20260423T233830
CREATED:20260124T210428Z
LAST-MODIFIED:20260310T194853Z
UID:10003643-1824663600-1824669000@www.rakiuracalendar.com
SUMMARY:Winter Jam Session
DESCRIPTION:Come along to the Oban Volunteer Fire Brigade Station to hear some of our local music enthusiasts jamming. Better yet\, bring your instrument of choice and join in. \nGold coin donation to support the Oban Volunteer Fire Brigade participation in the Wajax pump competition.
URL:https://www.rakiuracalendar.com/event/winter-jam-session-2-2-2/2027-10-27/
LOCATION:Oban Fire Station\, 6 Argyle Street\, Oban\, Southland\, 9818\, New Zealand
CATEGORIES:Music
ATTACH;FMTTYPE=image/jpeg:https://www.rakiuracalendar.com/wp-content/uploads/2025/07/pexels-bigbagfilms-8512617-scaled-e1752641177610.jpg
END:VEVENT
BEGIN:VEVENT
DTSTART;TZID=Pacific/Auckland:20271103T190000
DTEND;TZID=Pacific/Auckland:20271103T203000
DTSTAMP:20260423T233830
CREATED:20260124T210428Z
LAST-MODIFIED:20260310T194853Z
UID:10003644-1825268400-1825273800@www.rakiuracalendar.com
SUMMARY:Winter Jam Session
DESCRIPTION:Come along to the Oban Volunteer Fire Brigade Station to hear some of our local music enthusiasts jamming. Better yet\, bring your instrument of choice and join in. \nGold coin donation to support the Oban Volunteer Fire Brigade participation in the Wajax pump competition.
URL:https://www.rakiuracalendar.com/event/winter-jam-session-2-2-2/2027-11-03/
LOCATION:Oban Fire Station\, 6 Argyle Street\, Oban\, Southland\, 9818\, New Zealand
CATEGORIES:Music
ATTACH;FMTTYPE=image/jpeg:https://www.rakiuracalendar.com/wp-content/uploads/2025/07/pexels-bigbagfilms-8512617-scaled-e1752641177610.jpg
END:VEVENT
BEGIN:VEVENT
DTSTART;TZID=Pacific/Auckland:20271110T190000
DTEND;TZID=Pacific/Auckland:20271110T203000
DTSTAMP:20260423T233830
CREATED:20260124T210428Z
LAST-MODIFIED:20260310T194853Z
UID:10003645-1825873200-1825878600@www.rakiuracalendar.com
SUMMARY:Winter Jam Session
DESCRIPTION:Come along to the Oban Volunteer Fire Brigade Station to hear some of our local music enthusiasts jamming. Better yet\, bring your instrument of choice and join in. \nGold coin donation to support the Oban Volunteer Fire Brigade participation in the Wajax pump competition.
URL:https://www.rakiuracalendar.com/event/winter-jam-session-2-2-2/2027-11-10/
LOCATION:Oban Fire Station\, 6 Argyle Street\, Oban\, Southland\, 9818\, New Zealand
CATEGORIES:Music
ATTACH;FMTTYPE=image/jpeg:https://www.rakiuracalendar.com/wp-content/uploads/2025/07/pexels-bigbagfilms-8512617-scaled-e1752641177610.jpg
END:VEVENT
BEGIN:VEVENT
DTSTART;TZID=Pacific/Auckland:20271117T190000
DTEND;TZID=Pacific/Auckland:20271117T203000
DTSTAMP:20260423T233830
CREATED:20260124T210428Z
LAST-MODIFIED:20260310T194853Z
UID:10003646-1826478000-1826483400@www.rakiuracalendar.com
SUMMARY:Winter Jam Session
DESCRIPTION:Come along to the Oban Volunteer Fire Brigade Station to hear some of our local music enthusiasts jamming. Better yet\, bring your instrument of choice and join in. \nGold coin donation to support the Oban Volunteer Fire Brigade participation in the Wajax pump competition.
URL:https://www.rakiuracalendar.com/event/winter-jam-session-2-2-2/2027-11-17/
LOCATION:Oban Fire Station\, 6 Argyle Street\, Oban\, Southland\, 9818\, New Zealand
CATEGORIES:Music
ATTACH;FMTTYPE=image/jpeg:https://www.rakiuracalendar.com/wp-content/uploads/2025/07/pexels-bigbagfilms-8512617-scaled-e1752641177610.jpg
END:VEVENT
BEGIN:VEVENT
DTSTART;TZID=Pacific/Auckland:20271124T190000
DTEND;TZID=Pacific/Auckland:20271124T203000
DTSTAMP:20260423T233830
CREATED:20260124T210428Z
LAST-MODIFIED:20260310T194853Z
UID:10003647-1827082800-1827088200@www.rakiuracalendar.com
SUMMARY:Winter Jam Session
DESCRIPTION:Come along to the Oban Volunteer Fire Brigade Station to hear some of our local music enthusiasts jamming. Better yet\, bring your instrument of choice and join in. \nGold coin donation to support the Oban Volunteer Fire Brigade participation in the Wajax pump competition.
URL:https://www.rakiuracalendar.com/event/winter-jam-session-2-2-2/2027-11-24/
LOCATION:Oban Fire Station\, 6 Argyle Street\, Oban\, Southland\, 9818\, New Zealand
CATEGORIES:Music
ATTACH;FMTTYPE=image/jpeg:https://www.rakiuracalendar.com/wp-content/uploads/2025/07/pexels-bigbagfilms-8512617-scaled-e1752641177610.jpg
END:VEVENT
BEGIN:VEVENT
DTSTART;TZID=Pacific/Auckland:20271201T190000
DTEND;TZID=Pacific/Auckland:20271201T203000
DTSTAMP:20260423T233830
CREATED:20260124T210428Z
LAST-MODIFIED:20260310T194853Z
UID:10003648-1827687600-1827693000@www.rakiuracalendar.com
SUMMARY:Winter Jam Session
DESCRIPTION:Come along to the Oban Volunteer Fire Brigade Station to hear some of our local music enthusiasts jamming. Better yet\, bring your instrument of choice and join in. \nGold coin donation to support the Oban Volunteer Fire Brigade participation in the Wajax pump competition.
URL:https://www.rakiuracalendar.com/event/winter-jam-session-2-2-2/2027-12-01/
LOCATION:Oban Fire Station\, 6 Argyle Street\, Oban\, Southland\, 9818\, New Zealand
CATEGORIES:Music
ATTACH;FMTTYPE=image/jpeg:https://www.rakiuracalendar.com/wp-content/uploads/2025/07/pexels-bigbagfilms-8512617-scaled-e1752641177610.jpg
END:VEVENT
BEGIN:VEVENT
DTSTART;TZID=Pacific/Auckland:20271208T190000
DTEND;TZID=Pacific/Auckland:20271208T203000
DTSTAMP:20260423T233830
CREATED:20260124T210428Z
LAST-MODIFIED:20260310T194853Z
UID:10003649-1828292400-1828297800@www.rakiuracalendar.com
SUMMARY:Winter Jam Session
DESCRIPTION:Come along to the Oban Volunteer Fire Brigade Station to hear some of our local music enthusiasts jamming. Better yet\, bring your instrument of choice and join in. \nGold coin donation to support the Oban Volunteer Fire Brigade participation in the Wajax pump competition.
URL:https://www.rakiuracalendar.com/event/winter-jam-session-2-2-2/2027-12-08/
LOCATION:Oban Fire Station\, 6 Argyle Street\, Oban\, Southland\, 9818\, New Zealand
CATEGORIES:Music
ATTACH;FMTTYPE=image/jpeg:https://www.rakiuracalendar.com/wp-content/uploads/2025/07/pexels-bigbagfilms-8512617-scaled-e1752641177610.jpg
END:VEVENT
BEGIN:VEVENT
DTSTART;TZID=Pacific/Auckland:20271215T190000
DTEND;TZID=Pacific/Auckland:20271215T203000
DTSTAMP:20260423T233830
CREATED:20260124T210428Z
LAST-MODIFIED:20260310T194853Z
UID:10003650-1828897200-1828902600@www.rakiuracalendar.com
SUMMARY:Winter Jam Session
DESCRIPTION:Come along to the Oban Volunteer Fire Brigade Station to hear some of our local music enthusiasts jamming. Better yet\, bring your instrument of choice and join in. \nGold coin donation to support the Oban Volunteer Fire Brigade participation in the Wajax pump competition.
URL:https://www.rakiuracalendar.com/event/winter-jam-session-2-2-2/2027-12-15/
LOCATION:Oban Fire Station\, 6 Argyle Street\, Oban\, Southland\, 9818\, New Zealand
CATEGORIES:Music
ATTACH;FMTTYPE=image/jpeg:https://www.rakiuracalendar.com/wp-content/uploads/2025/07/pexels-bigbagfilms-8512617-scaled-e1752641177610.jpg
END:VEVENT
BEGIN:VEVENT
DTSTART;TZID=Pacific/Auckland:20271222T190000
DTEND;TZID=Pacific/Auckland:20271222T203000
DTSTAMP:20260423T233830
CREATED:20260124T210428Z
LAST-MODIFIED:20260310T194853Z
UID:10003651-1829502000-1829507400@www.rakiuracalendar.com
SUMMARY:Winter Jam Session
DESCRIPTION:Come along to the Oban Volunteer Fire Brigade Station to hear some of our local music enthusiasts jamming. Better yet\, bring your instrument of choice and join in. \nGold coin donation to support the Oban Volunteer Fire Brigade participation in the Wajax pump competition.
URL:https://www.rakiuracalendar.com/event/winter-jam-session-2-2-2/2027-12-22/
LOCATION:Oban Fire Station\, 6 Argyle Street\, Oban\, Southland\, 9818\, New Zealand
CATEGORIES:Music
ATTACH;FMTTYPE=image/jpeg:https://www.rakiuracalendar.com/wp-content/uploads/2025/07/pexels-bigbagfilms-8512617-scaled-e1752641177610.jpg
END:VEVENT
BEGIN:VEVENT
DTSTART;TZID=Pacific/Auckland:20271229T190000
DTEND;TZID=Pacific/Auckland:20271229T203000
DTSTAMP:20260423T233830
CREATED:20260124T210428Z
LAST-MODIFIED:20260310T194853Z
UID:10003652-1830106800-1830112200@www.rakiuracalendar.com
SUMMARY:Winter Jam Session
DESCRIPTION:Come along to the Oban Volunteer Fire Brigade Station to hear some of our local music enthusiasts jamming. Better yet\, bring your instrument of choice and join in. \nGold coin donation to support the Oban Volunteer Fire Brigade participation in the Wajax pump competition.
URL:https://www.rakiuracalendar.com/event/winter-jam-session-2-2-2/2027-12-29/
LOCATION:Oban Fire Station\, 6 Argyle Street\, Oban\, Southland\, 9818\, New Zealand
CATEGORIES:Music
ATTACH;FMTTYPE=image/jpeg:https://www.rakiuracalendar.com/wp-content/uploads/2025/07/pexels-bigbagfilms-8512617-scaled-e1752641177610.jpg
END:VEVENT
BEGIN:VEVENT
DTSTART;TZID=Pacific/Auckland:20280105T190000
DTEND;TZID=Pacific/Auckland:20280105T203000
DTSTAMP:20260423T233830
CREATED:20260124T210428Z
LAST-MODIFIED:20260310T194853Z
UID:10003653-1830711600-1830717000@www.rakiuracalendar.com
SUMMARY:Winter Jam Session
DESCRIPTION:Come along to the Oban Volunteer Fire Brigade Station to hear some of our local music enthusiasts jamming. Better yet\, bring your instrument of choice and join in. \nGold coin donation to support the Oban Volunteer Fire Brigade participation in the Wajax pump competition.
URL:https://www.rakiuracalendar.com/event/winter-jam-session-2-2-2/2028-01-05/
LOCATION:Oban Fire Station\, 6 Argyle Street\, Oban\, Southland\, 9818\, New Zealand
CATEGORIES:Music
ATTACH;FMTTYPE=image/jpeg:https://www.rakiuracalendar.com/wp-content/uploads/2025/07/pexels-bigbagfilms-8512617-scaled-e1752641177610.jpg
END:VEVENT
BEGIN:VEVENT
DTSTART;TZID=Pacific/Auckland:20280112T190000
DTEND;TZID=Pacific/Auckland:20280112T203000
DTSTAMP:20260423T233830
CREATED:20260124T210428Z
LAST-MODIFIED:20260310T194853Z
UID:10003654-1831316400-1831321800@www.rakiuracalendar.com
SUMMARY:Winter Jam Session
DESCRIPTION:Come along to the Oban Volunteer Fire Brigade Station to hear some of our local music enthusiasts jamming. Better yet\, bring your instrument of choice and join in. \nGold coin donation to support the Oban Volunteer Fire Brigade participation in the Wajax pump competition.
URL:https://www.rakiuracalendar.com/event/winter-jam-session-2-2-2/2028-01-12/
LOCATION:Oban Fire Station\, 6 Argyle Street\, Oban\, Southland\, 9818\, New Zealand
CATEGORIES:Music
ATTACH;FMTTYPE=image/jpeg:https://www.rakiuracalendar.com/wp-content/uploads/2025/07/pexels-bigbagfilms-8512617-scaled-e1752641177610.jpg
END:VEVENT
BEGIN:VEVENT
DTSTART;TZID=Pacific/Auckland:20280119T190000
DTEND;TZID=Pacific/Auckland:20280119T203000
DTSTAMP:20260423T233830
CREATED:20260124T210428Z
LAST-MODIFIED:20260310T194853Z
UID:10003655-1831921200-1831926600@www.rakiuracalendar.com
SUMMARY:Winter Jam Session
DESCRIPTION:Come along to the Oban Volunteer Fire Brigade Station to hear some of our local music enthusiasts jamming. Better yet\, bring your instrument of choice and join in. \nGold coin donation to support the Oban Volunteer Fire Brigade participation in the Wajax pump competition.
URL:https://www.rakiuracalendar.com/event/winter-jam-session-2-2-2/2028-01-19/
LOCATION:Oban Fire Station\, 6 Argyle Street\, Oban\, Southland\, 9818\, New Zealand
CATEGORIES:Music
ATTACH;FMTTYPE=image/jpeg:https://www.rakiuracalendar.com/wp-content/uploads/2025/07/pexels-bigbagfilms-8512617-scaled-e1752641177610.jpg
END:VEVENT
BEGIN:VEVENT
DTSTART;TZID=Pacific/Auckland:20280126T190000
DTEND;TZID=Pacific/Auckland:20280126T203000
DTSTAMP:20260423T233830
CREATED:20260124T210428Z
LAST-MODIFIED:20260310T194853Z
UID:10003656-1832526000-1832531400@www.rakiuracalendar.com
SUMMARY:Winter Jam Session
DESCRIPTION:Come along to the Oban Volunteer Fire Brigade Station to hear some of our local music enthusiasts jamming. Better yet\, bring your instrument of choice and join in. \nGold coin donation to support the Oban Volunteer Fire Brigade participation in the Wajax pump competition.
URL:https://www.rakiuracalendar.com/event/winter-jam-session-2-2-2/2028-01-26/
LOCATION:Oban Fire Station\, 6 Argyle Street\, Oban\, Southland\, 9818\, New Zealand
CATEGORIES:Music
ATTACH;FMTTYPE=image/jpeg:https://www.rakiuracalendar.com/wp-content/uploads/2025/07/pexels-bigbagfilms-8512617-scaled-e1752641177610.jpg
END:VEVENT
BEGIN:VEVENT
DTSTART;TZID=Pacific/Auckland:20280202T190000
DTEND;TZID=Pacific/Auckland:20280202T203000
DTSTAMP:20260423T233830
CREATED:20260124T210428Z
LAST-MODIFIED:20260310T194853Z
UID:10003657-1833130800-1833136200@www.rakiuracalendar.com
SUMMARY:Winter Jam Session
DESCRIPTION:Come along to the Oban Volunteer Fire Brigade Station to hear some of our local music enthusiasts jamming. Better yet\, bring your instrument of choice and join in. \nGold coin donation to support the Oban Volunteer Fire Brigade participation in the Wajax pump competition.
URL:https://www.rakiuracalendar.com/event/winter-jam-session-2-2-2/2028-02-02/
LOCATION:Oban Fire Station\, 6 Argyle Street\, Oban\, Southland\, 9818\, New Zealand
CATEGORIES:Music
ATTACH;FMTTYPE=image/jpeg:https://www.rakiuracalendar.com/wp-content/uploads/2025/07/pexels-bigbagfilms-8512617-scaled-e1752641177610.jpg
END:VEVENT
BEGIN:VEVENT
DTSTART;TZID=Pacific/Auckland:20280209T190000
DTEND;TZID=Pacific/Auckland:20280209T203000
DTSTAMP:20260423T233830
CREATED:20260124T210428Z
LAST-MODIFIED:20260310T194853Z
UID:10003658-1833735600-1833741000@www.rakiuracalendar.com
SUMMARY:Winter Jam Session
DESCRIPTION:Come along to the Oban Volunteer Fire Brigade Station to hear some of our local music enthusiasts jamming. Better yet\, bring your instrument of choice and join in. \nGold coin donation to support the Oban Volunteer Fire Brigade participation in the Wajax pump competition.
URL:https://www.rakiuracalendar.com/event/winter-jam-session-2-2-2/2028-02-09/
LOCATION:Oban Fire Station\, 6 Argyle Street\, Oban\, Southland\, 9818\, New Zealand
CATEGORIES:Music
ATTACH;FMTTYPE=image/jpeg:https://www.rakiuracalendar.com/wp-content/uploads/2025/07/pexels-bigbagfilms-8512617-scaled-e1752641177610.jpg
END:VEVENT
BEGIN:VEVENT
DTSTART;TZID=Pacific/Auckland:20280216T190000
DTEND;TZID=Pacific/Auckland:20280216T203000
DTSTAMP:20260423T233830
CREATED:20260124T210428Z
LAST-MODIFIED:20260310T194853Z
UID:10003659-1834340400-1834345800@www.rakiuracalendar.com
SUMMARY:Winter Jam Session
DESCRIPTION:Come along to the Oban Volunteer Fire Brigade Station to hear some of our local music enthusiasts jamming. Better yet\, bring your instrument of choice and join in. \nGold coin donation to support the Oban Volunteer Fire Brigade participation in the Wajax pump competition.
URL:https://www.rakiuracalendar.com/event/winter-jam-session-2-2-2/2028-02-16/
LOCATION:Oban Fire Station\, 6 Argyle Street\, Oban\, Southland\, 9818\, New Zealand
CATEGORIES:Music
ATTACH;FMTTYPE=image/jpeg:https://www.rakiuracalendar.com/wp-content/uploads/2025/07/pexels-bigbagfilms-8512617-scaled-e1752641177610.jpg
END:VEVENT
BEGIN:VEVENT
DTSTART;TZID=Pacific/Auckland:20280223T190000
DTEND;TZID=Pacific/Auckland:20280223T203000
DTSTAMP:20260423T233830
CREATED:20260124T210428Z
LAST-MODIFIED:20260310T194853Z
UID:10003660-1834945200-1834950600@www.rakiuracalendar.com
SUMMARY:Winter Jam Session
DESCRIPTION:Come along to the Oban Volunteer Fire Brigade Station to hear some of our local music enthusiasts jamming. Better yet\, bring your instrument of choice and join in. \nGold coin donation to support the Oban Volunteer Fire Brigade participation in the Wajax pump competition.
URL:https://www.rakiuracalendar.com/event/winter-jam-session-2-2-2/2028-02-23/
LOCATION:Oban Fire Station\, 6 Argyle Street\, Oban\, Southland\, 9818\, New Zealand
CATEGORIES:Music
ATTACH;FMTTYPE=image/jpeg:https://www.rakiuracalendar.com/wp-content/uploads/2025/07/pexels-bigbagfilms-8512617-scaled-e1752641177610.jpg
END:VEVENT
BEGIN:VEVENT
DTSTART;TZID=Pacific/Auckland:20280301T190000
DTEND;TZID=Pacific/Auckland:20280301T203000
DTSTAMP:20260423T233830
CREATED:20260124T210428Z
LAST-MODIFIED:20260310T194853Z
UID:10003661-1835550000-1835555400@www.rakiuracalendar.com
SUMMARY:Winter Jam Session
DESCRIPTION:Come along to the Oban Volunteer Fire Brigade Station to hear some of our local music enthusiasts jamming. Better yet\, bring your instrument of choice and join in. \nGold coin donation to support the Oban Volunteer Fire Brigade participation in the Wajax pump competition.
URL:https://www.rakiuracalendar.com/event/winter-jam-session-2-2-2/2028-03-01/
LOCATION:Oban Fire Station\, 6 Argyle Street\, Oban\, Southland\, 9818\, New Zealand
CATEGORIES:Music
ATTACH;FMTTYPE=image/jpeg:https://www.rakiuracalendar.com/wp-content/uploads/2025/07/pexels-bigbagfilms-8512617-scaled-e1752641177610.jpg
END:VEVENT
BEGIN:VEVENT
DTSTART;TZID=Pacific/Auckland:20280308T190000
DTEND;TZID=Pacific/Auckland:20280308T203000
DTSTAMP:20260423T233830
CREATED:20260124T210428Z
LAST-MODIFIED:20260310T194853Z
UID:10003662-1836154800-1836160200@www.rakiuracalendar.com
SUMMARY:Winter Jam Session
DESCRIPTION:Come along to the Oban Volunteer Fire Brigade Station to hear some of our local music enthusiasts jamming. Better yet\, bring your instrument of choice and join in. \nGold coin donation to support the Oban Volunteer Fire Brigade participation in the Wajax pump competition.
URL:https://www.rakiuracalendar.com/event/winter-jam-session-2-2-2/2028-03-08/
LOCATION:Oban Fire Station\, 6 Argyle Street\, Oban\, Southland\, 9818\, New Zealand
CATEGORIES:Music
ATTACH;FMTTYPE=image/jpeg:https://www.rakiuracalendar.com/wp-content/uploads/2025/07/pexels-bigbagfilms-8512617-scaled-e1752641177610.jpg
END:VEVENT
BEGIN:VEVENT
DTSTART;TZID=Pacific/Auckland:20280315T190000
DTEND;TZID=Pacific/Auckland:20280315T203000
DTSTAMP:20260423T233830
CREATED:20260124T210428Z
LAST-MODIFIED:20260310T194853Z
UID:10003663-1836759600-1836765000@www.rakiuracalendar.com
SUMMARY:Winter Jam Session
DESCRIPTION:Come along to the Oban Volunteer Fire Brigade Station to hear some of our local music enthusiasts jamming. Better yet\, bring your instrument of choice and join in. \nGold coin donation to support the Oban Volunteer Fire Brigade participation in the Wajax pump competition.
URL:https://www.rakiuracalendar.com/event/winter-jam-session-2-2-2/2028-03-15/
LOCATION:Oban Fire Station\, 6 Argyle Street\, Oban\, Southland\, 9818\, New Zealand
CATEGORIES:Music
ATTACH;FMTTYPE=image/jpeg:https://www.rakiuracalendar.com/wp-content/uploads/2025/07/pexels-bigbagfilms-8512617-scaled-e1752641177610.jpg
END:VEVENT
BEGIN:VEVENT
DTSTART;TZID=Pacific/Auckland:20280322T190000
DTEND;TZID=Pacific/Auckland:20280322T203000
DTSTAMP:20260423T233830
CREATED:20260124T210428Z
LAST-MODIFIED:20260310T194853Z
UID:10003664-1837364400-1837369800@www.rakiuracalendar.com
SUMMARY:Winter Jam Session
DESCRIPTION:Come along to the Oban Volunteer Fire Brigade Station to hear some of our local music enthusiasts jamming. Better yet\, bring your instrument of choice and join in. \nGold coin donation to support the Oban Volunteer Fire Brigade participation in the Wajax pump competition.
URL:https://www.rakiuracalendar.com/event/winter-jam-session-2-2-2/2028-03-22/
LOCATION:Oban Fire Station\, 6 Argyle Street\, Oban\, Southland\, 9818\, New Zealand
CATEGORIES:Music
ATTACH;FMTTYPE=image/jpeg:https://www.rakiuracalendar.com/wp-content/uploads/2025/07/pexels-bigbagfilms-8512617-scaled-e1752641177610.jpg
END:VEVENT
BEGIN:VEVENT
DTSTART;TZID=Pacific/Auckland:20280329T190000
DTEND;TZID=Pacific/Auckland:20280329T203000
DTSTAMP:20260423T233830
CREATED:20260124T210428Z
LAST-MODIFIED:20260310T194853Z
UID:10003665-1837969200-1837974600@www.rakiuracalendar.com
SUMMARY:Winter Jam Session
DESCRIPTION:Come along to the Oban Volunteer Fire Brigade Station to hear some of our local music enthusiasts jamming. Better yet\, bring your instrument of choice and join in. \nGold coin donation to support the Oban Volunteer Fire Brigade participation in the Wajax pump competition.
URL:https://www.rakiuracalendar.com/event/winter-jam-session-2-2-2/2028-03-29/
LOCATION:Oban Fire Station\, 6 Argyle Street\, Oban\, Southland\, 9818\, New Zealand
CATEGORIES:Music
ATTACH;FMTTYPE=image/jpeg:https://www.rakiuracalendar.com/wp-content/uploads/2025/07/pexels-bigbagfilms-8512617-scaled-e1752641177610.jpg
END:VEVENT
BEGIN:VEVENT
DTSTART;TZID=Pacific/Auckland:20280405T190000
DTEND;TZID=Pacific/Auckland:20280405T203000
DTSTAMP:20260423T233830
CREATED:20260124T210428Z
LAST-MODIFIED:20260310T194853Z
UID:10003666-1838574000-1838579400@www.rakiuracalendar.com
SUMMARY:Winter Jam Session
DESCRIPTION:Come along to the Oban Volunteer Fire Brigade Station to hear some of our local music enthusiasts jamming. Better yet\, bring your instrument of choice and join in. \nGold coin donation to support the Oban Volunteer Fire Brigade participation in the Wajax pump competition.
URL:https://www.rakiuracalendar.com/event/winter-jam-session-2-2-2/2028-04-05/
LOCATION:Oban Fire Station\, 6 Argyle Street\, Oban\, Southland\, 9818\, New Zealand
CATEGORIES:Music
ATTACH;FMTTYPE=image/jpeg:https://www.rakiuracalendar.com/wp-content/uploads/2025/07/pexels-bigbagfilms-8512617-scaled-e1752641177610.jpg
END:VEVENT
END:VCALENDAR