BEGIN:VCALENDAR
VERSION:2.0
PRODID:-//Rakiura Calendar - 2026 - ECPv6.15.20//NONSGML v1.0//EN
CALSCALE:GREGORIAN
METHOD:PUBLISH
X-ORIGINAL-URL:https://www.rakiuracalendar.com
X-WR-CALDESC:Events for Rakiura Calendar - 2026
REFRESH-INTERVAL;VALUE=DURATION:PT1H
X-Robots-Tag:noindex
X-PUBLISHED-TTL:PT1H
BEGIN:VTIMEZONE
TZID:Pacific/Auckland
BEGIN:STANDARD
TZOFFSETFROM:+1300
TZOFFSETTO:+1200
TZNAME:NZST
DTSTART:20240406T140000
END:STANDARD
BEGIN:DAYLIGHT
TZOFFSETFROM:+1200
TZOFFSETTO:+1300
TZNAME:NZDT
DTSTART:20240928T140000
END:DAYLIGHT
BEGIN:STANDARD
TZOFFSETFROM:+1300
TZOFFSETTO:+1200
TZNAME:NZST
DTSTART:20250405T140000
END:STANDARD
BEGIN:DAYLIGHT
TZOFFSETFROM:+1200
TZOFFSETTO:+1300
TZNAME:NZDT
DTSTART:20250927T140000
END:DAYLIGHT
BEGIN:STANDARD
TZOFFSETFROM:+1300
TZOFFSETTO:+1200
TZNAME:NZST
DTSTART:20260404T140000
END:STANDARD
BEGIN:DAYLIGHT
TZOFFSETFROM:+1200
TZOFFSETTO:+1300
TZNAME:NZDT
DTSTART:20260926T140000
END:DAYLIGHT
END:VTIMEZONE
BEGIN:VEVENT
DTSTART;TZID=Pacific/Auckland:20250507T180000
DTEND;TZID=Pacific/Auckland:20250507T180000
DTSTAMP:20260420T232905
CREATED:20250503T023002Z
LAST-MODIFIED:20250503T023002Z
UID:10002589-1746640800-1746640800@www.rakiuracalendar.com
SUMMARY:Community netball
DESCRIPTION:Gold coin donation for Community Centre non-members.
URL:https://www.rakiuracalendar.com/event/community-netball/2025-05-07/
LOCATION:Community Centre\, 10 Ayr Street\, Oban\, Southland\, 9818\, New Zealand
CATEGORIES:Sport
END:VEVENT
BEGIN:VEVENT
DTSTART;TZID=Pacific/Auckland:20250514T180000
DTEND;TZID=Pacific/Auckland:20250514T180000
DTSTAMP:20260420T232905
CREATED:20250503T023002Z
LAST-MODIFIED:20250503T023002Z
UID:10002590-1747245600-1747245600@www.rakiuracalendar.com
SUMMARY:Community netball
DESCRIPTION:Gold coin donation for Community Centre non-members.
URL:https://www.rakiuracalendar.com/event/community-netball/2025-05-14/
LOCATION:Community Centre\, 10 Ayr Street\, Oban\, Southland\, 9818\, New Zealand
CATEGORIES:Sport
END:VEVENT
BEGIN:VEVENT
DTSTART;TZID=Pacific/Auckland:20250521T180000
DTEND;TZID=Pacific/Auckland:20250521T180000
DTSTAMP:20260420T232905
CREATED:20250503T023002Z
LAST-MODIFIED:20250503T023002Z
UID:10002591-1747850400-1747850400@www.rakiuracalendar.com
SUMMARY:Community netball
DESCRIPTION:Gold coin donation for Community Centre non-members.
URL:https://www.rakiuracalendar.com/event/community-netball/2025-05-21/
LOCATION:Community Centre\, 10 Ayr Street\, Oban\, Southland\, 9818\, New Zealand
CATEGORIES:Sport
END:VEVENT
BEGIN:VEVENT
DTSTART;TZID=Pacific/Auckland:20250528T180000
DTEND;TZID=Pacific/Auckland:20250528T180000
DTSTAMP:20260420T232905
CREATED:20250515T204809Z
LAST-MODIFIED:20250515T204809Z
UID:10002592-1748455200-1748455200@www.rakiuracalendar.com
SUMMARY:Community netball
DESCRIPTION:Gold coin donation for Community Centre non-members.
URL:https://www.rakiuracalendar.com/event/community-netball-2/
LOCATION:Community Centre\, 10 Ayr Street\, Oban\, Southland\, 9818\, New Zealand
CATEGORIES:Sport
END:VEVENT
BEGIN:VEVENT
DTSTART;TZID=Pacific/Auckland:20250604T180000
DTEND;TZID=Pacific/Auckland:20250604T180000
DTSTAMP:20260420T232905
CREATED:20250529T054754Z
LAST-MODIFIED:20250616T032126Z
UID:10002593-1749060000-1749060000@www.rakiuracalendar.com
SUMMARY:Community netball
DESCRIPTION:$5 for Community Centre non-members.
URL:https://www.rakiuracalendar.com/event/community-netball-3/2025-06-04/
LOCATION:Community Centre\, 10 Ayr Street\, Oban\, Southland\, 9818\, New Zealand
CATEGORIES:Sport
END:VEVENT
BEGIN:VEVENT
DTSTART;TZID=Pacific/Auckland:20250611T180000
DTEND;TZID=Pacific/Auckland:20250611T180000
DTSTAMP:20260420T232905
CREATED:20250529T054754Z
LAST-MODIFIED:20250616T032126Z
UID:10002594-1749664800-1749664800@www.rakiuracalendar.com
SUMMARY:Community netball
DESCRIPTION:$5 for Community Centre non-members.
URL:https://www.rakiuracalendar.com/event/community-netball-3/2025-06-11/
LOCATION:Community Centre\, 10 Ayr Street\, Oban\, Southland\, 9818\, New Zealand
CATEGORIES:Sport
END:VEVENT
BEGIN:VEVENT
DTSTART;TZID=Pacific/Auckland:20250618T180000
DTEND;TZID=Pacific/Auckland:20250618T180000
DTSTAMP:20260420T232905
CREATED:20250529T054754Z
LAST-MODIFIED:20250616T032126Z
UID:10002595-1750269600-1750269600@www.rakiuracalendar.com
SUMMARY:Community netball
DESCRIPTION:$5 for Community Centre non-members.
URL:https://www.rakiuracalendar.com/event/community-netball-3/2025-06-18/
LOCATION:Community Centre\, 10 Ayr Street\, Oban\, Southland\, 9818\, New Zealand
CATEGORIES:Sport
END:VEVENT
BEGIN:VEVENT
DTSTART;TZID=Pacific/Auckland:20250625T180000
DTEND;TZID=Pacific/Auckland:20250625T180000
DTSTAMP:20260420T232905
CREATED:20250529T054754Z
LAST-MODIFIED:20250616T032126Z
UID:10002596-1750874400-1750874400@www.rakiuracalendar.com
SUMMARY:Community netball
DESCRIPTION:$5 for Community Centre non-members.
URL:https://www.rakiuracalendar.com/event/community-netball-3/2025-06-25/
LOCATION:Community Centre\, 10 Ayr Street\, Oban\, Southland\, 9818\, New Zealand
CATEGORIES:Sport
END:VEVENT
BEGIN:VEVENT
DTSTART;TZID=Pacific/Auckland:20250702T180000
DTEND;TZID=Pacific/Auckland:20250702T180000
DTSTAMP:20260420T232905
CREATED:20250529T054754Z
LAST-MODIFIED:20250616T032126Z
UID:10002597-1751479200-1751479200@www.rakiuracalendar.com
SUMMARY:Community netball
DESCRIPTION:$5 for Community Centre non-members.
URL:https://www.rakiuracalendar.com/event/community-netball-3/2025-07-02/
LOCATION:Community Centre\, 10 Ayr Street\, Oban\, Southland\, 9818\, New Zealand
CATEGORIES:Sport
END:VEVENT
BEGIN:VEVENT
DTSTART;TZID=Pacific/Auckland:20250709T180000
DTEND;TZID=Pacific/Auckland:20250709T180000
DTSTAMP:20260420T232905
CREATED:20250529T054754Z
LAST-MODIFIED:20250616T032126Z
UID:10002598-1752084000-1752084000@www.rakiuracalendar.com
SUMMARY:Community netball
DESCRIPTION:$5 for Community Centre non-members.
URL:https://www.rakiuracalendar.com/event/community-netball-3/2025-07-09/
LOCATION:Community Centre\, 10 Ayr Street\, Oban\, Southland\, 9818\, New Zealand
CATEGORIES:Sport
END:VEVENT
BEGIN:VEVENT
DTSTART;TZID=Pacific/Auckland:20250716T180000
DTEND;TZID=Pacific/Auckland:20250716T180000
DTSTAMP:20260420T232905
CREATED:20250529T054754Z
LAST-MODIFIED:20250616T032126Z
UID:10002599-1752688800-1752688800@www.rakiuracalendar.com
SUMMARY:Community netball
DESCRIPTION:$5 for Community Centre non-members.
URL:https://www.rakiuracalendar.com/event/community-netball-3/2025-07-16/
LOCATION:Community Centre\, 10 Ayr Street\, Oban\, Southland\, 9818\, New Zealand
CATEGORIES:Sport
END:VEVENT
BEGIN:VEVENT
DTSTART;TZID=Pacific/Auckland:20250723T180000
DTEND;TZID=Pacific/Auckland:20250723T180000
DTSTAMP:20260420T232905
CREATED:20250529T054754Z
LAST-MODIFIED:20250616T032126Z
UID:10002600-1753293600-1753293600@www.rakiuracalendar.com
SUMMARY:Community netball
DESCRIPTION:$5 for Community Centre non-members.
URL:https://www.rakiuracalendar.com/event/community-netball-3/2025-07-23/
LOCATION:Community Centre\, 10 Ayr Street\, Oban\, Southland\, 9818\, New Zealand
CATEGORIES:Sport
END:VEVENT
END:VCALENDAR