BEGIN:VCALENDAR
VERSION:2.0
PRODID:-//Rakiura Calendar - 2026 - ECPv6.15.20//NONSGML v1.0//EN
CALSCALE:GREGORIAN
METHOD:PUBLISH
X-ORIGINAL-URL:https://www.rakiuracalendar.com
X-WR-CALDESC:Events for Rakiura Calendar - 2026
REFRESH-INTERVAL;VALUE=DURATION:PT1H
X-Robots-Tag:noindex
X-PUBLISHED-TTL:PT1H
BEGIN:VTIMEZONE
TZID:Pacific/Auckland
BEGIN:STANDARD
TZOFFSETFROM:+1300
TZOFFSETTO:+1200
TZNAME:NZST
DTSTART:20220402T140000
END:STANDARD
BEGIN:DAYLIGHT
TZOFFSETFROM:+1200
TZOFFSETTO:+1300
TZNAME:NZDT
DTSTART:20220924T140000
END:DAYLIGHT
BEGIN:STANDARD
TZOFFSETFROM:+1300
TZOFFSETTO:+1200
TZNAME:NZST
DTSTART:20230401T140000
END:STANDARD
BEGIN:DAYLIGHT
TZOFFSETFROM:+1200
TZOFFSETTO:+1300
TZNAME:NZDT
DTSTART:20230923T140000
END:DAYLIGHT
BEGIN:STANDARD
TZOFFSETFROM:+1300
TZOFFSETTO:+1200
TZNAME:NZST
DTSTART:20240406T140000
END:STANDARD
BEGIN:DAYLIGHT
TZOFFSETFROM:+1200
TZOFFSETTO:+1300
TZNAME:NZDT
DTSTART:20240928T140000
END:DAYLIGHT
END:VTIMEZONE
BEGIN:VEVENT
DTSTART;TZID=Pacific/Auckland:20230914T193000
DTEND;TZID=Pacific/Auckland:20230914T193000
DTSTAMP:20260424T061155
CREATED:20230902T205954Z
LAST-MODIFIED:20230902T205954Z
UID:10001238-1694719800-1694719800@www.rakiuracalendar.com
SUMMARY:Great South Update – Rakiura Stewart Island
DESCRIPTION:Join the Great South team for the latest update on our recent activity and what’s coming up\, with a focus on Rakiura Stewart Island. \nIt is also an opportunity to find out more about the Murihiku Southland Destination Strategy 2023 – 2029 and this vision for the future of our tourism sector. \nThe evening will include updates on: \n– Beyond 2025 Southland\n– Southland Murihiku Regional Energy Strategy\n– Tourism insights\n– Murihiku Southland Destination Strategy 2023 – 2029\nand more! \nLight refreshments will be provided. \nYour RSVP is essential for this event. \nPlease complete the form at this link here. \nWe look forward to seeing you there!
URL:https://www.rakiuracalendar.com/event/great-south-update-rakiura-stewart-island/
LOCATION:RSA Pavilion\, 7 Ayr Street\, Oban\, Southland\, 9818\, New Zealand
CATEGORIES:Community meeting
ATTACH;FMTTYPE=image/jpeg:https://www.rakiuracalendar.com/wp-content/uploads/2023/09/GreatSouth.jpg
ORGANIZER;CN="Great South":MAILTO:amie@greatsouth.nz
END:VEVENT
END:VCALENDAR