BEGIN:VCALENDAR
VERSION:2.0
PRODID:-//Rakiura Calendar - 2026 - ECPv6.15.20//NONSGML v1.0//EN
CALSCALE:GREGORIAN
METHOD:PUBLISH
X-ORIGINAL-URL:https://www.rakiuracalendar.com
X-WR-CALDESC:Events for Rakiura Calendar - 2026
REFRESH-INTERVAL;VALUE=DURATION:PT1H
X-Robots-Tag:noindex
X-PUBLISHED-TTL:PT1H
BEGIN:VTIMEZONE
TZID:Pacific/Auckland
BEGIN:STANDARD
TZOFFSETFROM:+1300
TZOFFSETTO:+1200
TZNAME:NZST
DTSTART:20230401T140000
END:STANDARD
BEGIN:DAYLIGHT
TZOFFSETFROM:+1200
TZOFFSETTO:+1300
TZNAME:NZDT
DTSTART:20230923T140000
END:DAYLIGHT
BEGIN:STANDARD
TZOFFSETFROM:+1300
TZOFFSETTO:+1200
TZNAME:NZST
DTSTART:20240406T140000
END:STANDARD
BEGIN:DAYLIGHT
TZOFFSETFROM:+1200
TZOFFSETTO:+1300
TZNAME:NZDT
DTSTART:20240928T140000
END:DAYLIGHT
BEGIN:STANDARD
TZOFFSETFROM:+1300
TZOFFSETTO:+1200
TZNAME:NZST
DTSTART:20250405T140000
END:STANDARD
BEGIN:DAYLIGHT
TZOFFSETFROM:+1200
TZOFFSETTO:+1300
TZNAME:NZDT
DTSTART:20250927T140000
END:DAYLIGHT
END:VTIMEZONE
BEGIN:VEVENT
DTSTART;TZID=Pacific/Auckland:20240909T100000
DTEND;TZID=Pacific/Auckland:20240909T110000
DTSTAMP:20260424T182908
CREATED:20230528T220851Z
LAST-MODIFIED:20230729T065001Z
UID:10000171-1725876000-1725879600@www.rakiuracalendar.com
SUMMARY:Tai chi
DESCRIPTION:Tai chi every Monday and Thursday- relaxed pace and beginners welcome! Gold coin donation.
URL:https://www.rakiuracalendar.com/event/tai-chi/2024-09-09/
LOCATION:RSA Pavilion\, 7 Ayr Street\, Oban\, Southland\, 9818\, New Zealand
CATEGORIES:Sport,Wellbeing
ATTACH;FMTTYPE=image/jpeg:https://www.rakiuracalendar.com/wp-content/uploads/2023/05/20230408_115141-e1690613375334.jpg
END:VEVENT
BEGIN:VEVENT
DTSTART;TZID=Pacific/Auckland:20240909T190000
DTEND;TZID=Pacific/Auckland:20240909T190000
DTSTAMP:20260424T182908
CREATED:20230529T074945Z
LAST-MODIFIED:20230530T041221Z
UID:10000646-1725908400-1725908400@www.rakiuracalendar.com
SUMMARY:Oban Fire Brigade Training Night
DESCRIPTION:Fire and Emergency NZ weekly training for the local brigade. \nCome along to see what we’re up to and if you’re interested in volunteering.
URL:https://www.rakiuracalendar.com/event/oban-fire-brigade-training-night/2024-09-09/
LOCATION:Oban Fire Station\, 6 Argyle Street\, Oban\, Southland\, 9818\, New Zealand
CATEGORIES:Community,Group meeting,Training,Volunteer
ATTACH;FMTTYPE=image/jpeg:https://www.rakiuracalendar.com/wp-content/uploads/2023/05/Screenshot_20230529_194125_Outlook.jpg
END:VEVENT
BEGIN:VEVENT
DTSTART;TZID=Pacific/Auckland:20240910T193000
DTEND;TZID=Pacific/Auckland:20240910T210000
DTSTAMP:20260424T182908
CREATED:20240603T215431Z
LAST-MODIFIED:20240603T215432Z
UID:10001530-1725996600-1726002000@www.rakiuracalendar.com
SUMMARY:Future Rakiura Committee Meeting
DESCRIPTION:Monthly meeting of the Future Rakiura Committee to progress community projects.
URL:https://www.rakiuracalendar.com/event/future-rakiura-committee-meeting-10-2-2/2024-09-10/
LOCATION:Southland
CATEGORIES:Community
ATTACH;FMTTYPE=image/png:https://www.rakiuracalendar.com/wp-content/uploads/Logos/Logo.png
ORGANIZER;CN="Future Rakiura":MAILTO:rakiura.future@gmail.com
END:VEVENT
BEGIN:VEVENT
DTSTART;TZID=Pacific/Auckland:20240911T100000
DTEND;TZID=Pacific/Auckland:20240911T150000
DTSTAMP:20260424T182908
CREATED:20240817T053338Z
LAST-MODIFIED:20240817T053338Z
UID:10001881-1726048800-1726066800@www.rakiuracalendar.com
SUMMARY:Card Games
DESCRIPTION:
URL:https://www.rakiuracalendar.com/event/card-games/2024-09-11/
LOCATION:South Sea Hotel\, 26 Elgin Terrace\, Oban\, Southland\, 9818\, New Zealand
CATEGORIES:Community
ATTACH;FMTTYPE=image/jpeg:https://www.rakiuracalendar.com/wp-content/uploads/Events/20230523_152505-scaled-e1723872739432.jpg
END:VEVENT
BEGIN:VEVENT
DTSTART;TZID=Pacific/Auckland:20240911T130000
DTEND;TZID=Pacific/Auckland:20240911T150000
DTSTAMP:20260424T182908
CREATED:20240817T050438Z
LAST-MODIFIED:20240817T050438Z
UID:10001609-1726059600-1726066800@www.rakiuracalendar.com
SUMMARY:SIRCET Plant & Plot
DESCRIPTION:
URL:https://www.rakiuracalendar.com/event/sircet-plant-plot/2024-09-11/
LOCATION:Southland
CATEGORIES:Conservation,Outdoors
ATTACH;FMTTYPE=image/jpeg:https://www.rakiuracalendar.com/wp-content/uploads/2024/08/att.VyK46gQo0TKr71KN42gRUydL05kP9F9IqEFgaB4_nlM-1-e1723871006841.jpg
ORGANIZER;CN="SIRCET":MAILTO:community@sircet.org.nz
END:VEVENT
BEGIN:VEVENT
DTSTART;TZID=Pacific/Auckland:20240911T170000
DTEND;TZID=Pacific/Auckland:20240911T180000
DTSTAMP:20260424T182908
CREATED:20240817T052403Z
LAST-MODIFIED:20240817T052403Z
UID:10001875-1726074000-1726077600@www.rakiuracalendar.com
SUMMARY:Animal Flow
DESCRIPTION:Animal Flow is a ground based bodyweight exercise system developed by Mike Fitch and with roots in yoga\, Pilates and breakdance. It can be adapted to be accessible to moderately fit people or to challenge the very fit.
URL:https://www.rakiuracalendar.com/event/animal-flow-2/2024-09-11/
LOCATION:St Andrews Anglican Church Hall\, 10 Excelsior Road\, Oban\, 9818\, New Zealand
CATEGORIES:Health,Sport,Training,Wellbeing
ATTACH;FMTTYPE=image/png:https://www.rakiuracalendar.com/wp-content/uploads/2023/07/Animal-Flow.png
ORGANIZER;CN="Bill Watt":MAILTO:williamwatt@outlook.co.nz
END:VEVENT
BEGIN:VEVENT
DTSTART;TZID=Pacific/Auckland:20240912T100000
DTEND;TZID=Pacific/Auckland:20240912T110000
DTSTAMP:20260424T182908
CREATED:20230528T220851Z
LAST-MODIFIED:20230729T065001Z
UID:10000172-1726135200-1726138800@www.rakiuracalendar.com
SUMMARY:Tai chi
DESCRIPTION:Tai chi every Monday and Thursday- relaxed pace and beginners welcome! Gold coin donation.
URL:https://www.rakiuracalendar.com/event/tai-chi/2024-09-12/
LOCATION:RSA Pavilion\, 7 Ayr Street\, Oban\, Southland\, 9818\, New Zealand
CATEGORIES:Sport,Wellbeing
ATTACH;FMTTYPE=image/jpeg:https://www.rakiuracalendar.com/wp-content/uploads/2023/05/20230408_115141-e1690613375334.jpg
END:VEVENT
BEGIN:VEVENT
DTSTART;TZID=Pacific/Auckland:20240912T190000
DTEND;TZID=Pacific/Auckland:20240912T203000
DTSTAMP:20260424T182908
CREATED:20240707T003639Z
LAST-MODIFIED:20240707T003639Z
UID:10001600-1726167600-1726173000@www.rakiuracalendar.com
SUMMARY:Badminton
DESCRIPTION:
URL:https://www.rakiuracalendar.com/event/badminton-3/2024-09-12/
LOCATION:Community Centre\, 10 Ayr Street\, Oban\, Southland\, 9818\, New Zealand
CATEGORIES:Sport
ATTACH;FMTTYPE=image/jpeg:https://www.rakiuracalendar.com/wp-content/uploads/Events/20230523_152053-scaled-e1720312483151.jpg
END:VEVENT
END:VCALENDAR