BEGIN:VCALENDAR
VERSION:2.0
PRODID:-//Rakiura Calendar - 2026 - ECPv6.15.20//NONSGML v1.0//EN
CALSCALE:GREGORIAN
METHOD:PUBLISH
X-WR-CALNAME:Rakiura Calendar - 2026
X-ORIGINAL-URL:https://www.rakiuracalendar.com
X-WR-CALDESC:Events for Rakiura Calendar - 2026
REFRESH-INTERVAL;VALUE=DURATION:PT1H
X-Robots-Tag:noindex
X-PUBLISHED-TTL:PT1H
BEGIN:VTIMEZONE
TZID:Pacific/Auckland
BEGIN:STANDARD
TZOFFSETFROM:+1300
TZOFFSETTO:+1200
TZNAME:NZST
DTSTART:20230401T140000
END:STANDARD
BEGIN:DAYLIGHT
TZOFFSETFROM:+1200
TZOFFSETTO:+1300
TZNAME:NZDT
DTSTART:20230923T140000
END:DAYLIGHT
BEGIN:STANDARD
TZOFFSETFROM:+1300
TZOFFSETTO:+1200
TZNAME:NZST
DTSTART:20240406T140000
END:STANDARD
BEGIN:DAYLIGHT
TZOFFSETFROM:+1200
TZOFFSETTO:+1300
TZNAME:NZDT
DTSTART:20240928T140000
END:DAYLIGHT
BEGIN:STANDARD
TZOFFSETFROM:+1300
TZOFFSETTO:+1200
TZNAME:NZST
DTSTART:20250405T140000
END:STANDARD
BEGIN:DAYLIGHT
TZOFFSETFROM:+1200
TZOFFSETTO:+1300
TZNAME:NZDT
DTSTART:20250927T140000
END:DAYLIGHT
END:VTIMEZONE
BEGIN:VEVENT
DTSTART;TZID=Pacific/Auckland:20241014T100000
DTEND;TZID=Pacific/Auckland:20241014T110000
DTSTAMP:20260424T075859
CREATED:20230528T220851Z
LAST-MODIFIED:20230729T065001Z
UID:10000181-1728900000-1728903600@www.rakiuracalendar.com
SUMMARY:Tai chi
DESCRIPTION:Tai chi every Monday and Thursday- relaxed pace and beginners welcome! Gold coin donation.
URL:https://www.rakiuracalendar.com/event/tai-chi/2024-10-14/
LOCATION:RSA Pavilion\, 7 Ayr Street\, Oban\, Southland\, 9818\, New Zealand
CATEGORIES:Sport,Wellbeing
ATTACH;FMTTYPE=image/jpeg:https://www.rakiuracalendar.com/wp-content/uploads/2023/05/20230408_115141-e1690613375334.jpg
END:VEVENT
BEGIN:VEVENT
DTSTART;TZID=Pacific/Auckland:20241014T190000
DTEND;TZID=Pacific/Auckland:20241014T190000
DTSTAMP:20260424T075859
CREATED:20230529T074945Z
LAST-MODIFIED:20230530T041221Z
UID:10000651-1728932400-1728932400@www.rakiuracalendar.com
SUMMARY:Oban Fire Brigade Training Night
DESCRIPTION:Fire and Emergency NZ weekly training for the local brigade. \nCome along to see what we’re up to and if you’re interested in volunteering.
URL:https://www.rakiuracalendar.com/event/oban-fire-brigade-training-night/2024-10-14/
LOCATION:Oban Fire Station\, 6 Argyle Street\, Oban\, Southland\, 9818\, New Zealand
CATEGORIES:Community,Group meeting,Training,Volunteer
ATTACH;FMTTYPE=image/jpeg:https://www.rakiuracalendar.com/wp-content/uploads/2023/05/Screenshot_20230529_194125_Outlook.jpg
END:VEVENT
BEGIN:VEVENT
DTSTART;TZID=Pacific/Auckland:20241015T100000
DTEND;TZID=Pacific/Auckland:20241015T190000
DTSTAMP:20260424T075859
CREATED:20241008T071619Z
LAST-MODIFIED:20241008T071619Z
UID:10002020-1728986400-1729018800@www.rakiuracalendar.com
SUMMARY:Predator Free Rakiura - Discussion sessions
DESCRIPTION:We’re now planning the first operational stage of work to completely remove predators from Rakiura – and we want to hear from you\, so that we can make sure we’re taking all views into consideration as we form a plan.\n\n\nTUESDAY 15 OCTOBER: 10am-7pm\nWEDNESDAY 16 OCTOBER: 10am-7pm\n\n\nBook a time that suits you to come and meet the ZIP team. Share your views on the project\, learn about planning so far and ask any questions you may have!\n\n\nEmail us to book a spot: info@predatrofreerakiura.org.nz\n\n\nIf you can’t make these times but would like to contribute\, just let us know!\n\n\nFollowing these sessions\, there’ll be more opportunities for in-person community discussion as planning continues.
URL:https://www.rakiuracalendar.com/event/predator-free-rakiura-discussion-sessions/
LOCATION:Community Centre\, 10 Ayr Street\, Oban\, Southland\, 9818\, New Zealand
CATEGORIES:Conservation,Wildlife
ATTACH;FMTTYPE=image/webp:https://www.rakiuracalendar.com/wp-content/uploads/2024/10/PredatorFreeRakiura-e1728371676637.webp
END:VEVENT
BEGIN:VEVENT
DTSTART;TZID=Pacific/Auckland:20241016T100000
DTEND;TZID=Pacific/Auckland:20241016T150000
DTSTAMP:20260424T075859
CREATED:20240817T053338Z
LAST-MODIFIED:20240817T053338Z
UID:10001886-1729072800-1729090800@www.rakiuracalendar.com
SUMMARY:Card Games
DESCRIPTION:
URL:https://www.rakiuracalendar.com/event/card-games/2024-10-16/
LOCATION:South Sea Hotel\, 26 Elgin Terrace\, Oban\, Southland\, 9818\, New Zealand
CATEGORIES:Community
ATTACH;FMTTYPE=image/jpeg:https://www.rakiuracalendar.com/wp-content/uploads/Events/20230523_152505-scaled-e1723872739432.jpg
END:VEVENT
BEGIN:VEVENT
DTSTART;TZID=Pacific/Auckland:20241016T100000
DTEND;TZID=Pacific/Auckland:20241016T190000
DTSTAMP:20260424T075859
CREATED:20241008T071701Z
LAST-MODIFIED:20241008T071701Z
UID:10002021-1729072800-1729105200@www.rakiuracalendar.com
SUMMARY:Predator Free Rakiura - Discussion sessions
DESCRIPTION:We’re now planning the first operational stage of work to completely remove predators from Rakiura – and we want to hear from you\, so that we can make sure we’re taking all views into consideration as we form a plan.\n\n\nTUESDAY 15 OCTOBER: 10am-7pm\nWEDNESDAY 16 OCTOBER: 10am-7pm\n\n\nBook a time that suits you to come and meet the ZIP team. Share your views on the project\, learn about planning so far and ask any questions you may have!\n\n\nEmail us to book a spot: info@predatrofreerakiura.org.nz\n\n\nIf you can’t make these times but would like to contribute\, just let us know!\n\n\nFollowing these sessions\, there’ll be more opportunities for in-person community discussion as planning continues.
URL:https://www.rakiuracalendar.com/event/predator-free-rakiura-discussion-sessions-2/
LOCATION:Community Centre\, 10 Ayr Street\, Oban\, Southland\, 9818\, New Zealand
CATEGORIES:Conservation,Wildlife
ATTACH;FMTTYPE=image/webp:https://www.rakiuracalendar.com/wp-content/uploads/2024/10/PredatorFreeRakiura-e1728371676637.webp
END:VEVENT
BEGIN:VEVENT
DTSTART;TZID=Pacific/Auckland:20241016T130000
DTEND;TZID=Pacific/Auckland:20241016T150000
DTSTAMP:20260424T075859
CREATED:20240817T050438Z
LAST-MODIFIED:20240817T050438Z
UID:10001614-1729083600-1729090800@www.rakiuracalendar.com
SUMMARY:SIRCET Plant & Plot
DESCRIPTION:
URL:https://www.rakiuracalendar.com/event/sircet-plant-plot/2024-10-16/
LOCATION:Southland
CATEGORIES:Conservation,Outdoors
ATTACH;FMTTYPE=image/jpeg:https://www.rakiuracalendar.com/wp-content/uploads/2024/08/att.VyK46gQo0TKr71KN42gRUydL05kP9F9IqEFgaB4_nlM-1-e1723871006841.jpg
ORGANIZER;CN="SIRCET":MAILTO:community@sircet.org.nz
END:VEVENT
BEGIN:VEVENT
DTSTART;TZID=Pacific/Auckland:20241017T100000
DTEND;TZID=Pacific/Auckland:20241017T110000
DTSTAMP:20260424T075859
CREATED:20230528T220851Z
LAST-MODIFIED:20230729T065001Z
UID:10000182-1729159200-1729162800@www.rakiuracalendar.com
SUMMARY:Tai chi
DESCRIPTION:Tai chi every Monday and Thursday- relaxed pace and beginners welcome! Gold coin donation.
URL:https://www.rakiuracalendar.com/event/tai-chi/2024-10-17/
LOCATION:RSA Pavilion\, 7 Ayr Street\, Oban\, Southland\, 9818\, New Zealand
CATEGORIES:Sport,Wellbeing
ATTACH;FMTTYPE=image/jpeg:https://www.rakiuracalendar.com/wp-content/uploads/2023/05/20230408_115141-e1690613375334.jpg
END:VEVENT
BEGIN:VEVENT
DTSTART;TZID=Pacific/Auckland:20241018T103000
DTEND;TZID=Pacific/Auckland:20241018T143000
DTSTAMP:20260424T075859
CREATED:20240915T070028Z
LAST-MODIFIED:20240920T065701Z
UID:10001948-1729247400-1729261800@www.rakiuracalendar.com
SUMMARY:Southland Conservation Board
DESCRIPTION:Public forum – 2 to 2.30pm – all welcome.
URL:https://www.rakiuracalendar.com/event/southland-conservation-board/
LOCATION:Rakiura Museum\, 11 Main Road\, Oban\, Southland\, 9818\, New Zealand
CATEGORIES:Conservation
ATTACH;FMTTYPE=image/png:https://www.rakiuracalendar.com/wp-content/uploads/2024/09/SCB.png
ORGANIZER;CN="Southland Conservation Board":MAILTO:southlandconservationboard@doc.govt.nz
END:VEVENT
END:VCALENDAR