BEGIN:VCALENDAR
VERSION:2.0
PRODID:-//Rakiura Calendar - 2026 - ECPv6.15.20//NONSGML v1.0//EN
CALSCALE:GREGORIAN
METHOD:PUBLISH
X-ORIGINAL-URL:https://www.rakiuracalendar.com
X-WR-CALDESC:Events for Rakiura Calendar - 2026
REFRESH-INTERVAL;VALUE=DURATION:PT1H
X-Robots-Tag:noindex
X-PUBLISHED-TTL:PT1H
BEGIN:VTIMEZONE
TZID:Pacific/Auckland
BEGIN:STANDARD
TZOFFSETFROM:+1300
TZOFFSETTO:+1200
TZNAME:NZST
DTSTART:20230401T140000
END:STANDARD
BEGIN:DAYLIGHT
TZOFFSETFROM:+1200
TZOFFSETTO:+1300
TZNAME:NZDT
DTSTART:20230923T140000
END:DAYLIGHT
BEGIN:STANDARD
TZOFFSETFROM:+1300
TZOFFSETTO:+1200
TZNAME:NZST
DTSTART:20240406T140000
END:STANDARD
BEGIN:DAYLIGHT
TZOFFSETFROM:+1200
TZOFFSETTO:+1300
TZNAME:NZDT
DTSTART:20240928T140000
END:DAYLIGHT
BEGIN:STANDARD
TZOFFSETFROM:+1300
TZOFFSETTO:+1200
TZNAME:NZST
DTSTART:20250405T140000
END:STANDARD
BEGIN:DAYLIGHT
TZOFFSETFROM:+1200
TZOFFSETTO:+1300
TZNAME:NZDT
DTSTART:20250927T140000
END:DAYLIGHT
END:VTIMEZONE
BEGIN:VEVENT
DTSTART;VALUE=DATE:20241028
DTEND;VALUE=DATE:20241029
DTSTAMP:20260424T100812
CREATED:20241010T070150Z
LAST-MODIFIED:20241010T070150Z
UID:10002023-1730073600-1730159999@www.rakiuracalendar.com
SUMMARY:Kiwi Avoidance Training for dogs
DESCRIPTION:
URL:https://www.rakiuracalendar.com/event/kiwi-avoidance-training-for-dogs/
LOCATION:Wilson’s property at end of Leask Bay Road
CATEGORIES:Community,Conservation,Training,Wildlife
ATTACH;FMTTYPE=image/jpeg:https://www.rakiuracalendar.com/wp-content/uploads/2024/10/462474602_10162337944336079_4392700846036979254_n.jpg
ORGANIZER;CN="SIRCET":MAILTO:community@sircet.org.nz
END:VEVENT
BEGIN:VEVENT
DTSTART;VALUE=DATE:20241028
DTEND;VALUE=DATE:20241029
DTSTAMP:20260424T100812
CREATED:20240707T002934Z
LAST-MODIFIED:20240707T003159Z
UID:10001590-1730102400-1730134800@www.rakiuracalendar.com
SUMMARY:Pallet Competition
DESCRIPTION:
URL:https://www.rakiuracalendar.com/event/pallet-competition/2024-10-28/
LOCATION:Halfmoon Bay\, 1 Main Road\, Oban\, Southland\, 9818\, New Zealand
CATEGORIES:Community,Crafting
ATTACH;FMTTYPE=image/jpeg:https://www.rakiuracalendar.com/wp-content/uploads/2024/07/PalletCompetitionCrop-e1720312060564.jpg
END:VEVENT
BEGIN:VEVENT
DTSTART;TZID=Pacific/Auckland:20241028T100000
DTEND;TZID=Pacific/Auckland:20241028T110000
DTSTAMP:20260424T100812
CREATED:20230528T220851Z
LAST-MODIFIED:20230729T065001Z
UID:10000185-1730109600-1730113200@www.rakiuracalendar.com
SUMMARY:Tai chi
DESCRIPTION:Tai chi every Monday and Thursday- relaxed pace and beginners welcome! Gold coin donation.
URL:https://www.rakiuracalendar.com/event/tai-chi/2024-10-28/
LOCATION:RSA Pavilion\, 7 Ayr Street\, Oban\, Southland\, 9818\, New Zealand
CATEGORIES:Sport,Wellbeing
ATTACH;FMTTYPE=image/jpeg:https://www.rakiuracalendar.com/wp-content/uploads/2023/05/20230408_115141-e1690613375334.jpg
END:VEVENT
BEGIN:VEVENT
DTSTART;TZID=Pacific/Auckland:20241028T134500
DTEND;TZID=Pacific/Auckland:20241028T134500
DTSTAMP:20260424T100812
CREATED:20241003T234132Z
LAST-MODIFIED:20241003T234538Z
UID:10001958-1730123100-1730123100@www.rakiuracalendar.com
SUMMARY:Moturau Moana Garden Tour
DESCRIPTION:
URL:https://www.rakiuracalendar.com/event/rakiura-rhyme-machine-moturau-moana-garden-tour/
LOCATION:Moturau Moana Gardens\, 140 Horseshoe Bay Road\, Oban\, Southland\, 9818\, New Zealand
CATEGORIES:Outdoors
ATTACH;FMTTYPE=image/png:https://www.rakiuracalendar.com/wp-content/uploads/2024/10/Rakiura-Rhyme-Machine.png
END:VEVENT
BEGIN:VEVENT
DTSTART;TZID=Pacific/Auckland:20241028T190000
DTEND;TZID=Pacific/Auckland:20241028T190000
DTSTAMP:20260424T100812
CREATED:20230529T074945Z
LAST-MODIFIED:20230530T041221Z
UID:10000653-1730142000-1730142000@www.rakiuracalendar.com
SUMMARY:Oban Fire Brigade Training Night
DESCRIPTION:Fire and Emergency NZ weekly training for the local brigade. \nCome along to see what we’re up to and if you’re interested in volunteering.
URL:https://www.rakiuracalendar.com/event/oban-fire-brigade-training-night/2024-10-28/
LOCATION:Oban Fire Station\, 6 Argyle Street\, Oban\, Southland\, 9818\, New Zealand
CATEGORIES:Community,Group meeting,Training,Volunteer
ATTACH;FMTTYPE=image/jpeg:https://www.rakiuracalendar.com/wp-content/uploads/2023/05/Screenshot_20230529_194125_Outlook.jpg
END:VEVENT
BEGIN:VEVENT
DTSTART;TZID=Pacific/Auckland:20241028T200000
DTEND;TZID=Pacific/Auckland:20241028T200000
DTSTAMP:20260424T100812
CREATED:20241003T234317Z
LAST-MODIFIED:20241003T234317Z
UID:10001959-1730145600-1730145600@www.rakiuracalendar.com
SUMMARY:The Gravity Ball
DESCRIPTION:
URL:https://www.rakiuracalendar.com/event/the-gravity-ball/
LOCATION:Community Centre\, 10 Ayr Street\, Oban\, Southland\, 9818\, New Zealand
CATEGORIES:Music
ATTACH;FMTTYPE=image/png:https://www.rakiuracalendar.com/wp-content/uploads/2024/10/Rakiura-Rhyme-Machine.png
END:VEVENT
BEGIN:VEVENT
DTSTART;TZID=Pacific/Auckland:20241029T190000
DTEND;TZID=Pacific/Auckland:20241029T203000
DTSTAMP:20260424T100812
CREATED:20240119T223017Z
LAST-MODIFIED:20240119T223017Z
UID:10001386-1730228400-1730233800@www.rakiuracalendar.com
SUMMARY:Rakiura LandSAR Committee Meeting
DESCRIPTION:Monthly meeting of the Stewart Island/Rakiura Land Search and Rescue volunteer group. \nMeetings are held at the Oban Fire Station on the last Tuesday of every month. \nContact our Secretary – Jon Spraggon for more information.
URL:https://www.rakiuracalendar.com/event/rakiura-landsar-committee-meeting-8/2024-10-29/
LOCATION:Southland
CATEGORIES:Emergency services,Volunteer
ATTACH;FMTTYPE=image/jpeg:https://www.rakiuracalendar.com/wp-content/uploads/Logos/Logo.jpg
ORGANIZER;CN="Rakiura LandSAR":MAILTO:stewartisland@landsar.org.nz
END:VEVENT
BEGIN:VEVENT
DTSTART;TZID=Pacific/Auckland:20241030T130000
DTEND;TZID=Pacific/Auckland:20241030T150000
DTSTAMP:20260424T100812
CREATED:20240817T050438Z
LAST-MODIFIED:20240817T050438Z
UID:10001616-1730293200-1730300400@www.rakiuracalendar.com
SUMMARY:SIRCET Plant & Plot
DESCRIPTION:
URL:https://www.rakiuracalendar.com/event/sircet-plant-plot/2024-10-30/
LOCATION:Southland
CATEGORIES:Conservation,Outdoors
ATTACH;FMTTYPE=image/jpeg:https://www.rakiuracalendar.com/wp-content/uploads/2024/08/att.VyK46gQo0TKr71KN42gRUydL05kP9F9IqEFgaB4_nlM-1-e1723871006841.jpg
ORGANIZER;CN="SIRCET":MAILTO:community@sircet.org.nz
END:VEVENT
BEGIN:VEVENT
DTSTART;TZID=Pacific/Auckland:20241031T100000
DTEND;TZID=Pacific/Auckland:20241031T110000
DTSTAMP:20260424T100812
CREATED:20230528T220851Z
LAST-MODIFIED:20230729T065001Z
UID:10000186-1730368800-1730372400@www.rakiuracalendar.com
SUMMARY:Tai chi
DESCRIPTION:Tai chi every Monday and Thursday- relaxed pace and beginners welcome! Gold coin donation.
URL:https://www.rakiuracalendar.com/event/tai-chi/2024-10-31/
LOCATION:RSA Pavilion\, 7 Ayr Street\, Oban\, Southland\, 9818\, New Zealand
CATEGORIES:Sport,Wellbeing
ATTACH;FMTTYPE=image/jpeg:https://www.rakiuracalendar.com/wp-content/uploads/2023/05/20230408_115141-e1690613375334.jpg
END:VEVENT
END:VCALENDAR