BEGIN:VCALENDAR
VERSION:2.0
PRODID:-//Rakiura Calendar - 2026 - ECPv6.15.20//NONSGML v1.0//EN
CALSCALE:GREGORIAN
METHOD:PUBLISH
X-ORIGINAL-URL:https://www.rakiuracalendar.com
X-WR-CALDESC:Events for Rakiura Calendar - 2026
REFRESH-INTERVAL;VALUE=DURATION:PT1H
X-Robots-Tag:noindex
X-PUBLISHED-TTL:PT1H
BEGIN:VTIMEZONE
TZID:Pacific/Auckland
BEGIN:STANDARD
TZOFFSETFROM:+1300
TZOFFSETTO:+1200
TZNAME:NZST
DTSTART:20230401T140000
END:STANDARD
BEGIN:DAYLIGHT
TZOFFSETFROM:+1200
TZOFFSETTO:+1300
TZNAME:NZDT
DTSTART:20230923T140000
END:DAYLIGHT
BEGIN:STANDARD
TZOFFSETFROM:+1300
TZOFFSETTO:+1200
TZNAME:NZST
DTSTART:20240406T140000
END:STANDARD
BEGIN:DAYLIGHT
TZOFFSETFROM:+1200
TZOFFSETTO:+1300
TZNAME:NZDT
DTSTART:20240928T140000
END:DAYLIGHT
BEGIN:STANDARD
TZOFFSETFROM:+1300
TZOFFSETTO:+1200
TZNAME:NZST
DTSTART:20250405T140000
END:STANDARD
BEGIN:DAYLIGHT
TZOFFSETFROM:+1200
TZOFFSETTO:+1300
TZNAME:NZDT
DTSTART:20250927T140000
END:DAYLIGHT
END:VTIMEZONE
BEGIN:VEVENT
DTSTART;TZID=Pacific/Auckland:20241209T100000
DTEND;TZID=Pacific/Auckland:20241209T110000
DTSTAMP:20260423T073721
CREATED:20230528T220851Z
LAST-MODIFIED:20230729T065001Z
UID:10000197-1733738400-1733742000@www.rakiuracalendar.com
SUMMARY:Tai chi
DESCRIPTION:Tai chi every Monday and Thursday- relaxed pace and beginners welcome! Gold coin donation.
URL:https://www.rakiuracalendar.com/event/tai-chi/2024-12-09/
LOCATION:RSA Pavilion\, 7 Ayr Street\, Oban\, Southland\, 9818\, New Zealand
CATEGORIES:Sport,Wellbeing
ATTACH;FMTTYPE=image/jpeg:https://www.rakiuracalendar.com/wp-content/uploads/2023/05/20230408_115141-e1690613375334.jpg
END:VEVENT
BEGIN:VEVENT
DTSTART;TZID=Pacific/Auckland:20241209T190000
DTEND;TZID=Pacific/Auckland:20241209T190000
DTSTAMP:20260423T073721
CREATED:20230529T074945Z
LAST-MODIFIED:20230530T041221Z
UID:10000659-1733770800-1733770800@www.rakiuracalendar.com
SUMMARY:Oban Fire Brigade Training Night
DESCRIPTION:Fire and Emergency NZ weekly training for the local brigade. \nCome along to see what we’re up to and if you’re interested in volunteering.
URL:https://www.rakiuracalendar.com/event/oban-fire-brigade-training-night/2024-12-09/
LOCATION:Oban Fire Station\, 6 Argyle Street\, Oban\, Southland\, 9818\, New Zealand
CATEGORIES:Community,Group meeting,Training,Volunteer
ATTACH;FMTTYPE=image/jpeg:https://www.rakiuracalendar.com/wp-content/uploads/2023/05/Screenshot_20230529_194125_Outlook.jpg
END:VEVENT
BEGIN:VEVENT
DTSTART;TZID=Pacific/Auckland:20241210T110000
DTEND;TZID=Pacific/Auckland:20241210T180000
DTSTAMP:20260423T073721
CREATED:20241129T033544Z
LAST-MODIFIED:20241129T033544Z
UID:10002034-1733828400-1733853600@www.rakiuracalendar.com
SUMMARY:Predator Free Rakiura - Join the discussion
DESCRIPTION:
URL:https://www.rakiuracalendar.com/event/predator-free-rakiura-join-the-discussion/
LOCATION:Community Centre\, 10 Ayr Street\, Oban\, Southland\, 9818\, New Zealand
CATEGORIES:Conservation
ATTACH;FMTTYPE=image/png:https://www.rakiuracalendar.com/wp-content/uploads/2024/11/Engagement-Sessions-10-11-12-24-social-square-e1732851257836.png
END:VEVENT
BEGIN:VEVENT
DTSTART;TZID=Pacific/Auckland:20241210T173000
DTEND;TZID=Pacific/Auckland:20241210T183000
DTSTAMP:20260423T073721
CREATED:20241004T182256Z
LAST-MODIFIED:20241004T182256Z
UID:10001962-1733851800-1733855400@www.rakiuracalendar.com
SUMMARY:Future Rakiura Committee Meeting
DESCRIPTION:Monthly meeting of the Future Rakiura Committee to progress community projects.
URL:https://www.rakiuracalendar.com/event/future-rakiura-committee-meeting-10-2-2-2/2024-12-10/
LOCATION:Southland
CATEGORIES:Community
ATTACH;FMTTYPE=image/png:https://www.rakiuracalendar.com/wp-content/uploads/Logos/Logo.png
ORGANIZER;CN="Future Rakiura":MAILTO:rakiura.future@gmail.com
END:VEVENT
BEGIN:VEVENT
DTSTART;TZID=Pacific/Auckland:20241211T130000
DTEND;TZID=Pacific/Auckland:20241211T150000
DTSTAMP:20260423T073721
CREATED:20240817T050438Z
LAST-MODIFIED:20240817T050438Z
UID:10001622-1733922000-1733929200@www.rakiuracalendar.com
SUMMARY:SIRCET Plant & Plot
DESCRIPTION:
URL:https://www.rakiuracalendar.com/event/sircet-plant-plot/2024-12-11/
LOCATION:Southland
CATEGORIES:Conservation,Outdoors
ATTACH;FMTTYPE=image/jpeg:https://www.rakiuracalendar.com/wp-content/uploads/2024/08/att.VyK46gQo0TKr71KN42gRUydL05kP9F9IqEFgaB4_nlM-1-e1723871006841.jpg
ORGANIZER;CN="SIRCET":MAILTO:community@sircet.org.nz
END:VEVENT
BEGIN:VEVENT
DTSTART;TZID=Pacific/Auckland:20241212T084500
DTEND;TZID=Pacific/Auckland:20241212T084500
DTSTAMP:20260423T073721
CREATED:20240322T225224Z
LAST-MODIFIED:20240322T225224Z
UID:10001458-1733993100-1733993100@www.rakiuracalendar.com
SUMMARY:Stewart Island/Rakiura Community Board meeting
DESCRIPTION:Meetings of the Stewart Island/Rakiura Community Board \nThe community board (consisting of Chairperson Aaron Conner\, Councillor Jon Spraggon\, Andrea Young\, Daniel Meads\, Rakiura Herzhoff\, Aaron Joy and Michael Douglass) will meet on the following dates: \n\n11 April 2024 @ 0845am\n13 June 2024 @ 0945am\n08 August 2024 @ 0945am\n10 October 2024 @ 0845am\n12 December 2024 @ 0845am\n\nMeetings will generally be held at the Stewart Island Pavilion\, Ayr Street. The public are welcome to attend open meetings. If you wish to speak to the board (public participation) please contact committee advisor Kirsten Hicks on kirsten.hicks@southlanddc.govt.nz or 0800 732 732.
URL:https://www.rakiuracalendar.com/event/stewart-island-rakiura-community-board-meeting-10/
LOCATION:RSA Pavilion\, 7 Ayr Street\, Oban\, Southland\, 9818\, New Zealand
CATEGORIES:Community
ATTACH;FMTTYPE=image/jpeg:https://www.rakiuracalendar.com/wp-content/uploads/Logos/SI-Rakiura-Community-Board-Logo.jpg
END:VEVENT
BEGIN:VEVENT
DTSTART;TZID=Pacific/Auckland:20241212T100000
DTEND;TZID=Pacific/Auckland:20241212T110000
DTSTAMP:20260423T073721
CREATED:20230528T220851Z
LAST-MODIFIED:20230729T065001Z
UID:10000198-1733997600-1734001200@www.rakiuracalendar.com
SUMMARY:Tai chi
DESCRIPTION:Tai chi every Monday and Thursday- relaxed pace and beginners welcome! Gold coin donation.
URL:https://www.rakiuracalendar.com/event/tai-chi/2024-12-12/
LOCATION:RSA Pavilion\, 7 Ayr Street\, Oban\, Southland\, 9818\, New Zealand
CATEGORIES:Sport,Wellbeing
ATTACH;FMTTYPE=image/jpeg:https://www.rakiuracalendar.com/wp-content/uploads/2023/05/20230408_115141-e1690613375334.jpg
END:VEVENT
END:VCALENDAR