BEGIN:VCALENDAR
VERSION:2.0
PRODID:-//Rakiura Calendar - 2026 - ECPv6.15.20//NONSGML v1.0//EN
CALSCALE:GREGORIAN
METHOD:PUBLISH
X-WR-CALNAME:Rakiura Calendar - 2026
X-ORIGINAL-URL:https://www.rakiuracalendar.com
X-WR-CALDESC:Events for Rakiura Calendar - 2026
REFRESH-INTERVAL;VALUE=DURATION:PT1H
X-Robots-Tag:noindex
X-PUBLISHED-TTL:PT1H
BEGIN:VTIMEZONE
TZID:Pacific/Auckland
BEGIN:STANDARD
TZOFFSETFROM:+1300
TZOFFSETTO:+1200
TZNAME:NZST
DTSTART:20240406T140000
END:STANDARD
BEGIN:DAYLIGHT
TZOFFSETFROM:+1200
TZOFFSETTO:+1300
TZNAME:NZDT
DTSTART:20240928T140000
END:DAYLIGHT
BEGIN:STANDARD
TZOFFSETFROM:+1300
TZOFFSETTO:+1200
TZNAME:NZST
DTSTART:20250405T140000
END:STANDARD
BEGIN:DAYLIGHT
TZOFFSETFROM:+1200
TZOFFSETTO:+1300
TZNAME:NZDT
DTSTART:20250927T140000
END:DAYLIGHT
BEGIN:STANDARD
TZOFFSETFROM:+1300
TZOFFSETTO:+1200
TZNAME:NZST
DTSTART:20260404T140000
END:STANDARD
BEGIN:DAYLIGHT
TZOFFSETFROM:+1200
TZOFFSETTO:+1300
TZNAME:NZDT
DTSTART:20260926T140000
END:DAYLIGHT
END:VTIMEZONE
BEGIN:VEVENT
DTSTART;TZID=Pacific/Auckland:20250127T100000
DTEND;TZID=Pacific/Auckland:20250127T110000
DTSTAMP:20260422T235001
CREATED:20230528T220851Z
LAST-MODIFIED:20230729T065001Z
UID:10000211-1737972000-1737975600@www.rakiuracalendar.com
SUMMARY:Tai chi
DESCRIPTION:Tai chi every Monday and Thursday- relaxed pace and beginners welcome! Gold coin donation.
URL:https://www.rakiuracalendar.com/event/tai-chi/2025-01-27/
LOCATION:RSA Pavilion\, 7 Ayr Street\, Oban\, Southland\, 9818\, New Zealand
CATEGORIES:Sport,Wellbeing
ATTACH;FMTTYPE=image/jpeg:https://www.rakiuracalendar.com/wp-content/uploads/2023/05/20230408_115141-e1690613375334.jpg
END:VEVENT
BEGIN:VEVENT
DTSTART;TZID=Pacific/Auckland:20250127T190000
DTEND;TZID=Pacific/Auckland:20250127T190000
DTSTAMP:20260422T235001
CREATED:20230529T074945Z
LAST-MODIFIED:20230530T041221Z
UID:10000666-1738004400-1738004400@www.rakiuracalendar.com
SUMMARY:Oban Fire Brigade Training Night
DESCRIPTION:Fire and Emergency NZ weekly training for the local brigade. \nCome along to see what we’re up to and if you’re interested in volunteering.
URL:https://www.rakiuracalendar.com/event/oban-fire-brigade-training-night/2025-01-27/
LOCATION:Oban Fire Station\, 6 Argyle Street\, Oban\, Southland\, 9818\, New Zealand
CATEGORIES:Community,Group meeting,Training,Volunteer
ATTACH;FMTTYPE=image/jpeg:https://www.rakiuracalendar.com/wp-content/uploads/2023/05/Screenshot_20230529_194125_Outlook.jpg
END:VEVENT
BEGIN:VEVENT
DTSTART;TZID=Pacific/Auckland:20250128T190000
DTEND;TZID=Pacific/Auckland:20250128T203000
DTSTAMP:20260422T235001
CREATED:20240119T223017Z
LAST-MODIFIED:20240119T223017Z
UID:10001389-1738090800-1738096200@www.rakiuracalendar.com
SUMMARY:Rakiura LandSAR Committee Meeting
DESCRIPTION:Monthly meeting of the Stewart Island/Rakiura Land Search and Rescue volunteer group. \nMeetings are held at the Oban Fire Station on the last Tuesday of every month. \nContact our Secretary – Jon Spraggon for more information.
URL:https://www.rakiuracalendar.com/event/rakiura-landsar-committee-meeting-8/2025-01-28/
LOCATION:Southland
CATEGORIES:Emergency services,Volunteer
ATTACH;FMTTYPE=image/jpeg:https://www.rakiuracalendar.com/wp-content/uploads/Logos/Logo.jpg
ORGANIZER;CN="Rakiura LandSAR":MAILTO:stewartisland@landsar.org.nz
END:VEVENT
BEGIN:VEVENT
DTSTART;TZID=Pacific/Auckland:20250129T130000
DTEND;TZID=Pacific/Auckland:20250129T150000
DTSTAMP:20260422T235001
CREATED:20240817T050438Z
LAST-MODIFIED:20240817T050438Z
UID:10001629-1738155600-1738162800@www.rakiuracalendar.com
SUMMARY:SIRCET Plant & Plot
DESCRIPTION:
URL:https://www.rakiuracalendar.com/event/sircet-plant-plot/2025-01-29/
LOCATION:Southland
CATEGORIES:Conservation,Outdoors
ATTACH;FMTTYPE=image/jpeg:https://www.rakiuracalendar.com/wp-content/uploads/2024/08/att.VyK46gQo0TKr71KN42gRUydL05kP9F9IqEFgaB4_nlM-1-e1723871006841.jpg
ORGANIZER;CN="SIRCET":MAILTO:community@sircet.org.nz
END:VEVENT
BEGIN:VEVENT
DTSTART;TZID=Pacific/Auckland:20250130T100000
DTEND;TZID=Pacific/Auckland:20250130T110000
DTSTAMP:20260422T235001
CREATED:20230528T220851Z
LAST-MODIFIED:20230729T065001Z
UID:10000212-1738231200-1738234800@www.rakiuracalendar.com
SUMMARY:Tai chi
DESCRIPTION:Tai chi every Monday and Thursday- relaxed pace and beginners welcome! Gold coin donation.
URL:https://www.rakiuracalendar.com/event/tai-chi/2025-01-30/
LOCATION:RSA Pavilion\, 7 Ayr Street\, Oban\, Southland\, 9818\, New Zealand
CATEGORIES:Sport,Wellbeing
ATTACH;FMTTYPE=image/jpeg:https://www.rakiuracalendar.com/wp-content/uploads/2023/05/20230408_115141-e1690613375334.jpg
END:VEVENT
BEGIN:VEVENT
DTSTART;TZID=Pacific/Auckland:20250130T130000
DTEND;TZID=Pacific/Auckland:20250130T150000
DTSTAMP:20260422T235001
CREATED:20250129T193312Z
LAST-MODIFIED:20250129T193312Z
UID:10002570-1738242000-1738249200@www.rakiuracalendar.com
SUMMARY:Predator Free Rakiura community kōrero
DESCRIPTION:
URL:https://www.rakiuracalendar.com/event/predator-free-rakiura-community-korero-2/
LOCATION:Community Centre\, 10 Ayr Street\, Oban\, Southland\, 9818\, New Zealand
CATEGORIES:Community,Conservation,Wildlife
ATTACH;FMTTYPE=image/webp:https://www.rakiuracalendar.com/wp-content/uploads/2024/10/PredatorFreeRakiura-e1728371676637.webp
END:VEVENT
BEGIN:VEVENT
DTSTART;TZID=Pacific/Auckland:20250130T180000
DTEND;TZID=Pacific/Auckland:20250130T200000
DTSTAMP:20260422T235001
CREATED:20250125T053154Z
LAST-MODIFIED:20250129T193338Z
UID:10002572-1738260000-1738267200@www.rakiuracalendar.com
SUMMARY:Predator Free Rakiura community kōrero
DESCRIPTION:
URL:https://www.rakiuracalendar.com/event/predator-free-rakiura-community-korero/
LOCATION:Community Centre\, 10 Ayr Street\, Oban\, Southland\, 9818\, New Zealand
CATEGORIES:Community,Conservation,Wildlife
ATTACH;FMTTYPE=image/webp:https://www.rakiuracalendar.com/wp-content/uploads/2024/10/PredatorFreeRakiura-e1728371676637.webp
END:VEVENT
BEGIN:VEVENT
DTSTART;TZID=Pacific/Auckland:20250201T110000
DTEND;TZID=Pacific/Auckland:20250201T160000
DTSTAMP:20260422T235001
CREATED:20250104T000453Z
LAST-MODIFIED:20250121T200549Z
UID:10002035-1738407600-1738425600@www.rakiuracalendar.com
SUMMARY:Electrix Golf Tournament
DESCRIPTION:
URL:https://www.rakiuracalendar.com/event/electrix-golf-tournament/
LOCATION:Ringa Ringa Heights Golf Course
CATEGORIES:Community,Sport
ATTACH;FMTTYPE=image/png:https://www.rakiuracalendar.com/wp-content/uploads/2025/01/Golf-e1737489941711.png
END:VEVENT
END:VCALENDAR