BEGIN:VCALENDAR
VERSION:2.0
PRODID:-//Rakiura Calendar - 2026 - ECPv6.15.20//NONSGML v1.0//EN
CALSCALE:GREGORIAN
METHOD:PUBLISH
X-ORIGINAL-URL:https://www.rakiuracalendar.com
X-WR-CALDESC:Events for Rakiura Calendar - 2026
REFRESH-INTERVAL;VALUE=DURATION:PT1H
X-Robots-Tag:noindex
X-PUBLISHED-TTL:PT1H
BEGIN:VTIMEZONE
TZID:Pacific/Auckland
BEGIN:STANDARD
TZOFFSETFROM:+1300
TZOFFSETTO:+1200
TZNAME:NZST
DTSTART:20240406T140000
END:STANDARD
BEGIN:DAYLIGHT
TZOFFSETFROM:+1200
TZOFFSETTO:+1300
TZNAME:NZDT
DTSTART:20240928T140000
END:DAYLIGHT
BEGIN:STANDARD
TZOFFSETFROM:+1300
TZOFFSETTO:+1200
TZNAME:NZST
DTSTART:20250405T140000
END:STANDARD
BEGIN:DAYLIGHT
TZOFFSETFROM:+1200
TZOFFSETTO:+1300
TZNAME:NZDT
DTSTART:20250927T140000
END:DAYLIGHT
BEGIN:STANDARD
TZOFFSETFROM:+1300
TZOFFSETTO:+1200
TZNAME:NZST
DTSTART:20260404T140000
END:STANDARD
BEGIN:DAYLIGHT
TZOFFSETFROM:+1200
TZOFFSETTO:+1300
TZNAME:NZDT
DTSTART:20260926T140000
END:DAYLIGHT
END:VTIMEZONE
BEGIN:VEVENT
DTSTART;TZID=Pacific/Auckland:20250210T093000
DTEND;TZID=Pacific/Auckland:20250210T163000
DTSTAMP:20260423T134323
CREATED:20250131T045216Z
LAST-MODIFIED:20250131T045406Z
UID:10002573-1739179800-1739205000@www.rakiuracalendar.com
SUMMARY:Oral cancer screening
DESCRIPTION:
URL:https://www.rakiuracalendar.com/event/oral-cancer-screening/
LOCATION:Community Centre\, 10 Ayr Street\, Oban\, Southland\, 9818\, New Zealand
CATEGORIES:Health
END:VEVENT
BEGIN:VEVENT
DTSTART;TZID=Pacific/Auckland:20250210T100000
DTEND;TZID=Pacific/Auckland:20250210T110000
DTSTAMP:20260423T134323
CREATED:20230528T220851Z
LAST-MODIFIED:20230729T065001Z
UID:10000215-1739181600-1739185200@www.rakiuracalendar.com
SUMMARY:Tai chi
DESCRIPTION:Tai chi every Monday and Thursday- relaxed pace and beginners welcome! Gold coin donation.
URL:https://www.rakiuracalendar.com/event/tai-chi/2025-02-10/
LOCATION:RSA Pavilion\, 7 Ayr Street\, Oban\, Southland\, 9818\, New Zealand
CATEGORIES:Sport,Wellbeing
ATTACH;FMTTYPE=image/jpeg:https://www.rakiuracalendar.com/wp-content/uploads/2023/05/20230408_115141-e1690613375334.jpg
END:VEVENT
BEGIN:VEVENT
DTSTART;TZID=Pacific/Auckland:20250210T190000
DTEND;TZID=Pacific/Auckland:20250210T190000
DTSTAMP:20260423T134323
CREATED:20230529T074945Z
LAST-MODIFIED:20230530T041221Z
UID:10000668-1739214000-1739214000@www.rakiuracalendar.com
SUMMARY:Oban Fire Brigade Training Night
DESCRIPTION:Fire and Emergency NZ weekly training for the local brigade. \nCome along to see what we’re up to and if you’re interested in volunteering.
URL:https://www.rakiuracalendar.com/event/oban-fire-brigade-training-night/2025-02-10/
LOCATION:Oban Fire Station\, 6 Argyle Street\, Oban\, Southland\, 9818\, New Zealand
CATEGORIES:Community,Group meeting,Training,Volunteer
ATTACH;FMTTYPE=image/jpeg:https://www.rakiuracalendar.com/wp-content/uploads/2023/05/Screenshot_20230529_194125_Outlook.jpg
END:VEVENT
BEGIN:VEVENT
DTSTART;TZID=Pacific/Auckland:20250211T093000
DTEND;TZID=Pacific/Auckland:20250211T163000
DTSTAMP:20260423T134323
CREATED:20250131T045325Z
LAST-MODIFIED:20250131T045325Z
UID:10002574-1739266200-1739291400@www.rakiuracalendar.com
SUMMARY:Oral cancer screening
DESCRIPTION:
URL:https://www.rakiuracalendar.com/event/oral-cancer-screening-2/
LOCATION:Community Centre\, 10 Ayr Street\, Oban\, Southland\, 9818\, New Zealand
CATEGORIES:Health
END:VEVENT
BEGIN:VEVENT
DTSTART;TZID=Pacific/Auckland:20250211T173000
DTEND;TZID=Pacific/Auckland:20250211T183000
DTSTAMP:20260423T134323
CREATED:20241004T182256Z
LAST-MODIFIED:20241004T182256Z
UID:10001964-1739295000-1739298600@www.rakiuracalendar.com
SUMMARY:Future Rakiura Committee Meeting
DESCRIPTION:Monthly meeting of the Future Rakiura Committee to progress community projects.
URL:https://www.rakiuracalendar.com/event/future-rakiura-committee-meeting-10-2-2-2/2025-02-11/
LOCATION:Southland
CATEGORIES:Community
ATTACH;FMTTYPE=image/png:https://www.rakiuracalendar.com/wp-content/uploads/Logos/Logo.png
ORGANIZER;CN="Future Rakiura":MAILTO:rakiura.future@gmail.com
END:VEVENT
BEGIN:VEVENT
DTSTART;TZID=Pacific/Auckland:20250212T130000
DTEND;TZID=Pacific/Auckland:20250212T150000
DTSTAMP:20260423T134323
CREATED:20240817T050438Z
LAST-MODIFIED:20240817T050438Z
UID:10001631-1739365200-1739372400@www.rakiuracalendar.com
SUMMARY:SIRCET Plant & Plot
DESCRIPTION:
URL:https://www.rakiuracalendar.com/event/sircet-plant-plot/2025-02-12/
LOCATION:Southland
CATEGORIES:Conservation,Outdoors
ATTACH;FMTTYPE=image/jpeg:https://www.rakiuracalendar.com/wp-content/uploads/2024/08/att.VyK46gQo0TKr71KN42gRUydL05kP9F9IqEFgaB4_nlM-1-e1723871006841.jpg
ORGANIZER;CN="SIRCET":MAILTO:community@sircet.org.nz
END:VEVENT
BEGIN:VEVENT
DTSTART;TZID=Pacific/Auckland:20250213T100000
DTEND;TZID=Pacific/Auckland:20250213T110000
DTSTAMP:20260423T134323
CREATED:20230528T220851Z
LAST-MODIFIED:20230729T065001Z
UID:10000216-1739440800-1739444400@www.rakiuracalendar.com
SUMMARY:Tai chi
DESCRIPTION:Tai chi every Monday and Thursday- relaxed pace and beginners welcome! Gold coin donation.
URL:https://www.rakiuracalendar.com/event/tai-chi/2025-02-13/
LOCATION:RSA Pavilion\, 7 Ayr Street\, Oban\, Southland\, 9818\, New Zealand
CATEGORIES:Sport,Wellbeing
ATTACH;FMTTYPE=image/jpeg:https://www.rakiuracalendar.com/wp-content/uploads/2023/05/20230408_115141-e1690613375334.jpg
END:VEVENT
END:VCALENDAR