BEGIN:VCALENDAR
VERSION:2.0
PRODID:-//Rakiura Calendar - 2026 - ECPv6.15.20//NONSGML v1.0//EN
CALSCALE:GREGORIAN
METHOD:PUBLISH
X-ORIGINAL-URL:https://www.rakiuracalendar.com
X-WR-CALDESC:Events for Rakiura Calendar - 2026
REFRESH-INTERVAL;VALUE=DURATION:PT1H
X-Robots-Tag:noindex
X-PUBLISHED-TTL:PT1H
BEGIN:VTIMEZONE
TZID:Pacific/Auckland
BEGIN:STANDARD
TZOFFSETFROM:+1300
TZOFFSETTO:+1200
TZNAME:NZST
DTSTART:20240406T140000
END:STANDARD
BEGIN:DAYLIGHT
TZOFFSETFROM:+1200
TZOFFSETTO:+1300
TZNAME:NZDT
DTSTART:20240928T140000
END:DAYLIGHT
BEGIN:STANDARD
TZOFFSETFROM:+1300
TZOFFSETTO:+1200
TZNAME:NZST
DTSTART:20250405T140000
END:STANDARD
BEGIN:DAYLIGHT
TZOFFSETFROM:+1200
TZOFFSETTO:+1300
TZNAME:NZDT
DTSTART:20250927T140000
END:DAYLIGHT
BEGIN:STANDARD
TZOFFSETFROM:+1300
TZOFFSETTO:+1200
TZNAME:NZST
DTSTART:20260404T140000
END:STANDARD
BEGIN:DAYLIGHT
TZOFFSETFROM:+1200
TZOFFSETTO:+1300
TZNAME:NZDT
DTSTART:20260926T140000
END:DAYLIGHT
END:VTIMEZONE
BEGIN:VEVENT
DTSTART;TZID=Pacific/Auckland:20250407T100000
DTEND;TZID=Pacific/Auckland:20250407T110000
DTSTAMP:20260422T121758
CREATED:20230528T220851Z
LAST-MODIFIED:20230729T065001Z
UID:10000231-1744020000-1744023600@www.rakiuracalendar.com
SUMMARY:Tai chi
DESCRIPTION:Tai chi every Monday and Thursday- relaxed pace and beginners welcome! Gold coin donation.
URL:https://www.rakiuracalendar.com/event/tai-chi/2025-04-07/
LOCATION:RSA Pavilion\, 7 Ayr Street\, Oban\, Southland\, 9818\, New Zealand
CATEGORIES:Sport,Wellbeing
ATTACH;FMTTYPE=image/jpeg:https://www.rakiuracalendar.com/wp-content/uploads/2023/05/20230408_115141-e1690613375334.jpg
END:VEVENT
BEGIN:VEVENT
DTSTART;TZID=Pacific/Auckland:20250407T190000
DTEND;TZID=Pacific/Auckland:20250407T190000
DTSTAMP:20260422T121758
CREATED:20230529T074945Z
LAST-MODIFIED:20230530T041221Z
UID:10000676-1744052400-1744052400@www.rakiuracalendar.com
SUMMARY:Oban Fire Brigade Training Night
DESCRIPTION:Fire and Emergency NZ weekly training for the local brigade. \nCome along to see what we’re up to and if you’re interested in volunteering.
URL:https://www.rakiuracalendar.com/event/oban-fire-brigade-training-night/2025-04-07/
LOCATION:Oban Fire Station\, 6 Argyle Street\, Oban\, Southland\, 9818\, New Zealand
CATEGORIES:Community,Group meeting,Training,Volunteer
ATTACH;FMTTYPE=image/jpeg:https://www.rakiuracalendar.com/wp-content/uploads/2023/05/Screenshot_20230529_194125_Outlook.jpg
END:VEVENT
BEGIN:VEVENT
DTSTART;TZID=Pacific/Auckland:20250408T173000
DTEND;TZID=Pacific/Auckland:20250408T183000
DTSTAMP:20260422T121758
CREATED:20241004T182256Z
LAST-MODIFIED:20241004T182256Z
UID:10001966-1744133400-1744137000@www.rakiuracalendar.com
SUMMARY:Future Rakiura Committee Meeting
DESCRIPTION:Monthly meeting of the Future Rakiura Committee to progress community projects.
URL:https://www.rakiuracalendar.com/event/future-rakiura-committee-meeting-10-2-2-2/2025-04-08/
LOCATION:Southland
CATEGORIES:Community
ATTACH;FMTTYPE=image/png:https://www.rakiuracalendar.com/wp-content/uploads/Logos/Logo.png
ORGANIZER;CN="Future Rakiura":MAILTO:rakiura.future@gmail.com
END:VEVENT
BEGIN:VEVENT
DTSTART;TZID=Pacific/Auckland:20250409T130000
DTEND;TZID=Pacific/Auckland:20250409T150000
DTSTAMP:20260422T121758
CREATED:20240817T050438Z
LAST-MODIFIED:20240817T050438Z
UID:10001639-1744203600-1744210800@www.rakiuracalendar.com
SUMMARY:SIRCET Plant & Plot
DESCRIPTION:
URL:https://www.rakiuracalendar.com/event/sircet-plant-plot/2025-04-09/
LOCATION:Southland
CATEGORIES:Conservation,Outdoors
ATTACH;FMTTYPE=image/jpeg:https://www.rakiuracalendar.com/wp-content/uploads/2024/08/att.VyK46gQo0TKr71KN42gRUydL05kP9F9IqEFgaB4_nlM-1-e1723871006841.jpg
ORGANIZER;CN="SIRCET":MAILTO:community@sircet.org.nz
END:VEVENT
BEGIN:VEVENT
DTSTART;TZID=Pacific/Auckland:20250410T100000
DTEND;TZID=Pacific/Auckland:20250410T110000
DTSTAMP:20260422T121758
CREATED:20230528T220851Z
LAST-MODIFIED:20230729T065001Z
UID:10000232-1744279200-1744282800@www.rakiuracalendar.com
SUMMARY:Tai chi
DESCRIPTION:Tai chi every Monday and Thursday- relaxed pace and beginners welcome! Gold coin donation.
URL:https://www.rakiuracalendar.com/event/tai-chi/2025-04-10/
LOCATION:RSA Pavilion\, 7 Ayr Street\, Oban\, Southland\, 9818\, New Zealand
CATEGORIES:Sport,Wellbeing
ATTACH;FMTTYPE=image/jpeg:https://www.rakiuracalendar.com/wp-content/uploads/2023/05/20230408_115141-e1690613375334.jpg
END:VEVENT
BEGIN:VEVENT
DTSTART;TZID=Pacific/Auckland:20250410T100000
DTEND;TZID=Pacific/Auckland:20250410T160000
DTSTAMP:20260422T121758
CREATED:20250408T205701Z
LAST-MODIFIED:20250408T210422Z
UID:10002583-1744279200-1744300800@www.rakiuracalendar.com
SUMMARY:Protecting Pukunui on Rakiura - Community drop in sessions
DESCRIPTION:
URL:https://www.rakiuracalendar.com/event/protecting-pukunui-on-rakiura-community-drop-in-sessions/2025-04-10/1/
LOCATION:St Andrews Anglican Church Hall\, 10 Excelsior Road\, Oban\, 9818\, New Zealand
CATEGORIES:Conservation
ATTACH;FMTTYPE=image/png:https://www.rakiuracalendar.com/wp-content/uploads/2025/04/Screenshot-2025-04-09-085552.png
END:VEVENT
BEGIN:VEVENT
DTSTART;TZID=Pacific/Auckland:20250410T190000
DTEND;TZID=Pacific/Auckland:20250410T210000
DTSTAMP:20260422T121758
CREATED:20250408T205701Z
LAST-MODIFIED:20250408T210422Z
UID:10002584-1744311600-1744318800@www.rakiuracalendar.com
SUMMARY:Protecting Pukunui on Rakiura - Community drop in sessions
DESCRIPTION:
URL:https://www.rakiuracalendar.com/event/protecting-pukunui-on-rakiura-community-drop-in-sessions/2025-04-10/2/
LOCATION:St Andrews Anglican Church Hall\, 10 Excelsior Road\, Oban\, 9818\, New Zealand
CATEGORIES:Conservation
ATTACH;FMTTYPE=image/png:https://www.rakiuracalendar.com/wp-content/uploads/2025/04/Screenshot-2025-04-09-085552.png
END:VEVENT
BEGIN:VEVENT
DTSTART;TZID=Pacific/Auckland:20250412T183000
DTEND;TZID=Pacific/Auckland:20250412T183000
DTSTAMP:20260422T121758
CREATED:20250404T062235Z
LAST-MODIFIED:20250404T062235Z
UID:10002581-1744482600-1744482600@www.rakiuracalendar.com
SUMMARY:FolkinFusion
DESCRIPTION:
URL:https://www.rakiuracalendar.com/event/folkinfusion/
LOCATION:The Snuggery\, 9 Ayr Street\, Oban\, Southland\, 9818\, New Zealand
CATEGORIES:Food,Music
ATTACH;FMTTYPE=image/jpeg:https://www.rakiuracalendar.com/wp-content/uploads/2025/04/FolkinFusion-1-e1743747728773.jpg
END:VEVENT
END:VCALENDAR