BEGIN:VCALENDAR
VERSION:2.0
PRODID:-//Rakiura Calendar - 2026 - ECPv6.15.20//NONSGML v1.0//EN
CALSCALE:GREGORIAN
METHOD:PUBLISH
X-WR-CALNAME:Rakiura Calendar - 2026
X-ORIGINAL-URL:https://www.rakiuracalendar.com
X-WR-CALDESC:Events for Rakiura Calendar - 2026
REFRESH-INTERVAL;VALUE=DURATION:PT1H
X-Robots-Tag:noindex
X-PUBLISHED-TTL:PT1H
BEGIN:VTIMEZONE
TZID:Pacific/Auckland
BEGIN:STANDARD
TZOFFSETFROM:+1300
TZOFFSETTO:+1200
TZNAME:NZST
DTSTART:20240406T140000
END:STANDARD
BEGIN:DAYLIGHT
TZOFFSETFROM:+1200
TZOFFSETTO:+1300
TZNAME:NZDT
DTSTART:20240928T140000
END:DAYLIGHT
BEGIN:STANDARD
TZOFFSETFROM:+1300
TZOFFSETTO:+1200
TZNAME:NZST
DTSTART:20250405T140000
END:STANDARD
BEGIN:DAYLIGHT
TZOFFSETFROM:+1200
TZOFFSETTO:+1300
TZNAME:NZDT
DTSTART:20250927T140000
END:DAYLIGHT
BEGIN:STANDARD
TZOFFSETFROM:+1300
TZOFFSETTO:+1200
TZNAME:NZST
DTSTART:20260404T140000
END:STANDARD
BEGIN:DAYLIGHT
TZOFFSETFROM:+1200
TZOFFSETTO:+1300
TZNAME:NZDT
DTSTART:20260926T140000
END:DAYLIGHT
END:VTIMEZONE
BEGIN:VEVENT
DTSTART;TZID=Pacific/Auckland:20250811T100000
DTEND;TZID=Pacific/Auckland:20250811T110000
DTSTAMP:20260422T191417
CREATED:20230528T220851Z
LAST-MODIFIED:20230729T065001Z
UID:10000267-1754906400-1754910000@www.rakiuracalendar.com
SUMMARY:Tai chi
DESCRIPTION:Tai chi every Monday and Thursday- relaxed pace and beginners welcome! Gold coin donation.
URL:https://www.rakiuracalendar.com/event/tai-chi/2025-08-11/
LOCATION:RSA Pavilion\, 7 Ayr Street\, Oban\, Southland\, 9818\, New Zealand
CATEGORIES:Sport,Wellbeing
ATTACH;FMTTYPE=image/jpeg:https://www.rakiuracalendar.com/wp-content/uploads/2023/05/20230408_115141-e1690613375334.jpg
END:VEVENT
BEGIN:VEVENT
DTSTART;TZID=Pacific/Auckland:20250811T190000
DTEND;TZID=Pacific/Auckland:20250811T190000
DTSTAMP:20260422T191417
CREATED:20230529T074945Z
LAST-MODIFIED:20230530T041221Z
UID:10000694-1754938800-1754938800@www.rakiuracalendar.com
SUMMARY:Oban Fire Brigade Training Night
DESCRIPTION:Fire and Emergency NZ weekly training for the local brigade. \nCome along to see what we’re up to and if you’re interested in volunteering.
URL:https://www.rakiuracalendar.com/event/oban-fire-brigade-training-night/2025-08-11/
LOCATION:Oban Fire Station\, 6 Argyle Street\, Oban\, Southland\, 9818\, New Zealand
CATEGORIES:Community,Group meeting,Training,Volunteer
ATTACH;FMTTYPE=image/jpeg:https://www.rakiuracalendar.com/wp-content/uploads/2023/05/Screenshot_20230529_194125_Outlook.jpg
END:VEVENT
BEGIN:VEVENT
DTSTART;TZID=Pacific/Auckland:20250812T173000
DTEND;TZID=Pacific/Auckland:20250812T183000
DTSTAMP:20260422T191417
CREATED:20241004T182256Z
LAST-MODIFIED:20241004T182256Z
UID:10001970-1755019800-1755023400@www.rakiuracalendar.com
SUMMARY:Future Rakiura Committee Meeting
DESCRIPTION:Monthly meeting of the Future Rakiura Committee to progress community projects.
URL:https://www.rakiuracalendar.com/event/future-rakiura-committee-meeting-10-2-2-2/2025-08-12/
LOCATION:Southland
CATEGORIES:Community
ATTACH;FMTTYPE=image/png:https://www.rakiuracalendar.com/wp-content/uploads/Logos/Logo.png
ORGANIZER;CN="Future Rakiura":MAILTO:rakiura.future@gmail.com
END:VEVENT
BEGIN:VEVENT
DTSTART;TZID=Pacific/Auckland:20250813T100000
DTEND;TZID=Pacific/Auckland:20250813T150000
DTSTAMP:20260422T191417
CREATED:20250509T071820Z
LAST-MODIFIED:20250823T055040Z
UID:10002827-1755079200-1755097200@www.rakiuracalendar.com
SUMMARY:Games Day
DESCRIPTION:Rummy-O\, Five Crowns\, Canasta\, Scrabble\, Euchre (500) or whatever takes your fancy. \nBring your favourite game or come and learn something new. \nIt’s all about having fun – We’re not playing for a sheep station or cray boat & quota. \nAll welcome. See you there!
URL:https://www.rakiuracalendar.com/event/games-day-2/2025-08-13/
LOCATION:South Sea Hotel\, 26 Elgin Terrace\, Oban\, Southland\, 9818\, New Zealand
CATEGORIES:Games
ATTACH;FMTTYPE=image/jpeg:https://www.rakiuracalendar.com/wp-content/uploads/Events/20230523_152505-scaled-e1723872739432.jpg
END:VEVENT
BEGIN:VEVENT
DTSTART;TZID=Pacific/Auckland:20250813T130000
DTEND;TZID=Pacific/Auckland:20250813T150000
DTSTAMP:20260422T191417
CREATED:20240817T050438Z
LAST-MODIFIED:20240817T050438Z
UID:10001657-1755090000-1755097200@www.rakiuracalendar.com
SUMMARY:SIRCET Plant & Plot
DESCRIPTION:
URL:https://www.rakiuracalendar.com/event/sircet-plant-plot/2025-08-13/
LOCATION:Southland
CATEGORIES:Conservation,Outdoors
ATTACH;FMTTYPE=image/jpeg:https://www.rakiuracalendar.com/wp-content/uploads/2024/08/att.VyK46gQo0TKr71KN42gRUydL05kP9F9IqEFgaB4_nlM-1-e1723871006841.jpg
ORGANIZER;CN="SIRCET":MAILTO:community@sircet.org.nz
END:VEVENT
BEGIN:VEVENT
DTSTART;TZID=Pacific/Auckland:20250814T100000
DTEND;TZID=Pacific/Auckland:20250814T110000
DTSTAMP:20260422T191417
CREATED:20230528T220851Z
LAST-MODIFIED:20230729T065001Z
UID:10000268-1755165600-1755169200@www.rakiuracalendar.com
SUMMARY:Tai chi
DESCRIPTION:Tai chi every Monday and Thursday- relaxed pace and beginners welcome! Gold coin donation.
URL:https://www.rakiuracalendar.com/event/tai-chi/2025-08-14/
LOCATION:RSA Pavilion\, 7 Ayr Street\, Oban\, Southland\, 9818\, New Zealand
CATEGORIES:Sport,Wellbeing
ATTACH;FMTTYPE=image/jpeg:https://www.rakiuracalendar.com/wp-content/uploads/2023/05/20230408_115141-e1690613375334.jpg
END:VEVENT
BEGIN:VEVENT
DTSTART;TZID=Pacific/Auckland:20250814T190000
DTEND;TZID=Pacific/Auckland:20250814T203000
DTSTAMP:20260422T191417
CREATED:20250716T044638Z
LAST-MODIFIED:20250720T073212Z
UID:10002718-1755198000-1755203400@www.rakiuracalendar.com
SUMMARY:Winter Jam Session
DESCRIPTION:Come along to the South Sea Hotel to hear some of our local music enthusiasts jamming. Better yet\, bring your instrument of choice and join in.
URL:https://www.rakiuracalendar.com/event/winter-jam-session/2025-08-14/
LOCATION:South Sea Hotel\, 26 Elgin Terrace\, Oban\, Southland\, 9818\, New Zealand
CATEGORIES:Music
ATTACH;FMTTYPE=image/jpeg:https://www.rakiuracalendar.com/wp-content/uploads/2025/07/pexels-bigbagfilms-8512617-scaled-e1752641177610.jpg
END:VEVENT
END:VCALENDAR