BEGIN:VCALENDAR
VERSION:2.0
PRODID:-//Rakiura Calendar - 2026 - ECPv6.15.20//NONSGML v1.0//EN
CALSCALE:GREGORIAN
METHOD:PUBLISH
X-ORIGINAL-URL:https://www.rakiuracalendar.com
X-WR-CALDESC:Events for Rakiura Calendar - 2026
REFRESH-INTERVAL;VALUE=DURATION:PT1H
X-Robots-Tag:noindex
X-PUBLISHED-TTL:PT1H
BEGIN:VTIMEZONE
TZID:Pacific/Auckland
BEGIN:STANDARD
TZOFFSETFROM:+1300
TZOFFSETTO:+1200
TZNAME:NZST
DTSTART:20230401T140000
END:STANDARD
BEGIN:DAYLIGHT
TZOFFSETFROM:+1200
TZOFFSETTO:+1300
TZNAME:NZDT
DTSTART:20230923T140000
END:DAYLIGHT
BEGIN:STANDARD
TZOFFSETFROM:+1300
TZOFFSETTO:+1200
TZNAME:NZST
DTSTART:20240406T140000
END:STANDARD
BEGIN:DAYLIGHT
TZOFFSETFROM:+1200
TZOFFSETTO:+1300
TZNAME:NZDT
DTSTART:20240928T140000
END:DAYLIGHT
BEGIN:STANDARD
TZOFFSETFROM:+1300
TZOFFSETTO:+1200
TZNAME:NZST
DTSTART:20250405T140000
END:STANDARD
BEGIN:DAYLIGHT
TZOFFSETFROM:+1200
TZOFFSETTO:+1300
TZNAME:NZDT
DTSTART:20250927T140000
END:DAYLIGHT
END:VTIMEZONE
BEGIN:VEVENT
DTSTART;TZID=Pacific/Auckland:20240926T190000
DTEND;TZID=Pacific/Auckland:20240926T203000
DTSTAMP:20260422T033822
CREATED:20240707T003639Z
LAST-MODIFIED:20240707T003639Z
UID:10001602-1727377200-1727382600@www.rakiuracalendar.com
SUMMARY:Badminton
DESCRIPTION:
URL:https://www.rakiuracalendar.com/event/badminton-3/2024-09-26/
LOCATION:Community Centre\, 10 Ayr Street\, Oban\, Southland\, 9818\, New Zealand
CATEGORIES:Sport
ATTACH;FMTTYPE=image/jpeg:https://www.rakiuracalendar.com/wp-content/uploads/Events/20230523_152053-scaled-e1720312483151.jpg
END:VEVENT
BEGIN:VEVENT
DTSTART;TZID=Pacific/Auckland:20240919T190000
DTEND;TZID=Pacific/Auckland:20240919T203000
DTSTAMP:20260422T033822
CREATED:20240707T003639Z
LAST-MODIFIED:20240707T003639Z
UID:10001601-1726772400-1726777800@www.rakiuracalendar.com
SUMMARY:Badminton
DESCRIPTION:
URL:https://www.rakiuracalendar.com/event/badminton-3/2024-09-19/
LOCATION:Community Centre\, 10 Ayr Street\, Oban\, Southland\, 9818\, New Zealand
CATEGORIES:Sport
ATTACH;FMTTYPE=image/jpeg:https://www.rakiuracalendar.com/wp-content/uploads/Events/20230523_152053-scaled-e1720312483151.jpg
END:VEVENT
BEGIN:VEVENT
DTSTART;TZID=Pacific/Auckland:20240912T190000
DTEND;TZID=Pacific/Auckland:20240912T203000
DTSTAMP:20260422T033822
CREATED:20240707T003639Z
LAST-MODIFIED:20240707T003639Z
UID:10001600-1726167600-1726173000@www.rakiuracalendar.com
SUMMARY:Badminton
DESCRIPTION:
URL:https://www.rakiuracalendar.com/event/badminton-3/2024-09-12/
LOCATION:Community Centre\, 10 Ayr Street\, Oban\, Southland\, 9818\, New Zealand
CATEGORIES:Sport
ATTACH;FMTTYPE=image/jpeg:https://www.rakiuracalendar.com/wp-content/uploads/Events/20230523_152053-scaled-e1720312483151.jpg
END:VEVENT
BEGIN:VEVENT
DTSTART;TZID=Pacific/Auckland:20240905T190000
DTEND;TZID=Pacific/Auckland:20240905T203000
DTSTAMP:20260422T033822
CREATED:20240707T003639Z
LAST-MODIFIED:20240707T003639Z
UID:10001599-1725562800-1725568200@www.rakiuracalendar.com
SUMMARY:Badminton
DESCRIPTION:
URL:https://www.rakiuracalendar.com/event/badminton-3/2024-09-05/
LOCATION:Community Centre\, 10 Ayr Street\, Oban\, Southland\, 9818\, New Zealand
CATEGORIES:Sport
ATTACH;FMTTYPE=image/jpeg:https://www.rakiuracalendar.com/wp-content/uploads/Events/20230523_152053-scaled-e1720312483151.jpg
END:VEVENT
BEGIN:VEVENT
DTSTART;TZID=Pacific/Auckland:20240829T190000
DTEND;TZID=Pacific/Auckland:20240829T203000
DTSTAMP:20260422T033822
CREATED:20240707T003639Z
LAST-MODIFIED:20240707T003639Z
UID:10001598-1724958000-1724963400@www.rakiuracalendar.com
SUMMARY:Badminton
DESCRIPTION:
URL:https://www.rakiuracalendar.com/event/badminton-3/2024-08-29/
LOCATION:Community Centre\, 10 Ayr Street\, Oban\, Southland\, 9818\, New Zealand
CATEGORIES:Sport
ATTACH;FMTTYPE=image/jpeg:https://www.rakiuracalendar.com/wp-content/uploads/Events/20230523_152053-scaled-e1720312483151.jpg
END:VEVENT
BEGIN:VEVENT
DTSTART;TZID=Pacific/Auckland:20240822T190000
DTEND;TZID=Pacific/Auckland:20240822T203000
DTSTAMP:20260422T033822
CREATED:20240707T003639Z
LAST-MODIFIED:20240707T003639Z
UID:10001597-1724353200-1724358600@www.rakiuracalendar.com
SUMMARY:Badminton
DESCRIPTION:
URL:https://www.rakiuracalendar.com/event/badminton-3/2024-08-22/
LOCATION:Community Centre\, 10 Ayr Street\, Oban\, Southland\, 9818\, New Zealand
CATEGORIES:Sport
ATTACH;FMTTYPE=image/jpeg:https://www.rakiuracalendar.com/wp-content/uploads/Events/20230523_152053-scaled-e1720312483151.jpg
END:VEVENT
BEGIN:VEVENT
DTSTART;TZID=Pacific/Auckland:20240815T190000
DTEND;TZID=Pacific/Auckland:20240815T203000
DTSTAMP:20260422T033822
CREATED:20240707T003639Z
LAST-MODIFIED:20240707T003639Z
UID:10001596-1723748400-1723753800@www.rakiuracalendar.com
SUMMARY:Badminton
DESCRIPTION:
URL:https://www.rakiuracalendar.com/event/badminton-3/2024-08-15/
LOCATION:Community Centre\, 10 Ayr Street\, Oban\, Southland\, 9818\, New Zealand
CATEGORIES:Sport
ATTACH;FMTTYPE=image/jpeg:https://www.rakiuracalendar.com/wp-content/uploads/Events/20230523_152053-scaled-e1720312483151.jpg
END:VEVENT
BEGIN:VEVENT
DTSTART;TZID=Pacific/Auckland:20240808T190000
DTEND;TZID=Pacific/Auckland:20240808T203000
DTSTAMP:20260422T033822
CREATED:20240707T003639Z
LAST-MODIFIED:20240707T003639Z
UID:10001595-1723143600-1723149000@www.rakiuracalendar.com
SUMMARY:Badminton
DESCRIPTION:
URL:https://www.rakiuracalendar.com/event/badminton-3/2024-08-08/
LOCATION:Community Centre\, 10 Ayr Street\, Oban\, Southland\, 9818\, New Zealand
CATEGORIES:Sport
ATTACH;FMTTYPE=image/jpeg:https://www.rakiuracalendar.com/wp-content/uploads/Events/20230523_152053-scaled-e1720312483151.jpg
END:VEVENT
BEGIN:VEVENT
DTSTART;TZID=Pacific/Auckland:20240801T190000
DTEND;TZID=Pacific/Auckland:20240801T203000
DTSTAMP:20260422T033822
CREATED:20240707T003639Z
LAST-MODIFIED:20240707T003639Z
UID:10001594-1722538800-1722544200@www.rakiuracalendar.com
SUMMARY:Badminton
DESCRIPTION:
URL:https://www.rakiuracalendar.com/event/badminton-3/2024-08-01/
LOCATION:Community Centre\, 10 Ayr Street\, Oban\, Southland\, 9818\, New Zealand
CATEGORIES:Sport
ATTACH;FMTTYPE=image/jpeg:https://www.rakiuracalendar.com/wp-content/uploads/Events/20230523_152053-scaled-e1720312483151.jpg
END:VEVENT
BEGIN:VEVENT
DTSTART;TZID=Pacific/Auckland:20240725T190000
DTEND;TZID=Pacific/Auckland:20240725T203000
DTSTAMP:20260422T033822
CREATED:20240707T003639Z
LAST-MODIFIED:20240707T003639Z
UID:10001593-1721934000-1721939400@www.rakiuracalendar.com
SUMMARY:Badminton
DESCRIPTION:
URL:https://www.rakiuracalendar.com/event/badminton-3/2024-07-25/
LOCATION:Community Centre\, 10 Ayr Street\, Oban\, Southland\, 9818\, New Zealand
CATEGORIES:Sport
ATTACH;FMTTYPE=image/jpeg:https://www.rakiuracalendar.com/wp-content/uploads/Events/20230523_152053-scaled-e1720312483151.jpg
END:VEVENT
BEGIN:VEVENT
DTSTART;TZID=Pacific/Auckland:20240718T190000
DTEND;TZID=Pacific/Auckland:20240718T203000
DTSTAMP:20260422T033822
CREATED:20240707T003639Z
LAST-MODIFIED:20240707T003639Z
UID:10001592-1721329200-1721334600@www.rakiuracalendar.com
SUMMARY:Badminton
DESCRIPTION:
URL:https://www.rakiuracalendar.com/event/badminton-3/2024-07-18/
LOCATION:Community Centre\, 10 Ayr Street\, Oban\, Southland\, 9818\, New Zealand
CATEGORIES:Sport
ATTACH;FMTTYPE=image/jpeg:https://www.rakiuracalendar.com/wp-content/uploads/Events/20230523_152053-scaled-e1720312483151.jpg
END:VEVENT
BEGIN:VEVENT
DTSTART;TZID=Pacific/Auckland:20240711T190000
DTEND;TZID=Pacific/Auckland:20240711T203000
DTSTAMP:20260422T033822
CREATED:20240707T003639Z
LAST-MODIFIED:20240707T003639Z
UID:10001591-1720724400-1720729800@www.rakiuracalendar.com
SUMMARY:Badminton
DESCRIPTION:
URL:https://www.rakiuracalendar.com/event/badminton-3/2024-07-11/
LOCATION:Community Centre\, 10 Ayr Street\, Oban\, Southland\, 9818\, New Zealand
CATEGORIES:Sport
ATTACH;FMTTYPE=image/jpeg:https://www.rakiuracalendar.com/wp-content/uploads/Events/20230523_152053-scaled-e1720312483151.jpg
END:VEVENT
END:VCALENDAR