BEGIN:VCALENDAR
VERSION:2.0
PRODID:-//Rakiura Calendar - 2026 - ECPv6.15.20//NONSGML v1.0//EN
CALSCALE:GREGORIAN
METHOD:PUBLISH
X-WR-CALNAME:Rakiura Calendar - 2026
X-ORIGINAL-URL:https://www.rakiuracalendar.com
X-WR-CALDESC:Events for Rakiura Calendar - 2026
REFRESH-INTERVAL;VALUE=DURATION:PT1H
X-Robots-Tag:noindex
X-PUBLISHED-TTL:PT1H
BEGIN:VTIMEZONE
TZID:Pacific/Auckland
BEGIN:STANDARD
TZOFFSETFROM:+1300
TZOFFSETTO:+1200
TZNAME:NZST
DTSTART:20260404T140000
END:STANDARD
BEGIN:DAYLIGHT
TZOFFSETFROM:+1200
TZOFFSETTO:+1300
TZNAME:NZDT
DTSTART:20260926T140000
END:DAYLIGHT
BEGIN:STANDARD
TZOFFSETFROM:+1300
TZOFFSETTO:+1200
TZNAME:NZST
DTSTART:20270403T140000
END:STANDARD
BEGIN:DAYLIGHT
TZOFFSETFROM:+1200
TZOFFSETTO:+1300
TZNAME:NZDT
DTSTART:20270925T140000
END:DAYLIGHT
BEGIN:STANDARD
TZOFFSETFROM:+1300
TZOFFSETTO:+1200
TZNAME:NZST
DTSTART:20280401T140000
END:STANDARD
BEGIN:DAYLIGHT
TZOFFSETFROM:+1200
TZOFFSETTO:+1300
TZNAME:NZDT
DTSTART:20280923T140000
END:DAYLIGHT
END:VTIMEZONE
BEGIN:VEVENT
DTSTART;TZID=Pacific/Auckland:20270105T174500
DTEND;TZID=Pacific/Auckland:20270105T184500
DTSTAMP:20260424T023459
CREATED:20260211T051829Z
LAST-MODIFIED:20260211T051829Z
UID:10004679-1799171100-1799174700@www.rakiuracalendar.com
SUMMARY:Yoga Classes
DESCRIPTION:
URL:https://www.rakiuracalendar.com/event/yoga-classes/2027-01-05/
CATEGORIES:Community,Health,Wellbeing
END:VEVENT
BEGIN:VEVENT
DTSTART;TZID=Pacific/Auckland:20270112T174500
DTEND;TZID=Pacific/Auckland:20270112T184500
DTSTAMP:20260424T023459
CREATED:20260211T051829Z
LAST-MODIFIED:20260211T051829Z
UID:10004680-1799775900-1799779500@www.rakiuracalendar.com
SUMMARY:Yoga Classes
DESCRIPTION:
URL:https://www.rakiuracalendar.com/event/yoga-classes/2027-01-12/
CATEGORIES:Community,Health,Wellbeing
END:VEVENT
BEGIN:VEVENT
DTSTART;TZID=Pacific/Auckland:20270119T174500
DTEND;TZID=Pacific/Auckland:20270119T184500
DTSTAMP:20260424T023459
CREATED:20260211T051829Z
LAST-MODIFIED:20260211T051829Z
UID:10004681-1800380700-1800384300@www.rakiuracalendar.com
SUMMARY:Yoga Classes
DESCRIPTION:
URL:https://www.rakiuracalendar.com/event/yoga-classes/2027-01-19/
CATEGORIES:Community,Health,Wellbeing
END:VEVENT
BEGIN:VEVENT
DTSTART;TZID=Pacific/Auckland:20270126T174500
DTEND;TZID=Pacific/Auckland:20270126T184500
DTSTAMP:20260424T023459
CREATED:20260211T051829Z
LAST-MODIFIED:20260211T051829Z
UID:10004682-1800985500-1800989100@www.rakiuracalendar.com
SUMMARY:Yoga Classes
DESCRIPTION:
URL:https://www.rakiuracalendar.com/event/yoga-classes/2027-01-26/
CATEGORIES:Community,Health,Wellbeing
END:VEVENT
BEGIN:VEVENT
DTSTART;TZID=Pacific/Auckland:20270202T174500
DTEND;TZID=Pacific/Auckland:20270202T184500
DTSTAMP:20260424T023459
CREATED:20260211T051829Z
LAST-MODIFIED:20260211T051829Z
UID:10004683-1801590300-1801593900@www.rakiuracalendar.com
SUMMARY:Yoga Classes
DESCRIPTION:
URL:https://www.rakiuracalendar.com/event/yoga-classes/2027-02-02/
CATEGORIES:Community,Health,Wellbeing
END:VEVENT
BEGIN:VEVENT
DTSTART;TZID=Pacific/Auckland:20270209T174500
DTEND;TZID=Pacific/Auckland:20270209T184500
DTSTAMP:20260424T023459
CREATED:20260211T051829Z
LAST-MODIFIED:20260211T051829Z
UID:10004684-1802195100-1802198700@www.rakiuracalendar.com
SUMMARY:Yoga Classes
DESCRIPTION:
URL:https://www.rakiuracalendar.com/event/yoga-classes/2027-02-09/
CATEGORIES:Community,Health,Wellbeing
END:VEVENT
BEGIN:VEVENT
DTSTART;TZID=Pacific/Auckland:20270216T174500
DTEND;TZID=Pacific/Auckland:20270216T184500
DTSTAMP:20260424T023459
CREATED:20260211T051829Z
LAST-MODIFIED:20260211T051829Z
UID:10004685-1802799900-1802803500@www.rakiuracalendar.com
SUMMARY:Yoga Classes
DESCRIPTION:
URL:https://www.rakiuracalendar.com/event/yoga-classes/2027-02-16/
CATEGORIES:Community,Health,Wellbeing
END:VEVENT
BEGIN:VEVENT
DTSTART;TZID=Pacific/Auckland:20270223T174500
DTEND;TZID=Pacific/Auckland:20270223T184500
DTSTAMP:20260424T023459
CREATED:20260211T051829Z
LAST-MODIFIED:20260211T051829Z
UID:10004686-1803404700-1803408300@www.rakiuracalendar.com
SUMMARY:Yoga Classes
DESCRIPTION:
URL:https://www.rakiuracalendar.com/event/yoga-classes/2027-02-23/
CATEGORIES:Community,Health,Wellbeing
END:VEVENT
BEGIN:VEVENT
DTSTART;TZID=Pacific/Auckland:20270302T174500
DTEND;TZID=Pacific/Auckland:20270302T184500
DTSTAMP:20260424T023459
CREATED:20260211T051829Z
LAST-MODIFIED:20260211T051829Z
UID:10004687-1804009500-1804013100@www.rakiuracalendar.com
SUMMARY:Yoga Classes
DESCRIPTION:
URL:https://www.rakiuracalendar.com/event/yoga-classes/2027-03-02/
CATEGORIES:Community,Health,Wellbeing
END:VEVENT
BEGIN:VEVENT
DTSTART;TZID=Pacific/Auckland:20270309T174500
DTEND;TZID=Pacific/Auckland:20270309T184500
DTSTAMP:20260424T023459
CREATED:20260211T051829Z
LAST-MODIFIED:20260211T051829Z
UID:10004688-1804614300-1804617900@www.rakiuracalendar.com
SUMMARY:Yoga Classes
DESCRIPTION:
URL:https://www.rakiuracalendar.com/event/yoga-classes/2027-03-09/
CATEGORIES:Community,Health,Wellbeing
END:VEVENT
BEGIN:VEVENT
DTSTART;TZID=Pacific/Auckland:20270316T174500
DTEND;TZID=Pacific/Auckland:20270316T184500
DTSTAMP:20260424T023459
CREATED:20260211T051829Z
LAST-MODIFIED:20260211T051829Z
UID:10004689-1805219100-1805222700@www.rakiuracalendar.com
SUMMARY:Yoga Classes
DESCRIPTION:
URL:https://www.rakiuracalendar.com/event/yoga-classes/2027-03-16/
CATEGORIES:Community,Health,Wellbeing
END:VEVENT
BEGIN:VEVENT
DTSTART;TZID=Pacific/Auckland:20270323T174500
DTEND;TZID=Pacific/Auckland:20270323T184500
DTSTAMP:20260424T023459
CREATED:20260211T051829Z
LAST-MODIFIED:20260211T051829Z
UID:10004690-1805823900-1805827500@www.rakiuracalendar.com
SUMMARY:Yoga Classes
DESCRIPTION:
URL:https://www.rakiuracalendar.com/event/yoga-classes/2027-03-23/
CATEGORIES:Community,Health,Wellbeing
END:VEVENT
BEGIN:VEVENT
DTSTART;TZID=Pacific/Auckland:20270330T174500
DTEND;TZID=Pacific/Auckland:20270330T184500
DTSTAMP:20260424T023459
CREATED:20260211T051829Z
LAST-MODIFIED:20260211T051829Z
UID:10004691-1806428700-1806432300@www.rakiuracalendar.com
SUMMARY:Yoga Classes
DESCRIPTION:
URL:https://www.rakiuracalendar.com/event/yoga-classes/2027-03-30/
CATEGORIES:Community,Health,Wellbeing
END:VEVENT
END:VCALENDAR