BEGIN:VCALENDAR
VERSION:2.0
PRODID:-//Rakiura Calendar - 2026 - ECPv6.15.20//NONSGML v1.0//EN
CALSCALE:GREGORIAN
METHOD:PUBLISH
X-ORIGINAL-URL:https://www.rakiuracalendar.com
X-WR-CALDESC:Events for Rakiura Calendar - 2026
REFRESH-INTERVAL;VALUE=DURATION:PT1H
X-Robots-Tag:noindex
X-PUBLISHED-TTL:PT1H
BEGIN:VTIMEZONE
TZID:Pacific/Auckland
BEGIN:STANDARD
TZOFFSETFROM:+1300
TZOFFSETTO:+1200
TZNAME:NZST
DTSTART:20220402T140000
END:STANDARD
BEGIN:DAYLIGHT
TZOFFSETFROM:+1200
TZOFFSETTO:+1300
TZNAME:NZDT
DTSTART:20220924T140000
END:DAYLIGHT
BEGIN:STANDARD
TZOFFSETFROM:+1300
TZOFFSETTO:+1200
TZNAME:NZST
DTSTART:20230401T140000
END:STANDARD
BEGIN:DAYLIGHT
TZOFFSETFROM:+1200
TZOFFSETTO:+1300
TZNAME:NZDT
DTSTART:20230923T140000
END:DAYLIGHT
BEGIN:STANDARD
TZOFFSETFROM:+1300
TZOFFSETTO:+1200
TZNAME:NZST
DTSTART:20240406T140000
END:STANDARD
BEGIN:DAYLIGHT
TZOFFSETFROM:+1200
TZOFFSETTO:+1300
TZNAME:NZDT
DTSTART:20240928T140000
END:DAYLIGHT
BEGIN:STANDARD
TZOFFSETFROM:+1300
TZOFFSETTO:+1200
TZNAME:NZST
DTSTART:20250405T140000
END:STANDARD
BEGIN:DAYLIGHT
TZOFFSETFROM:+1200
TZOFFSETTO:+1300
TZNAME:NZDT
DTSTART:20250927T140000
END:DAYLIGHT
END:VTIMEZONE
BEGIN:VEVENT
DTSTART;TZID=Pacific/Auckland:20241012T130000
DTEND;TZID=Pacific/Auckland:20241012T150000
DTSTAMP:20260420T235158
CREATED:20240927T234803Z
LAST-MODIFIED:20241003T234431Z
UID:10001950-1728738000-1728745200@www.rakiuracalendar.com
SUMMARY:Kanikani / Dance choreography workshops
DESCRIPTION:All abilities welcome \n11.20am  – 12pm children $2 \n1.00pm – 3.00pm adults $5
URL:https://www.rakiuracalendar.com/event/kanikani-dance-choreography-workshops/2024-10-12/2/
LOCATION:Pearlers\, 45 Elgin Terrace\, Oban\, Stewart Island\, 9818\, New Zealand
CATEGORIES:Arts,Community,Sport,Wellbeing
ATTACH;FMTTYPE=image/jpeg:https://www.rakiuracalendar.com/wp-content/uploads/2024/09/461404062_523701987090171_3901748912067030624_n.jpg
ORGANIZER;CN="Toi Rakiura":MAILTO:toi.rakiura@gmail.com
END:VEVENT
BEGIN:VEVENT
DTSTART;TZID=Pacific/Auckland:20241012T112000
DTEND;TZID=Pacific/Auckland:20241012T120000
DTSTAMP:20260420T235158
CREATED:20240927T234803Z
LAST-MODIFIED:20241003T234431Z
UID:10001949-1728732000-1728734400@www.rakiuracalendar.com
SUMMARY:Kanikani / Dance choreography workshops
DESCRIPTION:All abilities welcome \n11.20am  – 12pm children $2 \n1.00pm – 3.00pm adults $5
URL:https://www.rakiuracalendar.com/event/kanikani-dance-choreography-workshops/2024-10-12/1/
LOCATION:Pearlers\, 45 Elgin Terrace\, Oban\, Stewart Island\, 9818\, New Zealand
CATEGORIES:Arts,Community,Sport,Wellbeing
ATTACH;FMTTYPE=image/jpeg:https://www.rakiuracalendar.com/wp-content/uploads/2024/09/461404062_523701987090171_3901748912067030624_n.jpg
ORGANIZER;CN="Toi Rakiura":MAILTO:toi.rakiura@gmail.com
END:VEVENT
BEGIN:VEVENT
DTSTART;TZID=Pacific/Auckland:20240414T100000
DTEND;TZID=Pacific/Auckland:20240414T170000
DTSTAMP:20260420T235158
CREATED:20240321T054055Z
LAST-MODIFIED:20240321T054055Z
UID:10001449-1713088800-1713114000@www.rakiuracalendar.com
SUMMARY:Community Sailing Day Fundraiser
DESCRIPTION:Save the date! 14th April 2024 we are having a fun day – raising funds for safety equipment and encourage any volunteers from the community to join our group.\n\nArt exhibition is open to anyone\, works don’t need to be for sale\, please drop them off at the library.
URL:https://www.rakiuracalendar.com/event/community-sailing-day-fundraiser/
LOCATION:Pearlers\, 45 Elgin Terrace\, Oban\, Stewart Island\, 9818\, New Zealand
CATEGORIES:Arts,Crafting,Kids / children,Sport
ATTACH;FMTTYPE=image/png:https://www.rakiuracalendar.com/wp-content/uploads/2024/03/sailing.png
END:VEVENT
BEGIN:VEVENT
DTSTART;TZID=Pacific/Auckland:20230819T100000
DTEND;TZID=Pacific/Auckland:20230819T120000
DTSTAMP:20260420T235158
CREATED:20230813T110413Z
LAST-MODIFIED:20230813T110413Z
UID:10000995-1692439200-1692446400@www.rakiuracalendar.com
SUMMARY:Conservation week – Trap Building Workshop
DESCRIPTION:Trap building workshop with SIRCET & Predator Free Rakiura. Help us build some new wooden trap boxes for rat control in our community.
URL:https://www.rakiuracalendar.com/event/conservation-week-trap-building-workshop/
LOCATION:Pearlers\, 45 Elgin Terrace\, Oban\, Stewart Island\, 9818\, New Zealand
ATTACH;FMTTYPE=image/jpeg:https://www.rakiuracalendar.com/wp-content/uploads/2023/08/5-3.jpg
ORGANIZER;CN="SIRCET":MAILTO:community@sircet.org.nz
END:VEVENT
END:VCALENDAR